BEGIN:VCALENDAR
VERSION:2.0
PRODID:-//SIVA - ECPv5.16.3.1//NONSGML v1.0//EN
CALSCALE:GREGORIAN
METHOD:PUBLISH
X-WR-CALNAME:SIVA
X-ORIGINAL-URL:https://siva.gov.co
X-WR-CALDESC:Eventos para SIVA
REFRESH-INTERVAL;VALUE=DURATION:PT1H
X-Robots-Tag:noindex
X-PUBLISHED-TTL:PT1H
BEGIN:VTIMEZONE
TZID:America/Bogota
BEGIN:STANDARD
TZOFFSETFROM:-0500
TZOFFSETTO:-0500
TZNAME:-05
DTSTART:20240101T000000
END:STANDARD
END:VTIMEZONE
BEGIN:VEVENT
DTSTART;VALUE=DATE:20240430
DTEND;VALUE=DATE:20240501
DTSTAMP:20260425T164517
CREATED:20240708T174250Z
LAST-MODIFIED:20240708T174250Z
UID:13455-1714435200-1714521599@siva.gov.co
SUMMARY:Día del Niño
DESCRIPTION:
URL:https://siva.gov.co/evento/dia-del-nino/
LOCATION:Valledupar
ORGANIZER;CN="SIVA":MAILTO:ventanillaunica@siva.gov.co
END:VEVENT
BEGIN:VEVENT
DTSTART;VALUE=DATE:20240430
DTEND;VALUE=DATE:20240501
DTSTAMP:20260425T164517
CREATED:20240708T174314Z
LAST-MODIFIED:20240708T174314Z
UID:13457-1714435200-1714521599@siva.gov.co
SUMMARY:Estrategia de Socialización del área de operaciones. Puntos de Interés paraderos de la gobernación del Cesar
DESCRIPTION:
URL:https://siva.gov.co/evento/estrategia-de-socializacion-del-area-de-operaciones-puntos-de-interes-paraderos-de-la-gobernacion-del-cesar/
LOCATION:Valledupar
ORGANIZER;CN="SIVA":MAILTO:ventanillaunica@siva.gov.co
END:VEVENT
END:VCALENDAR