BEGIN:VCALENDAR
VERSION:2.0
PRODID:-//SIVA - ECPv5.16.3.1//NONSGML v1.0//EN
CALSCALE:GREGORIAN
METHOD:PUBLISH
X-ORIGINAL-URL:https://siva.gov.co
X-WR-CALDESC:Eventos para SIVA
REFRESH-INTERVAL;VALUE=DURATION:PT1H
X-Robots-Tag:noindex
X-PUBLISHED-TTL:PT1H
BEGIN:VTIMEZONE
TZID:America/Bogota
BEGIN:STANDARD
TZOFFSETFROM:-0500
TZOFFSETTO:-0500
TZNAME:-05
DTSTART:20240101T000000
END:STANDARD
END:VTIMEZONE
BEGIN:VEVENT
DTSTART;VALUE=DATE:20240516
DTEND;VALUE=DATE:20240517
DTSTAMP:20260425T165222
CREATED:20240708T174637Z
LAST-MODIFIED:20240708T174637Z
UID:13467-1715817600-1715903999@siva.gov.co
SUMMARY:Socialización de paraderos del SETPC en zona nevada
DESCRIPTION:
URL:https://siva.gov.co/evento/socializacion-de-paraderos-del-setpc-en-zona-nevada/
LOCATION:Valledupar
ORGANIZER;CN="SIVA":MAILTO:ventanillaunica@siva.gov.co
END:VEVENT
END:VCALENDAR