BEGIN:VCALENDAR
VERSION:2.0
PRODID:-//SIVA - ECPv5.16.3.1//NONSGML v1.0//EN
CALSCALE:GREGORIAN
METHOD:PUBLISH
X-WR-CALNAME:SIVA
X-ORIGINAL-URL:https://siva.gov.co
X-WR-CALDESC:Eventos para SIVA
REFRESH-INTERVAL;VALUE=DURATION:PT1H
X-Robots-Tag:noindex
X-PUBLISHED-TTL:PT1H
BEGIN:VTIMEZONE
TZID:America/Bogota
BEGIN:STANDARD
TZOFFSETFROM:-0500
TZOFFSETTO:-0500
TZNAME:-05
DTSTART:20240101T000000
END:STANDARD
END:VTIMEZONE
BEGIN:VEVENT
DTSTART;VALUE=DATE:20240520
DTEND;VALUE=DATE:20240521
DTSTAMP:20260425T180410
CREATED:20240708T174733Z
LAST-MODIFIED:20240708T174733Z
UID:13471-1716163200-1716249599@siva.gov.co
SUMMARY:Jornada de socialización de los paraderos y las rutas en hurtado
DESCRIPTION:
URL:https://siva.gov.co/evento/jornada-de-socializacion-de-los-paraderos-y-las-rutas-en-hurtado/
LOCATION:Valledupar
ORGANIZER;CN="SIVA":MAILTO:ventanillaunica@siva.gov.co
END:VEVENT
END:VCALENDAR