BEGIN:VCALENDAR
VERSION:2.0
PRODID:-//SIVA - ECPv5.16.3.1//NONSGML v1.0//EN
CALSCALE:GREGORIAN
METHOD:PUBLISH
X-WR-CALNAME:SIVA
X-ORIGINAL-URL:https://siva.gov.co
X-WR-CALDESC:Eventos para SIVA
REFRESH-INTERVAL;VALUE=DURATION:PT1H
X-Robots-Tag:noindex
X-PUBLISHED-TTL:PT1H
BEGIN:VTIMEZONE
TZID:America/Bogota
BEGIN:STANDARD
TZOFFSETFROM:-0500
TZOFFSETTO:-0500
TZNAME:-05
DTSTART:20240101T000000
END:STANDARD
END:VTIMEZONE
BEGIN:VEVENT
DTSTART;VALUE=DATE:20240508
DTEND;VALUE=DATE:20240509
DTSTAMP:20260425T203618
CREATED:20240708T174342Z
LAST-MODIFIED:20240708T174342Z
UID:13459-1715126400-1715212799@siva.gov.co
SUMMARY:Día de la Madre
DESCRIPTION:
URL:https://siva.gov.co/evento/dia-de-la-madre/
LOCATION:Valledupar
ORGANIZER;CN="SIVA":MAILTO:ventanillaunica@siva.gov.co
END:VEVENT
BEGIN:VEVENT
DTSTART;VALUE=DATE:20240508
DTEND;VALUE=DATE:20240509
DTSTAMP:20260425T203618
CREATED:20240708T174404Z
LAST-MODIFIED:20240708T174404Z
UID:13461-1715126400-1715212799@siva.gov.co
SUMMARY:Socialización de paradero y de rutas del SETPC en zona universidad popular del cesar Sede sabana
DESCRIPTION:
URL:https://siva.gov.co/evento/socializacion-de-paradero-y-de-rutas-del-setpc-en-zona-universidad-popular-del-cesar-sede-sabana/
LOCATION:Valledupar
ORGANIZER;CN="SIVA":MAILTO:ventanillaunica@siva.gov.co
END:VEVENT
BEGIN:VEVENT
DTSTART;VALUE=DATE:20240509
DTEND;VALUE=DATE:20240510
DTSTAMP:20260425T203618
CREATED:20240708T174436Z
LAST-MODIFIED:20240708T174436Z
UID:13463-1715212800-1715299199@siva.gov.co
SUMMARY:Jornada de socialización de rutas y paraderos en la universidad popular del cesar sede sabana
DESCRIPTION:
URL:https://siva.gov.co/evento/jornada-de-socializacion-de-rutas-y-paraderos-en-la-universidad-popular-del-cesar-sede-sabana/
LOCATION:Valledupar
ORGANIZER;CN="SIVA":MAILTO:ventanillaunica@siva.gov.co
END:VEVENT
BEGIN:VEVENT
DTSTART;VALUE=DATE:20240515
DTEND;VALUE=DATE:20240516
DTSTAMP:20260425T203618
CREATED:20240708T174504Z
LAST-MODIFIED:20240708T174504Z
UID:13465-1715731200-1715817599@siva.gov.co
SUMMARY:Socialización de paraderos y de rutas del SETPC en zona la nevada (FERRETERIA LA ROCA)
DESCRIPTION:
URL:https://siva.gov.co/evento/socializacion-de-paraderos-y-de-rutas-del-setpc-en-zona-la-nevada-ferreteria-la-roca/
LOCATION:Valledupar
ORGANIZER;CN="SIVA":MAILTO:ventanillaunica@siva.gov.co
END:VEVENT
BEGIN:VEVENT
DTSTART;VALUE=DATE:20240516
DTEND;VALUE=DATE:20240517
DTSTAMP:20260425T203618
CREATED:20240708T174637Z
LAST-MODIFIED:20240708T174637Z
UID:13467-1715817600-1715903999@siva.gov.co
SUMMARY:Socialización de paraderos del SETPC en zona nevada
DESCRIPTION:
URL:https://siva.gov.co/evento/socializacion-de-paraderos-del-setpc-en-zona-nevada/
LOCATION:Valledupar
ORGANIZER;CN="SIVA":MAILTO:ventanillaunica@siva.gov.co
END:VEVENT
BEGIN:VEVENT
DTSTART;VALUE=DATE:20240517
DTEND;VALUE=DATE:20240518
DTSTAMP:20260425T203618
CREATED:20240708T174707Z
LAST-MODIFIED:20240708T174707Z
UID:13469-1715904000-1715990399@siva.gov.co
SUMMARY:Jornada de socialización de paraderos y rutas en la zona comercial de olímpica sierra nevada
DESCRIPTION:
URL:https://siva.gov.co/evento/jornada-de-socializacion-de-paraderos-y-rutas-en-la-zona-comercial-de-olimpica-sierra-nevada/
LOCATION:Valledupar
ORGANIZER;CN="SIVA":MAILTO:ventanillaunica@siva.gov.co
END:VEVENT
BEGIN:VEVENT
DTSTART;VALUE=DATE:20240520
DTEND;VALUE=DATE:20240521
DTSTAMP:20260425T203618
CREATED:20240708T174733Z
LAST-MODIFIED:20240708T174733Z
UID:13471-1716163200-1716249599@siva.gov.co
SUMMARY:Jornada de socialización de los paraderos y las rutas en hurtado
DESCRIPTION:
URL:https://siva.gov.co/evento/jornada-de-socializacion-de-los-paraderos-y-las-rutas-en-hurtado/
LOCATION:Valledupar
ORGANIZER;CN="SIVA":MAILTO:ventanillaunica@siva.gov.co
END:VEVENT
BEGIN:VEVENT
DTSTART;VALUE=DATE:20240521
DTEND;VALUE=DATE:20240522
DTSTAMP:20260425T203618
CREATED:20240708T174756Z
LAST-MODIFIED:20240708T174756Z
UID:13473-1716249600-1716335999@siva.gov.co
SUMMARY:Socialización de paraderos y de rutas del SETPC en zona de la nevada
DESCRIPTION:
URL:https://siva.gov.co/evento/socializacion-de-paraderos-y-de-rutas-del-setpc-en-zona-de-la-nevada/
LOCATION:Valledupar
ORGANIZER;CN="SIVA":MAILTO:ventanillaunica@siva.gov.co
END:VEVENT
BEGIN:VEVENT
DTSTART;VALUE=DATE:20240523
DTEND;VALUE=DATE:20240524
DTSTAMP:20260425T203618
CREATED:20240708T174830Z
LAST-MODIFIED:20240708T174830Z
UID:13475-1716422400-1716508799@siva.gov.co
SUMMARY:Jornada de socialización de paraderos a la población estudiantil de la institución educativa Rafael Núñez
DESCRIPTION:
URL:https://siva.gov.co/evento/jornada-de-socializacion-de-paraderos-a-la-poblacion-estudiantil-de-la-institucion-educativa-rafael-nunez/
LOCATION:Valledupar
ORGANIZER;CN="SIVA":MAILTO:ventanillaunica@siva.gov.co
END:VEVENT
BEGIN:VEVENT
DTSTART;VALUE=DATE:20240524
DTEND;VALUE=DATE:20240525
DTSTAMP:20260425T203618
CREATED:20240708T174858Z
LAST-MODIFIED:20240708T174858Z
UID:13477-1716508800-1716595199@siva.gov.co
SUMMARY:Jornada de socialización de paradero y rutas en Homecenter
DESCRIPTION:
URL:https://siva.gov.co/evento/jornada-de-socializacion-de-paradero-y-rutas-en-homecenter/
LOCATION:Valledupar
ORGANIZER;CN="SIVA":MAILTO:ventanillaunica@siva.gov.co
END:VEVENT
BEGIN:VEVENT
DTSTART;VALUE=DATE:20240527
DTEND;VALUE=DATE:20240528
DTSTAMP:20260425T203618
CREATED:20240708T174954Z
LAST-MODIFIED:20240708T174954Z
UID:13479-1716768000-1716854399@siva.gov.co
SUMMARY:Articulación con el Sena para el curso de servicio al cliente para el talento humano
DESCRIPTION:
URL:https://siva.gov.co/evento/articulacion-con-el-sena-para-el-curso-de-servicio-al-cliente-para-el-talento-humano/
LOCATION:Valledupar
ORGANIZER;CN="SIVA":MAILTO:ventanillaunica@siva.gov.co
END:VEVENT
BEGIN:VEVENT
DTSTART;VALUE=DATE:20240529
DTEND;VALUE=DATE:20240530
DTSTAMP:20260425T203618
CREATED:20240708T175015Z
LAST-MODIFIED:20240708T175015Z
UID:13481-1716940800-1717027199@siva.gov.co
SUMMARY:Jornada de socialización de paraderos a la población estudiantil de la corporación uparsistem
DESCRIPTION:
URL:https://siva.gov.co/evento/jornada-de-socializacion-de-paraderos-a-la-poblacion-estudiantil-de-la-corporacion-uparsistem/
LOCATION:Valledupar
ORGANIZER;CN="SIVA":MAILTO:ventanillaunica@siva.gov.co
END:VEVENT
BEGIN:VEVENT
DTSTART;VALUE=DATE:20240604
DTEND;VALUE=DATE:20240605
DTSTAMP:20260425T203618
CREATED:20240708T175046Z
LAST-MODIFIED:20240708T175046Z
UID:13483-1717459200-1717545599@siva.gov.co
SUMMARY:Socialización de los paraderos y rutas del SETPC en la galería popular
DESCRIPTION:
URL:https://siva.gov.co/evento/socializacion-de-los-paraderos-y-rutas-del-setpc-en-la-galeria-popular/
LOCATION:Valledupar
ORGANIZER;CN="SIVA":MAILTO:ventanillaunica@siva.gov.co
END:VEVENT
BEGIN:VEVENT
DTSTART;VALUE=DATE:20240605
DTEND;VALUE=DATE:20240606
DTSTAMP:20260425T203618
CREATED:20240708T175113Z
LAST-MODIFIED:20240708T175113Z
UID:13485-1717545600-1717631999@siva.gov.co
SUMMARY:Toma de testimonio con el equipo de comunicaciones por varias zonas de Valledupar
DESCRIPTION:
URL:https://siva.gov.co/evento/toma-de-testimonio-con-el-equipo-de-comunicaciones-por-varias-zonas-de-valledupar/
LOCATION:Valledupar
ORGANIZER;CN="SIVA":MAILTO:ventanillaunica@siva.gov.co
END:VEVENT
BEGIN:VEVENT
DTSTART;VALUE=DATE:20240605
DTEND;VALUE=DATE:20240606
DTSTAMP:20260425T203618
CREATED:20240708T175136Z
LAST-MODIFIED:20240708T175136Z
UID:13487-1717545600-1717631999@siva.gov.co
SUMMARY:Día del medio ambiente
DESCRIPTION:
URL:https://siva.gov.co/evento/dia-del-medio-ambiente/
LOCATION:Valledupar
ORGANIZER;CN="SIVA":MAILTO:ventanillaunica@siva.gov.co
END:VEVENT
BEGIN:VEVENT
DTSTART;VALUE=DATE:20240606
DTEND;VALUE=DATE:20240607
DTSTAMP:20260425T203618
CREATED:20240708T175200Z
LAST-MODIFIED:20240708T175200Z
UID:13489-1717632000-1717718399@siva.gov.co
SUMMARY:Socialización de los diferentes paraderos y de las rutas del SETPC en universidad popular sede sabana
DESCRIPTION:
URL:https://siva.gov.co/evento/socializacion-de-los-diferentes-paraderos-y-de-las-rutas-del-setpc-en-universidad-popular-sede-sabana/
LOCATION:Valledupar
ORGANIZER;CN="SIVA":MAILTO:ventanillaunica@siva.gov.co
END:VEVENT
BEGIN:VEVENT
DTSTART;VALUE=DATE:20240617
DTEND;VALUE=DATE:20240618
DTSTAMP:20260425T203618
CREATED:20240708T175224Z
LAST-MODIFIED:20240708T175224Z
UID:13491-1718582400-1718668799@siva.gov.co
SUMMARY:Socialización de los diferentes paraderos y de las rutas del SETPC en Eps quimosalud\, estudiantes del Sena\, casa éxito las flores
DESCRIPTION:
URL:https://siva.gov.co/evento/socializacion-de-los-diferentes-paraderos-y-de-las-rutas-del-setpc-en-eps-quimosalud-estudiantes-del-sena-casa-exito-las-flores/
LOCATION:Valledupar
ORGANIZER;CN="SIVA":MAILTO:ventanillaunica@siva.gov.co
END:VEVENT
BEGIN:VEVENT
DTSTART;VALUE=DATE:20240619
DTEND;VALUE=DATE:20240620
DTSTAMP:20260425T203618
CREATED:20240708T175246Z
LAST-MODIFIED:20240708T175546Z
UID:13493-1718755200-1718841599@siva.gov.co
SUMMARY:Socialización de los diferentes paraderos y de las rutas del SETPC en Agencia publicade empleo Sena
DESCRIPTION:
URL:https://siva.gov.co/evento/socializacion-de-los-diferentes-paraderos-y-de-las-rutas-del-setpc-en-agencia-publicade-empleo-sena/
LOCATION:Valledupar
ORGANIZER;CN="SIVA":MAILTO:ventanillaunica@siva.gov.co
END:VEVENT
BEGIN:VEVENT
DTSTART;VALUE=DATE:20240619
DTEND;VALUE=DATE:20240620
DTSTAMP:20260425T203618
CREATED:20240708T175313Z
LAST-MODIFIED:20240708T175331Z
UID:13495-1718755200-1718841599@siva.gov.co
SUMMARY:Día del Padre
DESCRIPTION:
URL:https://siva.gov.co/evento/dia-del-padre/
LOCATION:Valledupar
ORGANIZER;CN="SIVA":MAILTO:ventanillaunica@siva.gov.co
END:VEVENT
BEGIN:VEVENT
DTSTART;VALUE=DATE:20240621
DTEND;VALUE=DATE:20240622
DTSTAMP:20260425T203618
CREATED:20240708T175443Z
LAST-MODIFIED:20240708T175443Z
UID:13500-1718928000-1719014399@siva.gov.co
SUMMARY:Socialización de los diferentes paraderos y de las rutas del SETPC en Agencia publicade empleo Sena y Makro
DESCRIPTION:
URL:https://siva.gov.co/evento/socializacion-de-los-diferentes-paraderos-y-de-las-rutas-del-setpc-en-agencia-publicade-empleo-sena-y-makro/
LOCATION:Valledupar
ORGANIZER;CN="SIVA":MAILTO:ventanillaunica@siva.gov.co
END:VEVENT
BEGIN:VEVENT
DTSTART;VALUE=DATE:20240622
DTEND;VALUE=DATE:20240623
DTSTAMP:20260425T203618
CREATED:20240709T124106Z
LAST-MODIFIED:20240709T124106Z
UID:13502-1719014400-1719100799@siva.gov.co
SUMMARY:Día del Abogado
DESCRIPTION:
URL:https://siva.gov.co/evento/dia-del-abogado/
LOCATION:Valledupar
ORGANIZER;CN="SIVA":MAILTO:ventanillaunica@siva.gov.co
END:VEVENT
BEGIN:VEVENT
DTSTART;VALUE=DATE:20240624
DTEND;VALUE=DATE:20240625
DTSTAMP:20260425T203618
CREATED:20240709T153040Z
LAST-MODIFIED:20240709T153049Z
UID:13504-1719187200-1719273599@siva.gov.co
SUMMARY:Socialización de los diferentes paraderos y de las rutas del SETPC en el sena con los estudiantes. Casa a casa por la zona del éxito la flores
DESCRIPTION:
URL:https://siva.gov.co/evento/socializacion-de-los-diferentes-paraderos-y-de-las-rutas-del-setpc-en-el-sena-con-los-estudiantes-casa-a-casa-por-la-zona-del-exito-la-flores/
LOCATION:Valledupar
ORGANIZER;CN="SIVA":MAILTO:ventanillaunica@siva.gov.co
END:VEVENT
BEGIN:VEVENT
DTSTART;VALUE=DATE:20240625
DTEND;VALUE=DATE:20240626
DTSTAMP:20260425T203618
CREATED:20240709T153510Z
LAST-MODIFIED:20240709T153510Z
UID:13506-1719273600-1719359999@siva.gov.co
SUMMARY:Socialización de los diferentes paraderos y de las rutas del SETPC en almacenes éxito sede la flores
DESCRIPTION:
URL:https://siva.gov.co/evento/socializacion-de-los-diferentes-paraderos-y-de-las-rutas-del-setpc-en-almacenes-exito-sede-la-flores/
LOCATION:Valledupar
ORGANIZER;CN="SIVA":MAILTO:ventanillaunica@siva.gov.co
END:VEVENT
BEGIN:VEVENT
DTSTART;VALUE=DATE:20240628
DTEND;VALUE=DATE:20240629
DTSTAMP:20260425T203618
CREATED:20240709T153540Z
LAST-MODIFIED:20240709T153540Z
UID:13508-1719532800-1719619199@siva.gov.co
SUMMARY:Socialización de rutas del SETPC en EASY
DESCRIPTION:
URL:https://siva.gov.co/evento/socializacion-de-rutas-del-setpc-en-easy/
LOCATION:Valledupar
ORGANIZER;CN="SIVA":MAILTO:ventanillaunica@siva.gov.co
END:VEVENT
BEGIN:VEVENT
DTSTART;VALUE=DATE:20240702
DTEND;VALUE=DATE:20240703
DTSTAMP:20260425T203618
CREATED:20240709T153654Z
LAST-MODIFIED:20240709T153654Z
UID:13510-1719878400-1719964799@siva.gov.co
SUMMARY:Socialización de los paraderos y rutas del SETPC en los locales del centro comercial
DESCRIPTION:
URL:https://siva.gov.co/evento/socializacion-de-los-paraderos-y-rutas-del-setpc-en-los-locales-del-centro-comercial/
LOCATION:Valledupar
ORGANIZER;CN="SIVA":MAILTO:ventanillaunica@siva.gov.co
END:VEVENT
BEGIN:VEVENT
DTSTART;VALUE=DATE:20240703
DTEND;VALUE=DATE:20240704
DTSTAMP:20260425T203618
CREATED:20240709T153933Z
LAST-MODIFIED:20240709T153933Z
UID:13512-1719964800-1720051199@siva.gov.co
SUMMARY:Socialización de paraderos y de rutas del SETPC con todo el área comercial del sector del boliche
DESCRIPTION:
URL:https://siva.gov.co/evento/socializacion-de-paraderos-y-de-rutas-del-setpc-con-todo-el-area-comercial-del-sector-del-boliche/
LOCATION:Valledupar
ORGANIZER;CN="SIVA":MAILTO:ventanillaunica@siva.gov.co
END:VEVENT
BEGIN:VEVENT
DTSTART;VALUE=DATE:20240704
DTEND;VALUE=DATE:20240705
DTSTAMP:20260425T203618
CREATED:20240709T154318Z
LAST-MODIFIED:20240709T154318Z
UID:13514-1720051200-1720137599@siva.gov.co
SUMMARY:Socialización de paradero y de rutas del SETPC a empleados del Éxito las flores
DESCRIPTION:
URL:https://siva.gov.co/evento/socializacion-de-paradero-y-de-rutas-del-setpc-a-empleados-del-exito-las-flores/
LOCATION:Valledupar
ORGANIZER;CN="SIVA":MAILTO:ventanillaunica@siva.gov.co
END:VEVENT
BEGIN:VEVENT
DTSTART;VALUE=DATE:20240708
DTEND;VALUE=DATE:20240709
DTSTAMP:20260425T203618
CREATED:20240709T154518Z
LAST-MODIFIED:20240709T154518Z
UID:13516-1720396800-1720483199@siva.gov.co
SUMMARY:Socialización de rutas del SETPC en zona de mayales
DESCRIPTION:
URL:https://siva.gov.co/evento/socializacion-de-rutas-del-setpc-en-zona-de-mayales/
LOCATION:Valledupar
ORGANIZER;CN="SIVA":MAILTO:ventanillaunica@siva.gov.co
END:VEVENT
BEGIN:VEVENT
DTSTART;VALUE=DATE:20240709
DTEND;VALUE=DATE:20240710
DTSTAMP:20260425T203618
CREATED:20240709T154547Z
LAST-MODIFIED:20240709T154547Z
UID:13518-1720483200-1720569599@siva.gov.co
SUMMARY:Socialización de paradero y de rutas del SETPC en el mercado
DESCRIPTION:
URL:https://siva.gov.co/evento/socializacion-de-paradero-y-de-rutas-del-setpc-en-el-mercado/
LOCATION:Valledupar
ORGANIZER;CN="SIVA":MAILTO:ventanillaunica@siva.gov.co
END:VEVENT
BEGIN:VEVENT
DTSTART;VALUE=DATE:20240712
DTEND;VALUE=DATE:20240713
DTSTAMP:20260425T203618
CREATED:20240709T154616Z
LAST-MODIFIED:20240709T154616Z
UID:13520-1720742400-1720828799@siva.gov.co
SUMMARY:Apoyo a la supervisión de la socialización con la comunidad del AI del proyecto Terminal norte
DESCRIPTION:
URL:https://siva.gov.co/evento/apoyo-a-la-supervision-de-la-socializacion-con-la-comunidad-del-ai-del-proyecto-terminal-norte/
LOCATION:Valledupar
ORGANIZER;CN="SIVA":MAILTO:ventanillaunica@siva.gov.co
END:VEVENT
END:VCALENDAR