BEGIN:VCALENDAR
VERSION:2.0
PRODID:-//SIVA - ECPv5.16.3.1//NONSGML v1.0//EN
CALSCALE:GREGORIAN
METHOD:PUBLISH
X-WR-CALNAME:SIVA
X-ORIGINAL-URL:https://siva.gov.co
X-WR-CALDESC:Eventos para SIVA
REFRESH-INTERVAL;VALUE=DURATION:PT1H
X-Robots-Tag:noindex
X-PUBLISHED-TTL:PT1H
BEGIN:VTIMEZONE
TZID:America/Bogota
BEGIN:STANDARD
TZOFFSETFROM:-0500
TZOFFSETTO:-0500
TZNAME:-05
DTSTART:20240101T000000
END:STANDARD
END:VTIMEZONE
BEGIN:VEVENT
DTSTART;VALUE=DATE:20240422
DTEND;VALUE=DATE:20240423
DTSTAMP:20260425T165138
CREATED:20240708T174024Z
LAST-MODIFIED:20240708T174024Z
UID:13445-1713744000-1713830399@siva.gov.co
SUMMARY:Día de la Tierra
DESCRIPTION:
URL:https://siva.gov.co/evento/dia-de-la-tierra/
LOCATION:Valledupar
ORGANIZER;CN="SIVA":MAILTO:ventanillaunica@siva.gov.co
END:VEVENT
BEGIN:VEVENT
DTSTART;VALUE=DATE:20240423
DTEND;VALUE=DATE:20240424
DTSTAMP:20260425T165138
CREATED:20240708T174056Z
LAST-MODIFIED:20240708T174056Z
UID:13447-1713830400-1713916799@siva.gov.co
SUMMARY:Socialización de rutas del SETPC en zona céntrica 5 esquina
DESCRIPTION:
URL:https://siva.gov.co/evento/socializacion-de-rutas-del-setpc-en-zona-centrica-5-esquina/
LOCATION:Valledupar
ORGANIZER;CN="SIVA":MAILTO:ventanillaunica@siva.gov.co
END:VEVENT
BEGIN:VEVENT
DTSTART;VALUE=DATE:20240424
DTEND;VALUE=DATE:20240425
DTSTAMP:20260425T165138
CREATED:20240708T174132Z
LAST-MODIFIED:20240708T174132Z
UID:13449-1713916800-1714003199@siva.gov.co
SUMMARY:Jornada de socialización de rutas institución educativa san Joaquín a la población estudiantil
DESCRIPTION:
URL:https://siva.gov.co/evento/jornada-de-socializacion-de-rutas-institucion-educativa-san-joaquin-a-la-poblacion-estudiantil/
LOCATION:Valledupar
ORGANIZER;CN="SIVA":MAILTO:ventanillaunica@siva.gov.co
END:VEVENT
BEGIN:VEVENT
DTSTART;VALUE=DATE:20240425
DTEND;VALUE=DATE:20240426
DTSTAMP:20260425T165138
CREATED:20240708T174201Z
LAST-MODIFIED:20240708T174201Z
UID:13451-1714003200-1714089599@siva.gov.co
SUMMARY:Socialización de la operación y paraderos del SETPC con estudiantes de la institución Hernando Molina
DESCRIPTION:
URL:https://siva.gov.co/evento/socializacion-de-la-operacion-y-paraderos-del-setpc-con-estudiantes-de-la-institucion-hernando-molina/
LOCATION:Valledupar
ORGANIZER;CN="SIVA":MAILTO:ventanillaunica@siva.gov.co
END:VEVENT
BEGIN:VEVENT
DTSTART;VALUE=DATE:20240426
DTEND;VALUE=DATE:20240427
DTSTAMP:20260425T165138
CREATED:20240708T174225Z
LAST-MODIFIED:20240708T174225Z
UID:13453-1714089600-1714175999@siva.gov.co
SUMMARY:Jornada de socialización de rutas colegio francisco molina a la población estudiantil
DESCRIPTION:
URL:https://siva.gov.co/evento/jornada-de-socializacion-de-rutas-colegio-francisco-molina-a-la-poblacion-estudiantil/
LOCATION:Valledupar
ORGANIZER;CN="SIVA":MAILTO:ventanillaunica@siva.gov.co
END:VEVENT
BEGIN:VEVENT
DTSTART;VALUE=DATE:20240430
DTEND;VALUE=DATE:20240501
DTSTAMP:20260425T165138
CREATED:20240708T174250Z
LAST-MODIFIED:20240708T174250Z
UID:13455-1714435200-1714521599@siva.gov.co
SUMMARY:Día del Niño
DESCRIPTION:
URL:https://siva.gov.co/evento/dia-del-nino/
LOCATION:Valledupar
ORGANIZER;CN="SIVA":MAILTO:ventanillaunica@siva.gov.co
END:VEVENT
BEGIN:VEVENT
DTSTART;VALUE=DATE:20240430
DTEND;VALUE=DATE:20240501
DTSTAMP:20260425T165138
CREATED:20240708T174314Z
LAST-MODIFIED:20240708T174314Z
UID:13457-1714435200-1714521599@siva.gov.co
SUMMARY:Estrategia de Socialización del área de operaciones. Puntos de Interés paraderos de la gobernación del Cesar
DESCRIPTION:
URL:https://siva.gov.co/evento/estrategia-de-socializacion-del-area-de-operaciones-puntos-de-interes-paraderos-de-la-gobernacion-del-cesar/
LOCATION:Valledupar
ORGANIZER;CN="SIVA":MAILTO:ventanillaunica@siva.gov.co
END:VEVENT
END:VCALENDAR