Workbook

Sheet Instructivo
B2: Matriz Mapa de Riesgos
B4: Una matriz de riesgos, es una herramienta, útil, que permite identificar los riesgos a los que se está expuesto. De esta manera, se pueden determinar los niveles aceptables de exposición a aquellos, así como establecer el control apropiado frente a los mismos y monitorear la efectividad del método de control elegido. Físicamente, es una guía visual que permite, mediante su diseño, una rápida identificación de las prioridades que deben ser atendidas para así acelerar la toma de decisiones. Teniendo en cuenta lo anterior y dada la necesidad de las entidades frente a la estructuración de los mapas de riesgos, como herramienta fundamental frente a la gestión del riesgo, el presente formato desarrolla un esquema completo acorde con los contenidos metodológicos de la Guía para la Administración del Riesgo y el diseño de controles. El formato cuenta con celdas parametrizadas y permite contar con los respectivos mapas de calor para riesgo inherente y riesgo residual.
B6: Orientaciones Generales
B7: Antes de iniciar con el diligenciamiento de la información en la matriz, se requiere haber avanzado en el análisis del proceso, su objetivo, alcance, actividades clave, considere los lineamientos establecidos en el Paso 2: identificación del riesgo, donde se explica ampliamente las bases para adelanter este análisis. Así mismo, considere en el Paso 3: valoración del riesgo los lineamientos para definir el No. de veces que se hace la actividad con la cual se relaciona el riesgo y su impacto en términos económicos o reputacionales. En este mismo paso se analizan los controles que deben responder a los atributos de eficiencia e informativos. NOTA: Si lo considera pertinente, es posible agregar hojas de trabajo adicionales al presente formato que permitan incluir la traza de estos análisis.
B9: El archivo contiene las siguientes hojas: - Hoja 1 Instructivo - Hoja 2 Mapa Final: Encontrará la totalidad de la estructura para la identificación y valoración de los riesgos por proceso, programa o proyecto, acorde con el nivel de desagregación que la entidad considere necesaria.
C12: Columna | E12: Descripción - Lineamientos para el diligenciamiento
C13: Referencia | E13: Permite definir unl consecutivo de riesgos. Una entidad puede ir en el riesgo 150, pero tener 70 riesgos, lo que permite llevar una traza de los riesgos. Esta información la debe administrar la oficina Subdireción de planeación o calidad . Cuando un riesgo salga del mapa no existirá otro riesgo con el mismo número.
C14: Objetivo Estratégico | E14: Identificar los Objetivo estrategico a cual afecta directamente el Riesgo
C15: Contexto Estrategico Interno - Enterno - Proceso | E15: Identificar el contexto estrategico con el cual se relaciona directamente el riesgo. Interno; Externo; Proceso
C16: Causa | E16: Corresponde a las razones por la cuales se puede presentar el riesgo, redacte de la forma más concreta posible.
C17: Riesgo | E17: Describir la amenaza que pueda materializarce y afectar de manera Negativa o Positivamente su proceso
C18: Descripción del Riesgo | E18: Consolida o resume los análisis sobre impacto + causa inmediata + causa raíz, permitiendo contar con una redacción clara y concreta del riesgo indentificado. Tenga en cuenta la estructura de alto nivel establecida en al guía, inicia con POSIBILIDAD DE + Impacto para la entidad (Qué) + Causa Inmediata (Cómo) + Causa Raíz (Por qué)
C19: Clasificación del Riesgo | E19: Utilice la lista de despligue que se encuentra parametrizada, le aparecerán las opciones: i)Estratégicos ii) Imagen iii) Operativos iv)Financieros v)Legal o de Cumplimiento vi) Tecnológicos vii) Fraude viii) Corrupción ix) Imparcialidad x) Confidencialidad xi) Seguridad de la información
C20: Impacto o Consecuencia | E20: Analice las consecuencias que puede ocasionar a la organización la materialización del riesgo. El riesgo se puede clasificar en: Un riesgo negativo es una amenaza, y cuando ocurre, se transforma en un problema. No obstante, un riesgo puede ser positivo al proporcionar una solución.
C21: Frecuencia con la cual se lleva a cabo la actividad | E21: Defina el # de veces que se puede materializar el riesgo durante el año, (Recuerde la probabilidad u ocurrencia del riesgo se defien como el No. de veces que se pasa por el punto de riesgo en el periodo de 1 año). La matriz automáticamente hará el cálculo para el nivel de probabilidad inherente (Columnas J-K)
C22: Criterios de Impacto | E22: Utilice la lista de despligue que se encuentra parametrizada, le aparecerán las opciones de la tabla de Impacto en la Hoja 6 del presente documento. La matriz automáticamente hará el cálculo para el nivel de impacto inherente (Columnas N-O)
C23: Zona de Riesgo Inherente | E23: Teniendo en cuenta que ingresó la información de PROBABILIDAD e IMPACTO, la matriz automáticamente hará el cálculo para la zona de riesgo inherente (Columna P)
... C36: Estado | E36: Utilice la lista de despligue que se encuentra parametrizada, le aparecerán las opciones: i)Finalizado, ii)En curso, la selección en este caso dependerá de las acciones del plan que se hayan establecido en cada caso.
B39: - Hoja 3 Matriz de Calor Inherente: En esta hoja, en la medida en que ese diligencia el Mapa Final, se verán reflejados los riesgos en su zona correspondiente. Esta hoja no se diligencia se genera de manera automática.
B40: - Hoja 4 Matriz de Calor Residual: En esta hoja, en la medida en que ese diligencia el Mapa Final, se verán reflejados los riesgos en su zona correspondiente. Esta hoja no se diligencia se genera de manera automática.
B41: - Hoja 5 Tabla de probabilidad: Tabla referente para todos los cálculos (no se diligencia)
B42: - Hoja 6 Tabla de Impacto: Tabla referente para todos los cálculos (no se diligencia)
B43: - Hoja 7 Tabla de Valoración de Controles: Tabla referente para todos los cálculos (no se diligencia)

Sheet Mapa final
A1: Formato Mapa Riesgos
A2: Proceso: PROCESO DE GESTION TICS
A3: Objetivo: Asegurar la efectividad de las actividades que deben realizarse para el mantenimiento, soporte técnico, copias de seguridad, administración de software de los equipos de SIVA.
A4: Alcance:
A6: Identificación del riesgo | J6: Análisis del riesgo inherente | Q6: Evaluación del riesgo - Valoración de los controles | Z6: Evaluación del riesgo - Nivel del riesgo residual | AG6: Plan de Acción
A7: Referencia | D7: Causa | E7: Riesgo | G7: Clasificación del Riesgo | H7: Impacto o Consecuencia | I7: Frecuencia con la cual se realiza la actividad | J7: Probabilidad Inherente | K7: % | L7: Criterios de impacto | M7: Observación de criterio | N7: Impacto Inherente | O7: % | P7: Zona de Riesgo Inherente | Q7: No. Control | R7: Descripción del Control | S7: Afectación | T7: Atributos | Z7: Probabilidad Residual | AA7: Probabilidad Residual Final | AB7: % | AC7: Impacto Residual Final | AD7: % | AE7: Zona de Riesgo Final | AF7: Tratamiento | AG7: Plan de Acción | AH7: Responsable | AI7: Fecha Implementación | AJ7: Fecha Seguimiento | AK7: Seguimiento | AL7: Estado
B8: Objetivo Estratégico | C8: Contexto Estrategico Interno - Externo - Proceso | F8: Consecuencias | T8: Tipo | U8: Implementación | V8: Calificación | W8: Documentación | X8: Frecuencia | Y8: Evidencia
A9: 1 | B9: Incrementar la eficiencia y la eficacia en los procesos de SIVA S.A.S. | C9: Financieros: Bajo presupuesto de funcionamiento que impide la contratación de un mantenimiento preventivo regularmente. Procesos: deficiente comunicación con planeación y contratación para la solicitud de recursos Tecnología: Obsolesencia de los equipos. EXTERNOS Económicos: Disminución del presupuesto por prioridades del Gobierno, Austeridad en el gasto. | D9: Depreciación de equipos. | E9: Posibilidad de afectación económica por daños permanentes o temporales en las herramientas tecnológicas de la entidad, a causa de un uso indebido, obsolesencia de estos, o falta de mantenimiento preventivo. | F9: Daños en los equipos. Aumento de los gastos por mantenimientos correctivos y daños de los equipos. | G9: Financieros | H9: Negativo (Amenaza) | I9: 1000 | J9: =IF(I9<=0,"",IF(I9<=2,"Muy Baja",IF(I9<=24,"Baja",IF(I9<=500,"Media",IF(I9<=5000,"Alta","Muy Alta"))))) -> Alta | K9: =IF(J9="","",IF(J9="Muy Baja",0.2,IF(J9="Baja",0.4,IF(J9="Media",0.6,IF(J9="Alta",0.8,IF(J9="Muy Alta",1,)))))) -> 0.8 | L9: Entre 50 y 100 SMLMV | M9: =IF(NOT(ISERROR(MATCH(L9,'Tabla Impacto'!$B$221:$B$223,0))),'Tabla Impacto'!$F$223&"Por favor no seleccionar los criterios de impacto(Afectación Económica o presupuestal y Pérdida Reputacional)",L9) -> Entre 50 y 100 SMLMV | N9: =IF(OR(M9='Tabla Impacto'!$C$11,M9='Tabla Impacto'!$D$11),"Leve",IF(OR(M9='Tabla Impacto'!$C$12,M9='Tabla Impacto'!$D$12),"Menor",IF(OR(M9='Tabla Impacto'!$C$13,M9='Tabla Impacto'!$D$13),"Moderado",IF(OR(M9='Tabla Impacto'!$C$14,M9='Tabla Impacto'!$D$14),"Mayor",IF(OR(M9='Tabla Impacto'!$C$15,M9='Tabla Impacto'!$D$15),"Catastrófico",""))))) -> Moderado | O9: =IF(N9="","",IF(N9="Leve",0.2,IF(N9="Menor",0.4,IF(N9="Moderado",0.6,IF(N9="Mayor",0.8,IF(N9="Catastrófico",1,)))))) -> 0.6 | P9: Moderado | Q9: 1 | R9: Programa de mantenimiento de equipos | S9: =IF(OR(T9="Preventivo",T9="Detectivo"),"Probabilidad",IF(T9="Correctivo","Impacto","")) -> Probabilidad | T9: Detectivo | U9: Manual | V9: =IF(AND(T9="Preventivo",U9="Automático"),"50%",IF(AND(T9="Preventivo",U9="Manual"),"40%",IF(AND(T9="Detectivo",U9="Automático"),"40%",IF(AND(T9="Detectivo",U9="Manual"),"30%",IF(AND(T9="Correctivo",U9="Automático"),"35%",IF(AND(T9="Correctivo",U9="Manual"),"25%","")))))) -> 30% | W9: Documentado | X9: Continua | Y9: Con Registro | Z9: =IFERROR(IF(S9="Probabilidad",(K9-(+K9*V9)),IF(S9="Impacto",K9,"")),"") -> 0.56 | AA9: =IFERROR(IF(Z9="","",IF(Z9<=0.2,"Muy Baja",IF(Z9<=0.4,"Baja",IF(Z9<=0.6,"Media",IF(Z9<=0.8,"Alta","Muy Alta"))))),"") -> Media | AB9: =+Z9 -> 0.56 | AC9: =IFERROR(IF(AD9="","",IF(AD9<=0.2,"Leve",IF(AD9<=0.4,"Menor",IF(AD9<=0.6,"Moderado",IF(AD9<=0.8,"Mayor","Catastrófico"))))),"") -> Moderado | AD9: =IFERROR(IF(S9="Impacto",(O9-(+O9*V9)),IF(S9="Probabilidad",O9,"")),"") -> 0.6 | AE9: =IFERROR(IF(OR(AND(AA9="Muy Baja",AC9="Leve"),AND(AA9="Muy Baja",AC9="Menor"),AND(AA9="Baja",AC9="Leve")),"Bajo",IF(OR(AND(AA9="Muy baja",AC9="Moderado"),AND(AA9="Baja",AC9="Menor"),AND(AA9="Baja",AC9="Moderado"),AND(AA9="Media",AC9="Leve"),AND(AA9="Media",AC9="Menor"),AND(AA9="Media",AC9="Moderado"),AND(AA9="Alta",AC9="Leve"),AND(AA9="Alta",AC9="Menor")),"Moderado",IF(OR(AND(AA9="Muy Baja",AC9="Mayor"),AND(AA9="Baja",AC9="Mayor"),AND(AA9="Media",AC9="Mayor"),AND(AA9="Alta",AC9="Moderado"),AND(AA9="Alta",AC9="Mayor"),AND(AA9="Muy Alta",AC9="Leve"),AND(AA9="Muy Alta",AC9="Menor"),AND(AA9="Muy Alta",AC9="Moderado"),AND(AA9="Muy Alta",AC9="Mayor")),"Alto",IF(OR(AND(AA9="Muy Baja",AC9="Catastrófico"),AND(AA9="Baja",AC9="Catastrófico"),AND(AA9="Media",AC9="Catastrófico"),AND(AA9="Alta",AC9="Catastrófico"),AND(AA9="Muy Alta",AC9="Catastrófico")),"Extremo","")))),"") -> Moderado | AF9: Reducir (mitigar) | AG9: Implementación del programa de mantenimiento preventivo de equipos | AH9: Área de Gestión TICS | AI9: 45717 | AJ9: 46021 | AK9: se realizaron los respectivos mantenimientos programados en el segundo semestre de la vigencia | AL9: en curso
D10: Uso indebido de los equipos tecnologicos de la entidad. | Q10: 2 | R10: Póliza protección empresarial | S10: =IF(OR(T10="Preventivo",T10="Detectivo"),"Probabilidad",IF(T10="Correctivo","Impacto","")) -> Probabilidad | T10: Preventivo | U10: Automático | V10: =IF(AND(T10="Preventivo",U10="Automático"),"50%",IF(AND(T10="Preventivo",U10="Manual"),"40%",IF(AND(T10="Detectivo",U10="Automático"),"40%",IF(AND(T10="Detectivo",U10="Manual"),"30%",IF(AND(T10="Correctivo",U10="Automático"),"35%",IF(AND(T10="Correctivo",U10="Manual"),"25%","")))))) -> 50% | W10: Documentado | X10: Continua | Y10: Con Registro | Z10: =IFERROR(IF(AND(S9="Probabilidad",S10="Probabilidad"),(AB9-(+AB9*V10)),IF(S10="Probabilidad",(K9-(+K9*V10)),IF(S10="Impacto",AB9,""))),"") -> 0.28 | AA10: =IFERROR(IF(Z10="","",IF(Z10<=0.2,"Muy Baja",IF(Z10<=0.4,"Baja",IF(Z10<=0.6,"Media",IF(Z10<=0.8,"Alta","Muy Alta"))))),"") -> Baja | AB10: =+Z10 -> 0.28 | AC10: =IFERROR(IF(AD10="","",IF(AD10<=0.2,"Leve",IF(AD10<=0.4,"Menor",IF(AD10<=0.6,"Moderado",IF(AD10<=0.8,"Mayor","Catastrófico"))))),"") -> Moderado | AD10: =IFERROR(IF(AND(S9="Impacto",S10="Impacto"),(AD9-(+AD9*V10)),IF(S10="Impacto",($O$9-(+$O$9*V10)),IF(S10="Probabilidad",AD9,""))),"") -> 0.6 | AE10: =IFERROR(IF(OR(AND(AA10="Muy Baja",AC10="Leve"),AND(AA10="Muy Baja",AC10="Menor"),AND(AA10="Baja",AC10="Leve")),"Bajo",IF(OR(AND(AA10="Muy baja",AC10="Moderado"),AND(AA10="Baja",AC10="Menor"),AND(AA10="Baja",AC10="Moderado"),AND(AA10="Media",AC10="Leve"),AND(AA10="Media",AC10="Menor"),AND(AA10="Media",AC10="Moderado"),AND(AA10="Alta",AC10="Leve"),AND(AA10="Alta",AC10="Menor")),"Moderado",IF(OR(AND(AA10="Muy Baja",AC10="Mayor"),AND(AA10="Baja",AC10="Mayor"),AND(AA10="Media",AC10="Mayor"),AND(AA10="Alta",AC10="Moderado"),AND(AA10="Alta",AC10="Mayor"),AND(AA10="Muy Alta",AC10="Leve"),AND(AA10="Muy Alta",AC10="Menor"),AND(AA10="Muy Alta",AC10="Moderado"),AND(AA10="Muy Alta",AC10="Mayor")),"Alto",IF(OR(AND(AA10="Muy Baja",AC10="Catastrófico"),AND(AA10="Baja",AC10="Catastrófico"),AND(AA10="Media",AC10="Catastrófico"),AND(AA10="Alta",AC10="Catastrófico"),AND(AA10="Muy Alta",AC10="Catastrófico")),"Extremo","")))),"") -> Moderado | AF10: Reducir (mitigar) | AG10: Implementación del programa de mantenimiento preventivo de infraestructura TICS | AH10: Área de Gestión TICS | AI10: 45717 | AJ10: 46021 | AK10: El programa se encuentra implementado, y se esta ejecutando según lo estipulado. En la nueva sede se esta ejecutando el contrato PS 088 2025, PRESTACIÓN DEL SERVICIO DE SUMINISTRO, INSTALACIÓN Y PUESTA EN FUNCIONAMIENTO DEL SISTEMA DE INFRAESTRUCTURA DE TELECOMUNICACIONES DEL SISTEMA INTEGRADO DE TRANSPORTE DE VALLEDUPAR – PATIO SUR | AL10: En curso
A11: 2 | B11: Incrementar la eficiencia y la eficacia en los procesos de SIVA S.A.S. | C11: INTERNOS Tecnología: Equipos tecnologicos vulnerables, de facil acceso. Seguridad: Acceso permitido a la oficina de personas ajenas a la entidad. Personal: Empleado sin ética profesional. | D11: Intrusos o empleados con entrenamiento deficiente, descontentos, malintencionados, negligentes, deshonestos o despedidos. | E11: Posibilidad de afectación reputacional y económica por corrupción debido a la eliminacion, alteración o uso de información confidencial de la entidad en beneficio propio o de un tercero. | F11: Detrimento patrimonial. Perdida de informacion institucional. Hallazgos disciplinarios y/o fiscales. | G11: Corrupción | H11: Negativo (Amenaza) | I11: 501 | J11: =IF(I11<=0,"",IF(I11<=2,"Muy Baja",IF(I11<=24,"Baja",IF(I11<=500,"Media",IF(I11<=5000,"Alta","Muy Alta"))))) -> Alta | K11: =IF(J11="","",IF(J11="Muy Baja",0.2,IF(J11="Baja",0.4,IF(J11="Media",0.6,IF(J11="Alta",0.8,IF(J11="Muy Alta",1,)))))) -> 0.8 | L11: El riesgo afecta la imagen de de la entidad con efecto publicitario sostenido a nivel de sector administrativo, nivel departamental o municipal | M11: =IF(NOT(ISERROR(MATCH(L11,'Tabla Impacto'!$B$221:$B$223,0))),'Tabla Impacto'!$F$223&"Por favor no seleccionar los criterios de impacto(Afectación Económica o presupuestal y Pérdida Reputacional)",L11) -> El riesgo afecta la imagen de de la entidad con efecto publicitario sostenido a nivel de sector administrativo, nivel departamental o municipal | N11: =IF(OR(M11='Tabla Impacto'!$C$11,M11='Tabla Impacto'!$D$11),"Leve",IF(OR(M11='Tabla Impacto'!$C$12,M11='Tabla Impacto'!$D$12),"Menor",IF(OR(M11='Tabla Impacto'!$C$13,M11='Tabla Impacto'!$D$13),"Moderado",IF(OR(M11='Tabla Impacto'!$C$14,M11='Tabla Impacto'!$D$14),"Mayor",IF(OR(M11='Tabla Impacto'!$C$15,M11='Tabla Impacto'!$D$15),"Catastrófico",""))))) -> Mayor | O11: =IF(N11="","",IF(N11="Leve",0.2,IF(N11="Menor",0.4,IF(N11="Moderado",0.6,IF(N11="Mayor",0.8,IF(N11="Catastrófico",1,)))))) -> 0.8 | P11: =IF(OR(AND(J11="Muy Baja",N11="Leve"),AND(J11="Muy Baja",N11="Menor"),AND(J11="Baja",N11="Leve")),"Bajo",IF(OR(AND(J11="Muy baja",N11="Moderado"),AND(J11="Baja",N11="Menor"),AND(J11="Baja",N11="Moderado"),AND(J11="Media",N11="Leve"),AND(J11="Media",N11="Menor"),AND(J11="Media",N11="Moderado"),AND(J11="Alta",N11="Leve"),AND(J11="Alta",N11="Menor")),"Moderado",IF(OR(AND(J11="Muy Baja",N11="Mayor"),AND(J11="Baja",N11="Mayor"),AND(J11="Media",N11="Mayor"),AND(J11="Alta",N11="Moderado"),AND(J11="Alta",N11="Mayor"),AND(J11="Muy Alta",N11="Leve"),AND(J11="Muy Alta",N11="Menor"),AND(J11="Muy Alta",N11="Moderado"),AND(J11="Muy Alta",N11="Mayor")),"Alto",IF(OR(AND(J11="Muy Baja",N11="Catastrófico"),AND(J11="Baja",N11="Catastrófico"),AND(J11="Media",N11="Catastrófico"),AND(J11="Alta",N11="Catastrófico"),AND(J11="Muy Alta",N11="Catastrófico")),"Extremo","")))) -> Alto | Q11: 1 | R11: Acceso a la información reservado y limitado. | S11: =IF(OR(T11="Preventivo",T11="Detectivo"),"Probabilidad",IF(T11="Correctivo","Impacto","")) -> Probabilidad | T11: Preventivo | U11: Manual | V11: =IF(AND(T11="Preventivo",U11="Automático"),"50%",IF(AND(T11="Preventivo",U11="Manual"),"40%",IF(AND(T11="Detectivo",U11="Automático"),"40%",IF(AND(T11="Detectivo",U11="Manual"),"30%",IF(AND(T11="Correctivo",U11="Automático"),"35%",IF(AND(T11="Correctivo",U11="Manual"),"25%","")))))) -> 40% | W11: Documentado | X11: Continua | Y11: Con Registro | Z11: =IFERROR(IF(S11="Probabilidad",(K11-(+K11*V11)),IF(S11="Impacto",K11,"")),"") -> 0.48 | AA11: =IFERROR(IF(Z11="","",IF(Z11<=0.2,"Muy Baja",IF(Z11<=0.4,"Baja",IF(Z11<=0.6,"Media",IF(Z11<=0.8,"Alta","Muy Alta"))))),"") -> Media | AB11: =+Z11 -> 0.48 | AC11: =IFERROR(IF(AD11="","",IF(AD11<=0.2,"Leve",IF(AD11<=0.4,"Menor",IF(AD11<=0.6,"Moderado",IF(AD11<=0.8,"Mayor","Catastrófico"))))),"") -> Mayor | AD11: =IFERROR(IF(S11="Impacto",(O11-(+O11*V11)),IF(S11="Probabilidad",O11,"")),"") -> 0.8 | AE11: =IFERROR(IF(OR(AND(AA11="Muy Baja",AC11="Leve"),AND(AA11="Muy Baja",AC11="Menor"),AND(AA11="Baja",AC11="Leve")),"Bajo",IF(OR(AND(AA11="Muy baja",AC11="Moderado"),AND(AA11="Baja",AC11="Menor"),AND(AA11="Baja",AC11="Moderado"),AND(AA11="Media",AC11="Leve"),AND(AA11="Media",AC11="Menor"),AND(AA11="Media",AC11="Moderado"),AND(AA11="Alta",AC11="Leve"),AND(AA11="Alta",AC11="Menor")),"Moderado",IF(OR(AND(AA11="Muy Baja",AC11="Mayor"),AND(AA11="Baja",AC11="Mayor"),AND(AA11="Media",AC11="Mayor"),AND(AA11="Alta",AC11="Moderado"),AND(AA11="Alta",AC11="Mayor"),AND(AA11="Muy Alta",AC11="Leve"),AND(AA11="Muy Alta",AC11="Menor"),AND(AA11="Muy Alta",AC11="Moderado"),AND(AA11="Muy Alta",AC11="Mayor")),"Alto",IF(OR(AND(AA11="Muy Baja",AC11="Catastrófico"),AND(AA11="Baja",AC11="Catastrófico"),AND(AA11="Media",AC11="Catastrófico"),AND(AA11="Alta",AC11="Catastrófico"),AND(AA11="Muy Alta",AC11="Catastrófico")),"Extremo","")))),"") -> Alto | AF11: Reducir (mitigar) | AG11: Mejorar la seguridad de la información almacenada en los equipos de la entidad a traves de la Implementación de la politica de seguridad de información. | AH11: Área de Gestión TICS | AI11: 45689 | AJ11: 46021 | AK11: Esto se ha implementado y desarrollando de acuerdo a lo estipulado, se realizan backups, mantenimientos y almacenamiento digital en discos duros y/o en la nube | AL11: En curso
Q12: 2 | R12: Creación y uso de correos institucionales. | S12: =IF(OR(T12="Preventivo",T12="Detectivo"),"Probabilidad",IF(T12="Correctivo","Impacto","")) -> Probabilidad | T12: Preventivo | U12: Manual | V12: =IF(AND(T12="Preventivo",U12="Automático"),"50%",IF(AND(T12="Preventivo",U12="Manual"),"40%",IF(AND(T12="Detectivo",U12="Automático"),"40%",IF(AND(T12="Detectivo",U12="Manual"),"30%",IF(AND(T12="Correctivo",U12="Automático"),"35%",IF(AND(T12="Correctivo",U12="Manual"),"25%","")))))) -> 40% | W12: Documentado | X12: Continua | Y12: Con Registro | Z12: =IFERROR(IF(AND(S11="Probabilidad",S12="Probabilidad"),(AB11-(+AB11*V12)),IF(S12="Probabilidad",(K11-(+K11*V12)),IF(S12="Impacto",AB11,""))),"") -> 0.288 | AA12: =IFERROR(IF(Z12="","",IF(Z12<=0.2,"Muy Baja",IF(Z12<=0.4,"Baja",IF(Z12<=0.6,"Media",IF(Z12<=0.8,"Alta","Muy Alta"))))),"") -> Baja | AB12: =+Z12 -> 0.288 | AC12: =IFERROR(IF(AD12="","",IF(AD12<=0.2,"Leve",IF(AD12<=0.4,"Menor",IF(AD12<=0.6,"Moderado",IF(AD12<=0.8,"Mayor","Catastrófico"))))),"") -> Moderado | AD12: =IFERROR(IF(AND(S11="Impacto",S12="Impacto"),(AD9-(+AD9*V12)),IF(S12="Impacto",($O$11-(+$O$11*V12)),IF(S12="Probabilidad",AD9,""))),"") -> 0.6 | AE12: =IFERROR(IF(OR(AND(AA12="Muy Baja",AC12="Leve"),AND(AA12="Muy Baja",AC12="Menor"),AND(AA12="Baja",AC12="Leve")),"Bajo",IF(OR(AND(AA12="Muy baja",AC12="Moderado"),AND(AA12="Baja",AC12="Menor"),AND(AA12="Baja",AC12="Moderado"),AND(AA12="Media",AC12="Leve"),AND(AA12="Media",AC12="Menor"),AND(AA12="Media",AC12="Moderado"),AND(AA12="Alta",AC12="Leve"),AND(AA12="Alta",AC12="Menor")),"Moderado",IF(OR(AND(AA12="Muy Baja",AC12="Mayor"),AND(AA12="Baja",AC12="Mayor"),AND(AA12="Media",AC12="Mayor"),AND(AA12="Alta",AC12="Moderado"),AND(AA12="Alta",AC12="Mayor"),AND(AA12="Muy Alta",AC12="Leve"),AND(AA12="Muy Alta",AC12="Menor"),AND(AA12="Muy Alta",AC12="Moderado"),AND(AA12="Muy Alta",AC12="Mayor")),"Alto",IF(OR(AND(AA12="Muy Baja",AC12="Catastrófico"),AND(AA12="Baja",AC12="Catastrófico"),AND(AA12="Media",AC12="Catastrófico"),AND(AA12="Alta",AC12="Catastrófico"),AND(AA12="Muy Alta",AC12="Catastrófico")),"Extremo","")))),"") -> Moderado | AF12: Reducir (mitigar) | AG12: Asignacion de usuarios de seguridad de informacion y creación de correos electrónicos intitucionales para resguardar la información relevante de la entidad. | AH12: Área de Gestión TICS | AI12: 45703 | AJ12: 46021 | AK12: La entidad cuenta con sus correos institucionales asigandos, de acuerdo a las areas de trabajo, así mismo se escuentra contratado el servicio, por si es necesaria la asignación de nuevos correos institucionales. | AL12: Finalizado
A13: 3 | B13: Incrementar la eficiencia y la eficacia en los procesos de SIVA SAS. | C13: EXTERNOS Sociales: Orden Publico. Políticos: cambios de gobierno, voluntad política, Ambientales: cambios climáticos. Tecnológicas: fallas en los aplicativos para reporte de información, Virus informáticos. Legales: aplicación de la normatividad INTERNOS Financieros: bajo presupuesto para la adquisición de equipos tecnológicos. Personal: duración de la contratación de personal, competencias en el área sistemas y TICS. Tecnologías: fallas en la red de voz y datos, software y hardware; mantenimiento de sistemas de información. Estratégicos: programación del presupuesto. Comunicación interna: deficiente flujo de la información interna. PROCESOS Interacciones con otros procesos: todas las áreas. | D13: Virus informaticos. Daños en los equipos. Software sin licencias originales Deficientes capacitaciones en seguridad informatica Uso inadecuado de los sistemas de información de la entidad No se realizan Backups de la información Errores en realización de backups Deficiente personal tecnico para los procesos de TICS deficiente infraestructura tecnologica | E13: Posibilidad de afectación reputacional y economica debido a perdida o daño de la información a causa de fallos tecnologicos que interrumpen o dañan los sistemas de información. | F13: Reprocesos de las actividades Sanciones legales, disciplinarias y penales Perdidas economicas Violación de la infraestructura tecnolgica Perdida de la credibilidad en la entidad | G13: Tecnológicos | H13: Negativo (Amenaza) | I13: 300 | J13: =IF(I13<=0,"",IF(I13<=2,"Muy Baja",IF(I13<=24,"Baja",IF(I13<=500,"Media",IF(I13<=5000,"Alta","Muy Alta"))))) -> Media | K13: =IF(J13="","",IF(J13="Muy Baja",0.2,IF(J13="Baja",0.4,IF(J13="Media",0.6,IF(J13="Alta",0.8,IF(J13="Muy Alta",1,)))))) -> 0.6 | L13: Entre 50 y 100 SMLMV | M13: =IF(NOT(ISERROR(MATCH(L13,'[1]Tabla Impacto'!$B$221:$B$223,0))),'[1]Tabla Impacto'!$F$223&"Por favor no seleccionar los criterios de impacto(Afectación Económica o presupuestal y Pérdida Reputacional)",L13) -> Entre 50 y 100 SMLMV | N13: =IF(OR(M13='[1]Tabla Impacto'!$C$11,M13='[1]Tabla Impacto'!$D$11),"Leve",IF(OR(M13='[1]Tabla Impacto'!$C$12,M13='[1]Tabla Impacto'!$D$12),"Menor",IF(OR(M13='[1]Tabla Impacto'!$C$13,M13='[1]Tabla Impacto'!$D$13),"Moderado",IF(OR(M13='[1]Tabla Impacto'!$C$14,M13='[1]Tabla Impacto'!$D$14),"Mayor",IF(OR(M13='[1]Tabla Impacto'!$C$15,M13='[1]Tabla Impacto'!$D$15),"Catastrófico",""))))) -> Moderado | O13: =IF(N13="","",IF(N13="Leve",0.2,IF(N13="Menor",0.4,IF(N13="Moderado",0.6,IF(N13="Mayor",0.8,IF(N13="Catastrófico",1,)))))) -> 0.6 | P13: =IF(OR(AND(J13="Muy Baja",N13="Leve"),AND(J13="Muy Baja",N13="Menor"),AND(J13="Baja",N13="Leve")),"Bajo",IF(OR(AND(J13="Muy baja",N13="Moderado"),AND(J13="Baja",N13="Menor"),AND(J13="Baja",N13="Moderado"),AND(J13="Media",N13="Leve"),AND(J13="Media",N13="Menor"),AND(J13="Media",N13="Moderado"),AND(J13="Alta",N13="Leve"),AND(J13="Alta",N13="Menor")),"Moderado",IF(OR(AND(J13="Muy Baja",N13="Mayor"),AND(J13="Baja",N13="Mayor"),AND(J13="Media",N13="Mayor"),AND(J13="Alta",N13="Moderado"),AND(J13="Alta",N13="Mayor"),AND(J13="Muy Alta",N13="Leve"),AND(J13="Muy Alta",N13="Menor"),AND(J13="Muy Alta",N13="Moderado"),AND(J13="Muy Alta",N13="Mayor")),"Alto",IF(OR(AND(J13="Muy Baja",N13="Catastrófico"),AND(J13="Baja",N13="Catastrófico"),AND(J13="Media",N13="Catastrófico"),AND(J13="Alta",N13="Catastrófico"),AND(J13="Muy Alta",N13="Catastrófico")),"Extremo","")))) -> Moderado | Q13: 1 | R13: Copia de seguridad | S13: =IF(OR(T13="Preventivo",T13="Detectivo"),"Probabilidad",IF(T13="Correctivo","Impacto","")) -> Probabilidad | T13: Preventivo | U13: Manual | V13: =IF(AND(T13="Preventivo",U13="Automático"),"50%",IF(AND(T13="Preventivo",U13="Manual"),"40%",IF(AND(T13="Detectivo",U13="Automático"),"40%",IF(AND(T13="Detectivo",U13="Manual"),"30%",IF(AND(T13="Correctivo",U13="Automático"),"35%",IF(AND(T13="Correctivo",U13="Manual"),"25%","")))))) -> 40% | W13: Documentado | X13: Continua | Y13: Con Registro | Z13: =IFERROR(IF(S13="Probabilidad",(K13-(+K13*V13)),IF(S13="Impacto",K13,"")),"") -> 0.36 | AA13: =IFERROR(IF(Z13="","",IF(Z13<=0.2,"Muy Baja",IF(Z13<=0.4,"Baja",IF(Z13<=0.6,"Media",IF(Z13<=0.8,"Alta","Muy Alta"))))),"") -> Baja | AB13: =+Z13 -> 0.36 | AC13: =IFERROR(IF(AD13="","",IF(AD13<=0.2,"Leve",IF(AD13<=0.4,"Menor",IF(AD13<=0.6,"Moderado",IF(AD13<=0.8,"Mayor","Catastrófico"))))),"") -> Moderado | AD13: =IFERROR(IF(S13="Impacto",(O13-(+O13*V13)),IF(S13="Probabilidad",O13,"")),"") -> 0.6 | AE13: =IFERROR(IF(OR(AND(AA13="Muy Baja",AC13="Leve"),AND(AA13="Muy Baja",AC13="Menor"),AND(AA13="Baja",AC13="Leve")),"Bajo",IF(OR(AND(AA13="Muy baja",AC13="Moderado"),AND(AA13="Baja",AC13="Menor"),AND(AA13="Baja",AC13="Moderado"),AND(AA13="Media",AC13="Leve"),AND(AA13="Media",AC13="Menor"),AND(AA13="Media",AC13="Moderado"),AND(AA13="Alta",AC13="Leve"),AND(AA13="Alta",AC13="Menor")),"Moderado",IF(OR(AND(AA13="Muy Baja",AC13="Mayor"),AND(AA13="Baja",AC13="Mayor"),AND(AA13="Media",AC13="Mayor"),AND(AA13="Alta",AC13="Moderado"),AND(AA13="Alta",AC13="Mayor"),AND(AA13="Muy Alta",AC13="Leve"),AND(AA13="Muy Alta",AC13="Menor"),AND(AA13="Muy Alta",AC13="Moderado"),AND(AA13="Muy Alta",AC13="Mayor")),"Alto",IF(OR(AND(AA13="Muy Baja",AC13="Catastrófico"),AND(AA13="Baja",AC13="Catastrófico"),AND(AA13="Media",AC13="Catastrófico"),AND(AA13="Alta",AC13="Catastrófico"),AND(AA13="Muy Alta",AC13="Catastrófico")),"Extremo","")))),"") -> Moderado | AF13: Reducir (mitigar) | AG13: Realizar backups de la información que sea desee soportar en medios electronicos/digitales. | AH13: Área de Gestión TICS | AI13: 45823 | AJ13: 46021 | AK13: Se realizará en el segundo semestre de la vigencia | AL13: En curso
Q14: 2 | R14: Mantenimiento a software Mantenimiento de equipos | S14: =IF(OR(T14="Preventivo",T14="Detectivo"),"Probabilidad",IF(T14="Correctivo","Impacto","")) -> Probabilidad | T14: Preventivo | U14: Manual | V14: =IF(AND(T14="Preventivo",U14="Automático"),"50%",IF(AND(T14="Preventivo",U14="Manual"),"40%",IF(AND(T14="Detectivo",U14="Automático"),"40%",IF(AND(T14="Detectivo",U14="Manual"),"30%",IF(AND(T14="Correctivo",U14="Automático"),"35%",IF(AND(T14="Correctivo",U14="Manual"),"25%","")))))) -> 40% | W14: Documentado | X14: Continua | Y14: Con Registro | Z14: =IFERROR(IF(AND(S13="Probabilidad",S14="Probabilidad"),(AB13-(+AB13*V14)),IF(S14="Probabilidad",(K13-(+K13*V14)),IF(S14="Impacto",AB13,""))),"") -> 0.216 | AA14: =IFERROR(IF(Z14="","",IF(Z14<=0.2,"Muy Baja",IF(Z14<=0.4,"Baja",IF(Z14<=0.6,"Media",IF(Z14<=0.8,"Alta","Muy Alta"))))),"") -> Baja | AB14: =+Z14 -> 0.216 | AC14: =IFERROR(IF(AD14="","",IF(AD14<=0.2,"Leve",IF(AD14<=0.4,"Menor",IF(AD14<=0.6,"Moderado",IF(AD14<=0.8,"Mayor","Catastrófico"))))),"") -> Moderado | AD14: =IFERROR(IF(AND(S13="Impacto",S14="Impacto"),(AD13-(+AD13*V14)),IF(S14="Impacto",($O$9-(+$O$9*V14)),IF(S14="Probabilidad",AD13,""))),"") -> 0.6 | AE14: =IFERROR(IF(OR(AND(AA14="Muy Baja",AC14="Leve"),AND(AA14="Muy Baja",AC14="Menor"),AND(AA14="Baja",AC14="Leve")),"Bajo",IF(OR(AND(AA14="Muy baja",AC14="Moderado"),AND(AA14="Baja",AC14="Menor"),AND(AA14="Baja",AC14="Moderado"),AND(AA14="Media",AC14="Leve"),AND(AA14="Media",AC14="Menor"),AND(AA14="Media",AC14="Moderado"),AND(AA14="Alta",AC14="Leve"),AND(AA14="Alta",AC14="Menor")),"Moderado",IF(OR(AND(AA14="Muy Baja",AC14="Mayor"),AND(AA14="Baja",AC14="Mayor"),AND(AA14="Media",AC14="Mayor"),AND(AA14="Alta",AC14="Moderado"),AND(AA14="Alta",AC14="Mayor"),AND(AA14="Muy Alta",AC14="Leve"),AND(AA14="Muy Alta",AC14="Menor"),AND(AA14="Muy Alta",AC14="Moderado"),AND(AA14="Muy Alta",AC14="Mayor")),"Alto",IF(OR(AND(AA14="Muy Baja",AC14="Catastrófico"),AND(AA14="Baja",AC14="Catastrófico"),AND(AA14="Media",AC14="Catastrófico"),AND(AA14="Alta",AC14="Catastrófico"),AND(AA14="Muy Alta",AC14="Catastrófico")),"Extremo","")))),"") -> Moderado | AF14: Reducir (mitigar) | AG14: Realización de capacitacion en seguridad digital | AH14: Área de Gestión TICS | AI14: 45853 | AJ14: 46021 | AK14: Se realizará en el segundo semestre de la vigencia | AL14: En curso
Q15: 3 | R15: Politicas de seguridad y privacidad de la información | S15: =IF(OR(T15="Preventivo",T15="Detectivo"),"Probabilidad",IF(T15="Correctivo","Impacto","")) -> Probabilidad | T15: Preventivo | U15: Manual | V15: =IF(AND(T15="Preventivo",U15="Automático"),"50%",IF(AND(T15="Preventivo",U15="Manual"),"40%",IF(AND(T15="Detectivo",U15="Automático"),"40%",IF(AND(T15="Detectivo",U15="Manual"),"30%",IF(AND(T15="Correctivo",U15="Automático"),"35%",IF(AND(T15="Correctivo",U15="Manual"),"25%","")))))) -> 40% | W15: Documentado | X15: Continua | Y15: Con Registro | Z15: =IFERROR(IF(AND(S14="Probabilidad",S15="Probabilidad"),(AB14-(+AB14*V15)),IF(S15="Probabilidad",(K14-(+K14*V15)),IF(S15="Impacto",AB14,""))),"") -> 0.1296 | AA15: =IFERROR(IF(Z15="","",IF(Z15<=0.2,"Muy Baja",IF(Z15<=0.4,"Baja",IF(Z15<=0.6,"Media",IF(Z15<=0.8,"Alta","Muy Alta"))))),"") -> Muy Baja | AB15: =+Z15 -> 0.1296 | AC15: =IFERROR(IF(AD15="","",IF(AD15<=0.2,"Leve",IF(AD15<=0.4,"Menor",IF(AD15<=0.6,"Moderado",IF(AD15<=0.8,"Mayor","Catastrófico"))))),"") -> Moderado | AD15: =IFERROR(IF(AND(S14="Impacto",S15="Impacto"),(AD14-(+AD14*V15)),IF(S15="Impacto",($O$9-(+$O$9*V15)),IF(S15="Probabilidad",AD14,""))),"") -> 0.6 | AE15: =IFERROR(IF(OR(AND(AA15="Muy Baja",AC15="Leve"),AND(AA15="Muy Baja",AC15="Menor"),AND(AA15="Baja",AC15="Leve")),"Bajo",IF(OR(AND(AA15="Muy baja",AC15="Moderado"),AND(AA15="Baja",AC15="Menor"),AND(AA15="Baja",AC15="Moderado"),AND(AA15="Media",AC15="Leve"),AND(AA15="Media",AC15="Menor"),AND(AA15="Media",AC15="Moderado"),AND(AA15="Alta",AC15="Leve"),AND(AA15="Alta",AC15="Menor")),"Moderado",IF(OR(AND(AA15="Muy Baja",AC15="Mayor"),AND(AA15="Baja",AC15="Mayor"),AND(AA15="Media",AC15="Mayor"),AND(AA15="Alta",AC15="Moderado"),AND(AA15="Alta",AC15="Mayor"),AND(AA15="Muy Alta",AC15="Leve"),AND(AA15="Muy Alta",AC15="Menor"),AND(AA15="Muy Alta",AC15="Moderado"),AND(AA15="Muy Alta",AC15="Mayor")),"Alto",IF(OR(AND(AA15="Muy Baja",AC15="Catastrófico"),AND(AA15="Baja",AC15="Catastrófico"),AND(AA15="Media",AC15="Catastrófico"),AND(AA15="Alta",AC15="Catastrófico"),AND(AA15="Muy Alta",AC15="Catastrófico")),"Extremo","")))),"") -> Moderado | AF15: Reducir (mitigar) | AG15: Adquisición de antivirus para seguridad de la información mitigar la probabilidad de perdida de la información, | AH15: Área de Gestión TICS | AI15: 45845 | AJ15: 46021 | AK15: El programa se encuentra implementado, y se esta ejecutando según lo estipulado. En la nueva sede se esta ejecutando el contrato PS 088 2025, PRESTACIÓN DEL SERVICIO DE SUMINISTRO, INSTALACIÓN Y PUESTA EN FUNCIONAMIENTO DEL SISTEMA DE INFRAESTRUCTURA DE TELECOMUNICACIONES DEL SISTEMA INTEGRADO DE TRANSPORTE DE VALLEDUPAR – PATIO SUR | AL15: En curso

Sheet Matriz Calor Inherente
B2: Matriz de Calor Inherente | J2: Impacto
B6: Probabilidad | E6: Muy Alta 100% | J6: =IF(AND('Mapa final'!$J$9="Muy Alta",'Mapa final'!$N$9="Leve"),CONCATENATE("R",'Mapa final'!$A$9),"") | L6: =IF(AND('Mapa final'!$J$11="Muy Alta",'Mapa final'!$N$11="Leve"),CONCATENATE("R",'Mapa final'!$A$11),"") | N6: =IF(AND('Mapa final'!$J$13="Muy Alta",'Mapa final'!$N$13="Leve"),CONCATENATE("R",'Mapa final'!$A$13),"") | P6: =IF(AND('Mapa final'!$J$9="Muy Alta",'Mapa final'!$N$9="Menor"),CONCATENATE("R",'Mapa final'!$A$9),"") | R6: =IF(AND('Mapa final'!$J$11="Muy Alta",'Mapa final'!$N$11="Menor"),CONCATENATE("R",'Mapa final'!$A$11),"") | T6: =IF(AND('Mapa final'!$J$13="Muy Alta",'Mapa final'!$N$13="Menor"),CONCATENATE("R",'Mapa final'!$A$13),"") | V6: =IF(AND('Mapa final'!$J$9="Muy Alta",'Mapa final'!$N$9="Moderado"),CONCATENATE("R",'Mapa final'!$A$9),"") | X6: =IF(AND('Mapa final'!$J$11="Muy Alta",'Mapa final'!$N$11="Moderado"),CONCATENATE("R",'Mapa final'!$A$11),"") | Z6: =IF(AND('Mapa final'!$J$13="Muy Alta",'Mapa final'!$N$13="Moderado"),CONCATENATE("R",'Mapa final'!$A$13),"") | AB6: =IF(AND('Mapa final'!$J$9="Muy Alta",'Mapa final'!$N$9="Mayor"),CONCATENATE("R",'Mapa final'!$A$9),"") | AD6: =IF(AND('Mapa final'!$J$11="Muy Alta",'Mapa final'!$N$11="Mayor"),CONCATENATE("R",'Mapa final'!$A$11),"") | AF6: =IF(AND('Mapa final'!$J$13="Muy Alta",'Mapa final'!$N$13="Mayor"),CONCATENATE("R",'Mapa final'!$A$13),"") | AH6: =IF(AND('Mapa final'!$J$9="Muy Alta",'Mapa final'!$N$9="Catastrófico"),CONCATENATE("R",'Mapa final'!$A$9),"") | AJ6: =IF(AND('Mapa final'!$J$11="Muy Alta",'Mapa final'!$N$11="Catastrófico"),CONCATENATE("R",'Mapa final'!$A$11),"") | AL6: =IF(AND('Mapa final'!$J$13="Muy Alta",'Mapa final'!$N$13="Catastrófico"),CONCATENATE("R",'Mapa final'!$A$13),"") | AO6: Extremo
J8: =IF(AND('Mapa final'!#REF!="Muy Alta",'Mapa final'!#REF!="Leve"),CONCATENATE("R",'Mapa final'!#REF!),"") -> #REF! | L8: =IF(AND('Mapa final'!#REF!="Muy Alta",'Mapa final'!#REF!="Leve"),CONCATENATE("R",'Mapa final'!#REF!),"") -> #REF! | N8: =IF(AND('Mapa final'!#REF!="Muy Alta",'Mapa final'!#REF!="Leve"),CONCATENATE("R",'Mapa final'!#REF!),"") -> #REF! | P8: =IF(AND('Mapa final'!#REF!="Muy Alta",'Mapa final'!#REF!="Menor"),CONCATENATE("R",'Mapa final'!#REF!),"") -> #REF! | R8: =IF(AND('Mapa final'!#REF!="Muy Alta",'Mapa final'!#REF!="Menor"),CONCATENATE("R",'Mapa final'!#REF!),"") -> #REF! | T8: =IF(AND('Mapa final'!#REF!="Muy Alta",'Mapa final'!#REF!="Menor"),CONCATENATE("R",'Mapa final'!#REF!),"") -> #REF! | V8: =IF(AND('Mapa final'!#REF!="Muy Alta",'Mapa final'!#REF!="Moderado"),CONCATENATE("R",'Mapa final'!#REF!),"") -> #REF! | X8: =IF(AND('Mapa final'!#REF!="Muy Alta",'Mapa final'!#REF!="Moderado"),CONCATENATE("R",'Mapa final'!#REF!),"") -> #REF! | Z8: =IF(AND('Mapa final'!#REF!="Muy Alta",'Mapa final'!#REF!="Moderado"),CONCATENATE("R",'Mapa final'!#REF!),"") -> #REF! | AB8: =IF(AND('Mapa final'!#REF!="Muy Alta",'Mapa final'!#REF!="Mayor"),CONCATENATE("R",'Mapa final'!#REF!),"") -> #REF! | AD8: =IF(AND('Mapa final'!#REF!="Muy Alta",'Mapa final'!#REF!="Mayor"),CONCATENATE("R",'Mapa final'!#REF!),"") -> #REF! | AF8: =IF(AND('Mapa final'!#REF!="Muy Alta",'Mapa final'!#REF!="Mayor"),CONCATENATE("R",'Mapa final'!#REF!),"") -> #REF! | AH8: =IF(AND('Mapa final'!#REF!="Muy Alta",'Mapa final'!#REF!="Catastrófico"),CONCATENATE("R",'Mapa final'!#REF!),"") -> #REF! | AJ8: =IF(AND('Mapa final'!#REF!="Muy Alta",'Mapa final'!#REF!="Catastrófico"),CONCATENATE("R",'Mapa final'!#REF!),"") -> #REF! | AL8: =IF(AND('Mapa final'!#REF!="Muy Alta",'Mapa final'!#REF!="Catastrófico"),CONCATENATE("R",'Mapa final'!#REF!),"") -> #REF!
J10: =IF(AND('Mapa final'!#REF!="Muy Alta",'Mapa final'!#REF!="Leve"),CONCATENATE("R",'Mapa final'!#REF!),"") -> #REF! | L10: =IF(AND('Mapa final'!#REF!="Muy Alta",'Mapa final'!#REF!="Leve"),CONCATENATE("R",'Mapa final'!#REF!),"") -> #REF! | N10: =IF(AND('Mapa final'!#REF!="Muy Alta",'Mapa final'!#REF!="Leve"),CONCATENATE("R",'Mapa final'!#REF!),"") -> #REF! | P10: =IF(AND('Mapa final'!#REF!="Muy Alta",'Mapa final'!#REF!="Menor"),CONCATENATE("R",'Mapa final'!#REF!),"") -> #REF! | R10: =IF(AND('Mapa final'!#REF!="Muy Alta",'Mapa final'!#REF!="Menor"),CONCATENATE("R",'Mapa final'!#REF!),"") -> #REF! | T10: =IF(AND('Mapa final'!#REF!="Muy Alta",'Mapa final'!#REF!="Menor"),CONCATENATE("R",'Mapa final'!#REF!),"") -> #REF! | V10: =IF(AND('Mapa final'!#REF!="Muy Alta",'Mapa final'!#REF!="Moderado"),CONCATENATE("R",'Mapa final'!#REF!),"") -> #REF! | X10: =IF(AND('Mapa final'!#REF!="Muy Alta",'Mapa final'!#REF!="Moderado"),CONCATENATE("R",'Mapa final'!#REF!),"") -> #REF! | Z10: =IF(AND('Mapa final'!#REF!="Muy Alta",'Mapa final'!#REF!="Moderado"),CONCATENATE("R",'Mapa final'!#REF!),"") -> #REF! | AB10: =IF(AND('Mapa final'!#REF!="Muy Alta",'Mapa final'!#REF!="Mayor"),CONCATENATE("R",'Mapa final'!#REF!),"") -> #REF! | AD10: =IF(AND('Mapa final'!#REF!="Muy Alta",'Mapa final'!#REF!="Mayor"),CONCATENATE("R",'Mapa final'!#REF!),"") -> #REF! | AF10: =IF(AND('Mapa final'!#REF!="Muy Alta",'Mapa final'!#REF!="Mayor"),CONCATENATE("R",'Mapa final'!#REF!),"") -> #REF! | AH10: =IF(AND('Mapa final'!#REF!="Muy Alta",'Mapa final'!#REF!="Catastrófico"),CONCATENATE("R",'Mapa final'!#REF!),"") -> #REF! | AJ10: =IF(AND('Mapa final'!#REF!="Muy Alta",'Mapa final'!#REF!="Catastrófico"),CONCATENATE("R",'Mapa final'!#REF!),"") -> #REF! | AL10: =IF(AND('Mapa final'!#REF!="Muy Alta",'Mapa final'!#REF!="Catastrófico"),CONCATENATE("R",'Mapa final'!#REF!),"") -> #REF!
J12: =IF(AND('Mapa final'!#REF!="Muy Alta",'Mapa final'!#REF!="Leve"),CONCATENATE("R",'Mapa final'!#REF!),"") -> #REF! | L12: =IF(AND('Mapa final'!#REF!="Muy Alta",'Mapa final'!#REF!="Leve"),CONCATENATE("R",'Mapa final'!#REF!),"") -> #REF! | N12: =IF(AND('Mapa final'!#REF!="Muy Alta",'Mapa final'!#REF!="Leve"),CONCATENATE("R",'Mapa final'!#REF!),"") -> #REF! | P12: =IF(AND('Mapa final'!#REF!="Muy Alta",'Mapa final'!#REF!="Menor"),CONCATENATE("R",'Mapa final'!#REF!),"") -> #REF! | R12: =IF(AND('Mapa final'!#REF!="Muy Alta",'Mapa final'!#REF!="Menor"),CONCATENATE("R",'Mapa final'!#REF!),"") -> #REF! | T12: =IF(AND('Mapa final'!#REF!="Muy Alta",'Mapa final'!#REF!="Menor"),CONCATENATE("R",'Mapa final'!#REF!),"") -> #REF! | V12: =IF(AND('Mapa final'!#REF!="Muy Alta",'Mapa final'!#REF!="Moderado"),CONCATENATE("R",'Mapa final'!#REF!),"") -> #REF! | X12: =IF(AND('Mapa final'!#REF!="Muy Alta",'Mapa final'!#REF!="Moderado"),CONCATENATE("R",'Mapa final'!#REF!),"") -> #REF! | Z12: =IF(AND('Mapa final'!#REF!="Muy Alta",'Mapa final'!#REF!="Moderado"),CONCATENATE("R",'Mapa final'!#REF!),"") -> #REF! | AB12: =IF(AND('Mapa final'!#REF!="Muy Alta",'Mapa final'!#REF!="Mayor"),CONCATENATE("R",'Mapa final'!#REF!),"") -> #REF! | AD12: =IF(AND('Mapa final'!#REF!="Muy Alta",'Mapa final'!#REF!="Mayor"),CONCATENATE("R",'Mapa final'!#REF!),"") -> #REF! | AF12: =IF(AND('Mapa final'!#REF!="Muy Alta",'Mapa final'!#REF!="Mayor"),CONCATENATE("R",'Mapa final'!#REF!),"") -> #REF! | AH12: =IF(AND('Mapa final'!#REF!="Muy Alta",'Mapa final'!#REF!="Catastrófico"),CONCATENATE("R",'Mapa final'!#REF!),"") -> #REF! | AJ12: =IF(AND('Mapa final'!#REF!="Muy Alta",'Mapa final'!#REF!="Catastrófico"),CONCATENATE("R",'Mapa final'!#REF!),"") -> #REF! | AL12: =IF(AND('Mapa final'!#REF!="Muy Alta",'Mapa final'!#REF!="Catastrófico"),CONCATENATE("R",'Mapa final'!#REF!),"") -> #REF!
E14: Alta 80% | J14: =IF(AND('Mapa final'!$J$9="Alta",'Mapa final'!$N$9="Leve"),CONCATENATE("R",'Mapa final'!$A$9),"") | L14: =IF(AND('Mapa final'!$J$11="Alta",'Mapa final'!$N$11="Leve"),CONCATENATE("R",'Mapa final'!$A$11),"") | N14: =IF(AND('Mapa final'!$J$13="Alta",'Mapa final'!$N$13="Leve"),CONCATENATE("R",'Mapa final'!$A$13),"") | P14: =IF(AND('Mapa final'!$J$9="Alta",'Mapa final'!$N$9="Menor"),CONCATENATE("R",'Mapa final'!$A$9),"") | R14: =IF(AND('Mapa final'!$J$11="Alta",'Mapa final'!$N$11="Menor"),CONCATENATE("R",'Mapa final'!$A$11),"") | T14: =IF(AND('Mapa final'!$J$13="Alta",'Mapa final'!$N$13="Menor"),CONCATENATE("R",'Mapa final'!$A$13),"") | V14: =IF(AND('Mapa final'!$J$9="Alta",'Mapa final'!$N$9="Moderado"),CONCATENATE("R",'Mapa final'!$A$9),"") -> R1 | X14: =IF(AND('Mapa final'!$J$11="Alta",'Mapa final'!$N$11="Moderado"),CONCATENATE("R",'Mapa final'!$A$11),"") | Z14: =IF(AND('Mapa final'!$J$13="Alta",'Mapa final'!$N$13="Moderado"),CONCATENATE("R",'Mapa final'!$A$13),"") | AB14: =IF(AND('Mapa final'!$J$9="Alta",'Mapa final'!$N$9="Mayor"),CONCATENATE("R",'Mapa final'!$A$9),"") | AD14: =IF(AND('Mapa final'!$J$11="Alta",'Mapa final'!$N$11="Mayor"),CONCATENATE("R",'Mapa final'!$A$11),"") -> R2 | AF14: =IF(AND('Mapa final'!$J$13="Alta",'Mapa final'!$N$13="Mayor"),CONCATENATE("R",'Mapa final'!$A$13),"") | AH14: =IF(AND('Mapa final'!$J$9="Alta",'Mapa final'!$N$9="Catastrófico"),CONCATENATE("R",'Mapa final'!$A$9),"") | AJ14: =IF(AND('Mapa final'!$J$11="Alta",'Mapa final'!$N$11="Catastrófico"),CONCATENATE("R",'Mapa final'!$A$11),"") | AL14: =IF(AND('Mapa final'!$J$13="Alta",'Mapa final'!$N$13="Catastrófico"),CONCATENATE("R",'Mapa final'!$A$13),"") | AO14: Alto
J16: =IF(AND('Mapa final'!#REF!="Alta",'Mapa final'!#REF!="Leve"),CONCATENATE("R",'Mapa final'!#REF!),"") -> #REF! | L16: =IF(AND('Mapa final'!#REF!="Alta",'Mapa final'!#REF!="Leve"),CONCATENATE("R",'Mapa final'!#REF!),"") -> #REF! | N16: =IF(AND('Mapa final'!#REF!="Alta",'Mapa final'!#REF!="Leve"),CONCATENATE("R",'Mapa final'!#REF!),"") -> #REF! | P16: =IF(AND('Mapa final'!#REF!="Alta",'Mapa final'!#REF!="Menor"),CONCATENATE("R",'Mapa final'!#REF!),"") -> #REF! | R16: =IF(AND('Mapa final'!#REF!="Alta",'Mapa final'!#REF!="Menor"),CONCATENATE("R",'Mapa final'!#REF!),"") -> #REF! | T16: =IF(AND('Mapa final'!#REF!="Alta",'Mapa final'!#REF!="Menor"),CONCATENATE("R",'Mapa final'!#REF!),"") -> #REF! | V16: =IF(AND('Mapa final'!#REF!="Alta",'Mapa final'!#REF!="Moderado"),CONCATENATE("R",'Mapa final'!#REF!),"") -> #REF! | X16: =IF(AND('Mapa final'!#REF!="Alta",'Mapa final'!#REF!="Moderado"),CONCATENATE("R",'Mapa final'!#REF!),"") -> #REF! | Z16: =IF(AND('Mapa final'!#REF!="Alta",'Mapa final'!#REF!="Moderado"),CONCATENATE("R",'Mapa final'!#REF!),"") -> #REF! | AB16: =IF(AND('Mapa final'!#REF!="Alta",'Mapa final'!#REF!="Mayor"),CONCATENATE("R",'Mapa final'!#REF!),"") -> #REF! | AD16: =IF(AND('Mapa final'!#REF!="Alta",'Mapa final'!#REF!="Mayor"),CONCATENATE("R",'Mapa final'!#REF!),"") -> #REF! | AF16: =IF(AND('Mapa final'!#REF!="Alta",'Mapa final'!#REF!="Mayor"),CONCATENATE("R",'Mapa final'!#REF!),"") -> #REF! | AH16: =IF(AND('Mapa final'!#REF!="Alta",'Mapa final'!#REF!="Catastrófico"),CONCATENATE("R",'Mapa final'!#REF!),"") -> #REF! | AJ16: =IF(AND('Mapa final'!#REF!="Alta",'Mapa final'!#REF!="Catastrófico"),CONCATENATE("R",'Mapa final'!#REF!),"") -> #REF! | AL16: =IF(AND('Mapa final'!#REF!="Alta",'Mapa final'!#REF!="Catastrófico"),CONCATENATE("R",'Mapa final'!#REF!),"") -> #REF!
J18: =IF(AND('Mapa final'!#REF!="Alta",'Mapa final'!#REF!="Leve"),CONCATENATE("R",'Mapa final'!#REF!),"") -> #REF! | L18: =IF(AND('Mapa final'!#REF!="Alta",'Mapa final'!#REF!="Leve"),CONCATENATE("R",'Mapa final'!#REF!),"") -> #REF! | N18: =IF(AND('Mapa final'!#REF!="Alta",'Mapa final'!#REF!="Leve"),CONCATENATE("R",'Mapa final'!#REF!),"") -> #REF! | P18: =IF(AND('Mapa final'!#REF!="Alta",'Mapa final'!#REF!="Menor"),CONCATENATE("R",'Mapa final'!#REF!),"") -> #REF! | R18: =IF(AND('Mapa final'!#REF!="Alta",'Mapa final'!#REF!="Menor"),CONCATENATE("R",'Mapa final'!#REF!),"") -> #REF! | T18: =IF(AND('Mapa final'!#REF!="Alta",'Mapa final'!#REF!="Menor"),CONCATENATE("R",'Mapa final'!#REF!),"") -> #REF! | V18: =IF(AND('Mapa final'!#REF!="Alta",'Mapa final'!#REF!="Moderado"),CONCATENATE("R",'Mapa final'!#REF!),"") -> #REF! | X18: =IF(AND('Mapa final'!#REF!="Alta",'Mapa final'!#REF!="Moderado"),CONCATENATE("R",'Mapa final'!#REF!),"") -> #REF! | Z18: =IF(AND('Mapa final'!#REF!="Alta",'Mapa final'!#REF!="Moderado"),CONCATENATE("R",'Mapa final'!#REF!),"") -> #REF! | AB18: =IF(AND('Mapa final'!#REF!="Alta",'Mapa final'!#REF!="Mayor"),CONCATENATE("R",'Mapa final'!#REF!),"") -> #REF! | AD18: =IF(AND('Mapa final'!#REF!="Alta",'Mapa final'!#REF!="Mayor"),CONCATENATE("R",'Mapa final'!#REF!),"") -> #REF! | AF18: =IF(AND('Mapa final'!#REF!="Alta",'Mapa final'!#REF!="Mayor"),CONCATENATE("R",'Mapa final'!#REF!),"") -> #REF! | AH18: =IF(AND('Mapa final'!#REF!="Alta",'Mapa final'!#REF!="Catastrófico"),CONCATENATE("R",'Mapa final'!#REF!),"") -> #REF! | AJ18: =IF(AND('Mapa final'!#REF!="Alta",'Mapa final'!#REF!="Catastrófico"),CONCATENATE("R",'Mapa final'!#REF!),"") -> #REF! | AL18: =IF(AND('Mapa final'!#REF!="Alta",'Mapa final'!#REF!="Catastrófico"),CONCATENATE("R",'Mapa final'!#REF!),"") -> #REF!
J20: =IF(AND('Mapa final'!#REF!="Alta",'Mapa final'!#REF!="Leve"),CONCATENATE("R",'Mapa final'!#REF!),"") -> #REF! | L20: =IF(AND('Mapa final'!#REF!="Alta",'Mapa final'!#REF!="Leve"),CONCATENATE("R",'Mapa final'!#REF!),"") -> #REF! | N20: =IF(AND('Mapa final'!#REF!="Alta",'Mapa final'!#REF!="Leve"),CONCATENATE("R",'Mapa final'!#REF!),"") -> #REF! | P20: =IF(AND('Mapa final'!#REF!="Alta",'Mapa final'!#REF!="Menor"),CONCATENATE("R",'Mapa final'!#REF!),"") -> #REF! | R20: =IF(AND('Mapa final'!#REF!="Alta",'Mapa final'!#REF!="Menor"),CONCATENATE("R",'Mapa final'!#REF!),"") -> #REF! | T20: =IF(AND('Mapa final'!#REF!="Alta",'Mapa final'!#REF!="Menor"),CONCATENATE("R",'Mapa final'!#REF!),"") -> #REF! | V20: =IF(AND('Mapa final'!#REF!="Alta",'Mapa final'!#REF!="Moderado"),CONCATENATE("R",'Mapa final'!#REF!),"") -> #REF! | X20: =IF(AND('Mapa final'!#REF!="Alta",'Mapa final'!#REF!="Moderado"),CONCATENATE("R",'Mapa final'!#REF!),"") -> #REF! | Z20: =IF(AND('Mapa final'!#REF!="Alta",'Mapa final'!#REF!="Moderado"),CONCATENATE("R",'Mapa final'!#REF!),"") -> #REF! | AB20: =IF(AND('Mapa final'!#REF!="Alta",'Mapa final'!#REF!="Mayor"),CONCATENATE("R",'Mapa final'!#REF!),"") -> #REF! | AD20: =IF(AND('Mapa final'!#REF!="Alta",'Mapa final'!#REF!="Mayor"),CONCATENATE("R",'Mapa final'!#REF!),"") -> #REF! | AF20: =IF(AND('Mapa final'!#REF!="Alta",'Mapa final'!#REF!="Mayor"),CONCATENATE("R",'Mapa final'!#REF!),"") -> #REF! | AH20: =IF(AND('Mapa final'!#REF!="Alta",'Mapa final'!#REF!="Catastrófico"),CONCATENATE("R",'Mapa final'!#REF!),"") -> #REF! | AJ20: =IF(AND('Mapa final'!#REF!="Alta",'Mapa final'!#REF!="Catastrófico"),CONCATENATE("R",'Mapa final'!#REF!),"") -> #REF! | AL20: =IF(AND('Mapa final'!#REF!="Alta",'Mapa final'!#REF!="Catastrófico"),CONCATENATE("R",'Mapa final'!#REF!),"") -> #REF!
E22: Media 60% | J22: =IF(AND('Mapa final'!$J$9="Media",'Mapa final'!$N$9="Leve"),CONCATENATE("R",'Mapa final'!$A$9),"") | L22: =IF(AND('Mapa final'!$J$11="Media",'Mapa final'!$N$11="Leve"),CONCATENATE("R",'Mapa final'!$A$11),"") | N22: =IF(AND('Mapa final'!$J$13="Media",'Mapa final'!$N$13="Leve"),CONCATENATE("R",'Mapa final'!$A$13),"") | P22: =IF(AND('Mapa final'!$J$9="Media",'Mapa final'!$N$9="Menor"),CONCATENATE("R",'Mapa final'!$A$9),"") | R22: =IF(AND('Mapa final'!$J$11="Media",'Mapa final'!$N$11="Menor"),CONCATENATE("R",'Mapa final'!$A$11),"") | T22: =IF(AND('Mapa final'!$J$13="Media",'Mapa final'!$N$13="Menor"),CONCATENATE("R",'Mapa final'!$A$13),"") | V22: =IF(AND('Mapa final'!$J$9="Media",'Mapa final'!$N$9="Moderado"),CONCATENATE("R",'Mapa final'!$A$9),"") | X22: =IF(AND('Mapa final'!$J$11="Media",'Mapa final'!$N$11="Moderado"),CONCATENATE("R",'Mapa final'!$A$11),"") | Z22: =IF(AND('Mapa final'!$J$13="Media",'Mapa final'!$N$13="Moderado"),CONCATENATE("R",'Mapa final'!$A$13),"") -> R3 | AB22: =IF(AND('Mapa final'!$J$9="Media",'Mapa final'!$N$9="Mayor"),CONCATENATE("R",'Mapa final'!$A$9),"") | AD22: =IF(AND('Mapa final'!$J$11="Media",'Mapa final'!$N$11="Mayor"),CONCATENATE("R",'Mapa final'!$A$11),"") | AF22: =IF(AND('Mapa final'!$J$13="Media",'Mapa final'!$N$13="Mayor"),CONCATENATE("R",'Mapa final'!$A$13),"") | AH22: =IF(AND('Mapa final'!$J$9="Media",'Mapa final'!$N$9="Catastrófico"),CONCATENATE("R",'Mapa final'!$A$9),"") | AJ22: =IF(AND('Mapa final'!$J$11="Media",'Mapa final'!$N$11="Catastrófico"),CONCATENATE("R",'Mapa final'!$A$11),"") | AL22: =IF(AND('Mapa final'!$J$13="Media",'Mapa final'!$N$13="Catastrófico"),CONCATENATE("R",'Mapa final'!$A$13),"") | AO22: Moderado
J24: =IF(AND('Mapa final'!#REF!="Media",'Mapa final'!#REF!="Leve"),CONCATENATE("R",'Mapa final'!#REF!),"") -> #REF! | L24: =IF(AND('Mapa final'!#REF!="Media",'Mapa final'!#REF!="Leve"),CONCATENATE("R",'Mapa final'!#REF!),"") -> #REF! | N24: =IF(AND('Mapa final'!#REF!="Media",'Mapa final'!#REF!="Leve"),CONCATENATE("R",'Mapa final'!#REF!),"") -> #REF! | P24: =IF(AND('Mapa final'!#REF!="Media",'Mapa final'!#REF!="Menor"),CONCATENATE("R",'Mapa final'!#REF!),"") -> #REF! | R24: =IF(AND('Mapa final'!#REF!="Media",'Mapa final'!#REF!="Menor"),CONCATENATE("R",'Mapa final'!#REF!),"") -> #REF! | T24: =IF(AND('Mapa final'!#REF!="Media",'Mapa final'!#REF!="Menor"),CONCATENATE("R",'Mapa final'!#REF!),"") -> #REF! | V24: =IF(AND('Mapa final'!#REF!="Media",'Mapa final'!#REF!="Moderado"),CONCATENATE("R",'Mapa final'!#REF!),"") -> #REF! | X24: =IF(AND('Mapa final'!#REF!="Media",'Mapa final'!#REF!="Moderado"),CONCATENATE("R",'Mapa final'!#REF!),"") -> #REF! | Z24: =IF(AND('Mapa final'!#REF!="Media",'Mapa final'!#REF!="Moderado"),CONCATENATE("R",'Mapa final'!#REF!),"") -> #REF! | AB24: =IF(AND('Mapa final'!#REF!="Media",'Mapa final'!#REF!="Mayor"),CONCATENATE("R",'Mapa final'!#REF!),"") -> #REF! | AD24: =IF(AND('Mapa final'!#REF!="Media",'Mapa final'!#REF!="Mayor"),CONCATENATE("R",'Mapa final'!#REF!),"") -> #REF! | AF24: =IF(AND('Mapa final'!#REF!="Media",'Mapa final'!#REF!="Mayor"),CONCATENATE("R",'Mapa final'!#REF!),"") -> #REF! | AH24: =IF(AND('Mapa final'!#REF!="Media",'Mapa final'!#REF!="Catastrófico"),CONCATENATE("R",'Mapa final'!#REF!),"") -> #REF! | AJ24: =IF(AND('Mapa final'!#REF!="Media",'Mapa final'!#REF!="Catastrófico"),CONCATENATE("R",'Mapa final'!#REF!),"") -> #REF! | AL24: =IF(AND('Mapa final'!#REF!="Media",'Mapa final'!#REF!="Catastrófico"),CONCATENATE("R",'Mapa final'!#REF!),"") -> #REF!
J26: =IF(AND('Mapa final'!#REF!="Media",'Mapa final'!#REF!="Leve"),CONCATENATE("R",'Mapa final'!#REF!),"") -> #REF! | L26: =IF(AND('Mapa final'!#REF!="Media",'Mapa final'!#REF!="Leve"),CONCATENATE("R",'Mapa final'!#REF!),"") -> #REF! | N26: =IF(AND('Mapa final'!#REF!="Media",'Mapa final'!#REF!="Leve"),CONCATENATE("R",'Mapa final'!#REF!),"") -> #REF! | P26: =IF(AND('Mapa final'!#REF!="Media",'Mapa final'!#REF!="Menor"),CONCATENATE("R",'Mapa final'!#REF!),"") -> #REF! | R26: =IF(AND('Mapa final'!#REF!="Media",'Mapa final'!#REF!="Menor"),CONCATENATE("R",'Mapa final'!#REF!),"") -> #REF! | T26: =IF(AND('Mapa final'!#REF!="Media",'Mapa final'!#REF!="Menor"),CONCATENATE("R",'Mapa final'!#REF!),"") -> #REF! | V26: =IF(AND('Mapa final'!#REF!="Media",'Mapa final'!#REF!="Moderado"),CONCATENATE("R",'Mapa final'!#REF!),"") -> #REF! | X26: =IF(AND('Mapa final'!#REF!="Media",'Mapa final'!#REF!="Moderado"),CONCATENATE("R",'Mapa final'!#REF!),"") -> #REF! | Z26: =IF(AND('Mapa final'!#REF!="Media",'Mapa final'!#REF!="Moderado"),CONCATENATE("R",'Mapa final'!#REF!),"") -> #REF! | AB26: =IF(AND('Mapa final'!#REF!="Media",'Mapa final'!#REF!="Mayor"),CONCATENATE("R",'Mapa final'!#REF!),"") -> #REF! | AD26: =IF(AND('Mapa final'!#REF!="Media",'Mapa final'!#REF!="Mayor"),CONCATENATE("R",'Mapa final'!#REF!),"") -> #REF! | AF26: =IF(AND('Mapa final'!#REF!="Media",'Mapa final'!#REF!="Mayor"),CONCATENATE("R",'Mapa final'!#REF!),"") -> #REF! | AH26: =IF(AND('Mapa final'!#REF!="Media",'Mapa final'!#REF!="Catastrófico"),CONCATENATE("R",'Mapa final'!#REF!),"") -> #REF! | AJ26: =IF(AND('Mapa final'!#REF!="Media",'Mapa final'!#REF!="Catastrófico"),CONCATENATE("R",'Mapa final'!#REF!),"") -> #REF! | AL26: =IF(AND('Mapa final'!#REF!="Media",'Mapa final'!#REF!="Catastrófico"),CONCATENATE("R",'Mapa final'!#REF!),"") -> #REF!
J28: =IF(AND('Mapa final'!#REF!="Media",'Mapa final'!#REF!="Leve"),CONCATENATE("R",'Mapa final'!#REF!),"") -> #REF! | L28: =IF(AND('Mapa final'!#REF!="Media",'Mapa final'!#REF!="Leve"),CONCATENATE("R",'Mapa final'!#REF!),"") -> #REF! | N28: =IF(AND('Mapa final'!#REF!="Media",'Mapa final'!#REF!="Leve"),CONCATENATE("R",'Mapa final'!#REF!),"") -> #REF! | P28: =IF(AND('Mapa final'!#REF!="Media",'Mapa final'!#REF!="Menor"),CONCATENATE("R",'Mapa final'!#REF!),"") -> #REF! | R28: =IF(AND('Mapa final'!#REF!="Media",'Mapa final'!#REF!="Menor"),CONCATENATE("R",'Mapa final'!#REF!),"") -> #REF! | T28: =IF(AND('Mapa final'!#REF!="Media",'Mapa final'!#REF!="Menor"),CONCATENATE("R",'Mapa final'!#REF!),"") -> #REF! | V28: =IF(AND('Mapa final'!#REF!="Media",'Mapa final'!#REF!="Moderado"),CONCATENATE("R",'Mapa final'!#REF!),"") -> #REF! | X28: =IF(AND('Mapa final'!#REF!="Media",'Mapa final'!#REF!="Moderado"),CONCATENATE("R",'Mapa final'!#REF!),"") -> #REF! | Z28: =IF(AND('Mapa final'!#REF!="Media",'Mapa final'!#REF!="Moderado"),CONCATENATE("R",'Mapa final'!#REF!),"") -> #REF! | AB28: =IF(AND('Mapa final'!#REF!="Media",'Mapa final'!#REF!="Mayor"),CONCATENATE("R",'Mapa final'!#REF!),"") -> #REF! | AD28: =IF(AND('Mapa final'!#REF!="Media",'Mapa final'!#REF!="Mayor"),CONCATENATE("R",'Mapa final'!#REF!),"") -> #REF! | AF28: =IF(AND('Mapa final'!#REF!="Media",'Mapa final'!#REF!="Mayor"),CONCATENATE("R",'Mapa final'!#REF!),"") -> #REF! | AH28: =IF(AND('Mapa final'!#REF!="Media",'Mapa final'!#REF!="Catastrófico"),CONCATENATE("R",'Mapa final'!#REF!),"") -> #REF! | AJ28: =IF(AND('Mapa final'!#REF!="Media",'Mapa final'!#REF!="Catastrófico"),CONCATENATE("R",'Mapa final'!#REF!),"") -> #REF! | AL28: =IF(AND('Mapa final'!#REF!="Media",'Mapa final'!#REF!="Catastrófico"),CONCATENATE("R",'Mapa final'!#REF!),"") -> #REF!
E30: Baja 40% | J30: =IF(AND('Mapa final'!$J$9="Baja",'Mapa final'!$N$9="Leve"),CONCATENATE("R",'Mapa final'!$A$9),"") | L30: =IF(AND('Mapa final'!$J$11="Baja",'Mapa final'!$N$11="Leve"),CONCATENATE("R",'Mapa final'!$A$11),"") | N30: =IF(AND('Mapa final'!$J$13="Baja",'Mapa final'!$N$13="Leve"),CONCATENATE("R",'Mapa final'!$A$13),"") | P30: =IF(AND('Mapa final'!$J$9="Baja",'Mapa final'!$N$9="Menor"),CONCATENATE("R",'Mapa final'!$A$9),"") | R30: =IF(AND('Mapa final'!$J$11="Baja",'Mapa final'!$N$11="Menor"),CONCATENATE("R",'Mapa final'!$A$11),"") | T30: =IF(AND('Mapa final'!$J$13="Baja",'Mapa final'!$N$13="Menor"),CONCATENATE("R",'Mapa final'!$A$13),"") | V30: =IF(AND('Mapa final'!$J$9="Baja",'Mapa final'!$N$9="Moderado"),CONCATENATE("R",'Mapa final'!$A$9),"") | X30: =IF(AND('Mapa final'!$J$11="Baja",'Mapa final'!$N$11="Moderado"),CONCATENATE("R",'Mapa final'!$A$11),"") | Z30: =IF(AND('Mapa final'!$J$13="Baja",'Mapa final'!$N$13="Moderado"),CONCATENATE("R",'Mapa final'!$A$13),"") | AB30: =IF(AND('Mapa final'!$J$9="Baja",'Mapa final'!$N$9="Mayor"),CONCATENATE("R",'Mapa final'!$A$9),"") | AD30: =IF(AND('Mapa final'!$J$11="Baja",'Mapa final'!$N$11="Mayor"),CONCATENATE("R",'Mapa final'!$A$11),"") | AF30: =IF(AND('Mapa final'!$J$13="Baja",'Mapa final'!$N$13="Mayor"),CONCATENATE("R",'Mapa final'!$A$13),"") | AH30: =IF(AND('Mapa final'!$J$9="Baja",'Mapa final'!$N$9="Catastrófico"),CONCATENATE("R",'Mapa final'!$A$9),"") | AJ30: =IF(AND('Mapa final'!$J$11="Baja",'Mapa final'!$N$11="Catastrófico"),CONCATENATE("R",'Mapa final'!$A$11),"") | AL30: =IF(AND('Mapa final'!$J$13="Baja",'Mapa final'!$N$13="Catastrófico"),CONCATENATE("R",'Mapa final'!$A$13),"") | AO30: Bajo
J32: =IF(AND('Mapa final'!#REF!="Baja",'Mapa final'!#REF!="Leve"),CONCATENATE("R",'Mapa final'!#REF!),"") -> #REF! | L32: =IF(AND('Mapa final'!#REF!="Baja",'Mapa final'!#REF!="Leve"),CONCATENATE("R",'Mapa final'!#REF!),"") -> #REF! | N32: =IF(AND('Mapa final'!#REF!="Baja",'Mapa final'!#REF!="Leve"),CONCATENATE("R",'Mapa final'!#REF!),"") -> #REF! | P32: =IF(AND('Mapa final'!#REF!="Baja",'Mapa final'!#REF!="Menor"),CONCATENATE("R",'Mapa final'!#REF!),"") -> #REF! | R32: =IF(AND('Mapa final'!#REF!="Baja",'Mapa final'!#REF!="Menor"),CONCATENATE("R",'Mapa final'!#REF!),"") -> #REF! | T32: =IF(AND('Mapa final'!#REF!="Baja",'Mapa final'!#REF!="Menor"),CONCATENATE("R",'Mapa final'!#REF!),"") -> #REF! | V32: =IF(AND('Mapa final'!#REF!="Baja",'Mapa final'!#REF!="Moderado"),CONCATENATE("R",'Mapa final'!#REF!),"") -> #REF! | X32: =IF(AND('Mapa final'!#REF!="Baja",'Mapa final'!#REF!="Moderado"),CONCATENATE("R",'Mapa final'!#REF!),"") -> #REF! | Z32: =IF(AND('Mapa final'!#REF!="Baja",'Mapa final'!#REF!="Moderado"),CONCATENATE("R",'Mapa final'!#REF!),"") -> #REF! | AB32: =IF(AND('Mapa final'!#REF!="Baja",'Mapa final'!#REF!="Mayor"),CONCATENATE("R",'Mapa final'!#REF!),"") -> #REF! | AD32: =IF(AND('Mapa final'!#REF!="Baja",'Mapa final'!#REF!="Mayor"),CONCATENATE("R",'Mapa final'!#REF!),"") -> #REF! | AF32: =IF(AND('Mapa final'!#REF!="Baja",'Mapa final'!#REF!="Mayor"),CONCATENATE("R",'Mapa final'!#REF!),"") -> #REF! | AH32: =IF(AND('Mapa final'!#REF!="Baja",'Mapa final'!#REF!="Catastrófico"),CONCATENATE("R",'Mapa final'!#REF!),"") -> #REF! | AJ32: =IF(AND('Mapa final'!#REF!="Baja",'Mapa final'!#REF!="Catastrófico"),CONCATENATE("R",'Mapa final'!#REF!),"") -> #REF! | AL32: =IF(AND('Mapa final'!#REF!="Baja",'Mapa final'!#REF!="Catastrófico"),CONCATENATE("R",'Mapa final'!#REF!),"") -> #REF!
J34: =IF(AND('Mapa final'!#REF!="Baja",'Mapa final'!#REF!="Leve"),CONCATENATE("R",'Mapa final'!#REF!),"") -> #REF! | L34: =IF(AND('Mapa final'!#REF!="Baja",'Mapa final'!#REF!="Leve"),CONCATENATE("R",'Mapa final'!#REF!),"") -> #REF! | N34: =IF(AND('Mapa final'!#REF!="Baja",'Mapa final'!#REF!="Leve"),CONCATENATE("R",'Mapa final'!#REF!),"") -> #REF! | P34: =IF(AND('Mapa final'!#REF!="Baja",'Mapa final'!#REF!="Menor"),CONCATENATE("R",'Mapa final'!#REF!),"") -> #REF! | R34: =IF(AND('Mapa final'!#REF!="Baja",'Mapa final'!#REF!="Menor"),CONCATENATE("R",'Mapa final'!#REF!),"") -> #REF! | T34: =IF(AND('Mapa final'!#REF!="Baja",'Mapa final'!#REF!="Menor"),CONCATENATE("R",'Mapa final'!#REF!),"") -> #REF! | V34: =IF(AND('Mapa final'!#REF!="Baja",'Mapa final'!#REF!="Moderado"),CONCATENATE("R",'Mapa final'!#REF!),"") -> #REF! | X34: =IF(AND('Mapa final'!#REF!="Baja",'Mapa final'!#REF!="Moderado"),CONCATENATE("R",'Mapa final'!#REF!),"") -> #REF! | Z34: =IF(AND('Mapa final'!#REF!="Baja",'Mapa final'!#REF!="Moderado"),CONCATENATE("R",'Mapa final'!#REF!),"") -> #REF! | AB34: =IF(AND('Mapa final'!#REF!="Baja",'Mapa final'!#REF!="Mayor"),CONCATENATE("R",'Mapa final'!#REF!),"") -> #REF! | AD34: =IF(AND('Mapa final'!#REF!="Baja",'Mapa final'!#REF!="Mayor"),CONCATENATE("R",'Mapa final'!#REF!),"") -> #REF! | AF34: =IF(AND('Mapa final'!#REF!="Baja",'Mapa final'!#REF!="Mayor"),CONCATENATE("R",'Mapa final'!#REF!),"") -> #REF! | AH34: =IF(AND('Mapa final'!#REF!="Baja",'Mapa final'!#REF!="Catastrófico"),CONCATENATE("R",'Mapa final'!#REF!),"") -> #REF! | AJ34: =IF(AND('Mapa final'!#REF!="Baja",'Mapa final'!#REF!="Catastrófico"),CONCATENATE("R",'Mapa final'!#REF!),"") -> #REF! | AL34: =IF(AND('Mapa final'!#REF!="Baja",'Mapa final'!#REF!="Catastrófico"),CONCATENATE("R",'Mapa final'!#REF!),"") -> #REF!
