Workbook

Sheet IDENTIFICACION DE AMENAZAS 
A1: IDENTIFICACIÓN DE AMENAZAS
A3: Fecha creacion: | C3: 45939 | D3: ENTIDAD : SISTEMA INTEGRADO DE TRASPORTE DE VALEDDUPAR
A4: fecha de actualizacion : | C4: 46101
G5: No borrar ni eliminar
A6: TIPO | C6: ORIGEN | D6: DESCRIPCIÓN DE LA FUENTE | E6: CALIFICACIÓN
A7: NATURALES | B7: Sismo | C7: Externo | D7: Ubicación en una zona de mediana sismicidad | E7: Posible | G7: Posible | H7: Externo
B8: Inundación | C8: Externo - interno | D8: Rotura de tubería agua en tuberias de los baños o tuberías de la calle cercanas | E8: Posible | G8: Probable | H8: Interno
A9: TECNOLÓGICAS | B9: Incendio | C9: Interno | D9: Se podría presentar un incendio por corto circuito, sobrecarga eléctrica, falla en equipos o por la presencia de archivo y elementos de madera. | E9: Posible
B10: Explosión | C10: Externo - interno | D10: Fuentes de gas en la zona | E10: Posible
B11: Emergencia medica (Accidente) | C11: Interno | D11: Se podrian presentar accidentes a los trabajadores presentes en las instalaciones que requieran atención médica | E11: Posible
B12: Derrame de sustancias peligrosas | C12: Externo | D12: se podrian presentar derrames de sustancias como aceites, grasas, liquidos de frenos etc | E12: Posible
B13: Electrocucion | C13: Interno | D13: se podria presentar contacto accidental con los tomacorrientes, cables eléctricos o partes expuestas de cables o aparatos eléctricos. Chispas de arcos eléctricos provenientes de líneas de alto voltaje. | E13: Posible
B14: Colapso estructural | C14: Interno | D14: Como consecuencia de un sismo o fallas en los anclajes de los estantes, se podría presentar un colapso de elementos no estructurales | E14: Posible
A15: SOCIAL | B15: Atentados /Amenaza de bomba | C15: Externo | D15: Podría presentarse por la presencia de grupos ilegales al margen de la ley en la zona | E15: Posible
B16: Vandalismo / Disturbios | C16: Externo | D16: Podrian presentarse actos de vandalismo o disturbios | E16: Posible
B17: Robos / Atracos | C17: Externo | D17: Podría presentarse intento de robo de personas externas que ingresen a las instalaciones | E17: Posible

Sheet  ANALISIS DE VULNERABILIDAD 
A1: ANÁLISIS DE VULNERABILIDAD | H1: 1 | I1: 0 | J1: 0.5
A2: Fecha de creacion : 09/10/2025 Proyecto : Sistema integrado de trasporte de valledupar
D3: RESULTADO VULNERABILIDAD | H3: No borrar | L3: NOTA: Las celdas de color rosado están formuladas, no modificar
D4: =IFERROR(E33,"") -> Baja | E4: Vulnerabilidad en las personas
D5: =IFERROR(E55,"") -> Baja | E5: Vulnerabilidad en los recursos
D6: =IFERROR(E77,"") -> Baja | E6: Vulnerabilidad en los sistemas y procesos
A8: VULNERABILIDAD EN LAS PERSONAS
A9: ASPECTO A EVALUAR | C9: CALIFICACIÓN | E9: RECOMENDACIONES | AB9: CALIFICACIÓN
A10: 1. Gestión Organizacional | AB10: VALOR | AC10: INTERPRETACIÓN
A11: ¿Se garantizan los procesos para identificar y responder las necesidades relacionadas con la preparación para emergencia y desastres? | C11: 1 | E11: si se identifican en el plan de emergencia | AB11: 1 | AC11: Cumple
A12: ¿Existe un esquema organizacional para la respuesta a emergencias con funciones y responsables asignados? | C12: 1 | E12: Se cuenta con un jefe de brigada, un suplente de brigada y una brigada integral | AB12: 0.5 | AC12: Cumple parcial
A13: ¿Se realizan simulacros de emergencias? | C13: 1 | E13: Esta programado para el 28 de noviembre, se va a reliazar encompañia de la ARL | AB13: 0 | AC13: No cumple
A14: ¿Han establecido mecanismos de interacción con su entorno que faciliten dar respuesta apropiada a los eventos que se puedan presentar? | C14: 1 | E14: se dictaron recomendaciones para la estadia en la nueva sede
A15: ¿Se cuenta con un programa de inspecciones a las áreas para identificar condiciones inseguras que puedan generar una emergencia y que aseguren la revisión de los elementos para atención de emergencias? | C15: 1 | E15: se han realizado inspecciones mensuales a toda el area y elementos de emergencia
A16: ¿El plan de emergencias se encuentra aterrizado a la realidad del sitio de trabajo y es revisado periodicamente? | C16: 1 | E16: se cuenta con plan de emergencia, revisado y actualizado, cumpliendo con todas las necesidades del proyecto
A17: Promedio Gestión Organizacional | C17: =IFERROR(AVERAGEA(C11:D16),"") -> 1
A18: 2. Capacitación y entrenamiento .
A19: ¿Se comunican pautas sobre emergencias a todos los trabajadores que se encuentran en el sitio de trabajo? | C19: 1 | E19: se encuentra en oficina un afiche donde el cual es divulgado y socializado a los visitantes. Informando sobre que hacer en caso de emergencia
A20: ¿Todos los trabajadores se han capacitado en prevención y respuesta a emergencias? | C20: 1 | E20: si, ya que han participado en las diferentes capacitaciones y charlas de sst programadas en el año 2024
A21: ¿El personal de la brigada de emergencias se encuentra capacitada? | C21: 1 | E21: el personal recibe induccion SIG, ademas de esto dentro del plan de capacitaciones se realizan capaciitaciones relacionadas con la atencion de emergencias
A22: ¿El personal de la brigada de emergencias ha participado en entrenamientos en temas de control de emergencias? | C22: 1 | E22: se tiene programara capacitacion, en compañía de la ARL para le mes de noviembre, pero se han capacitado debidamente en las reuniones trimestrales.
A23: ¿Se cuenta con plan de emergencias actualizado? | C23: 1 | E23: Plan de emeregencia fue actualzado el 09/10/2024 en su version Nº3
A24: ¿Se cuenta con mecanismos de difusión en temas de prevención y respuesta a emergencias? | C24: 1 | E24: si se cuenta con un tablero donde se encuentra divulgado la ruta de evacuacion y se ha socializado en charlas el plano locativo
A25: Promedio capacitación y entrenamiento | C25: =IFERROR(AVERAGEA(C19:D24),"") -> 1
A26: 3.Caracteristicas de seguridad
A27: ¿Se ha identificado y clasificado el personal fijo y flotante en los diferentes horarios laborales y no laborales? | C27: 1 | E27: si se cuentan identificados
A28: ¿Los brigadistas están identificados? | C28: 1 | E28: si estan identificados y se divulgaron cuando se realizo la induccion y reinduccion del sg-sst
A29: ¿Existe dotación para el comité de emergencia? | C29: 1 | E29: se tienen chalecos debidamente marcados, brazaletes, silvatos etc
A30: ¿Se cuenta con elementos de protección personal para la respuesta a emergencias, de acuerdo con las amenazas identificadas y las necesidades de la entidad ? | C30: 1 | E30: si se tiene todo los elementos y señalizacion pertinente para actual debidamente en cado de emergencia
A31: Promedio características de seguridad | C31: =IFERROR(AVERAGEA(C27:D30),"") -> 1
A32: RESULTADO VULNERABILIDAD EN LAS PERSONAS | E32: =IFERROR(SUM(C17+C25+C31),"") -> 3
A33: INTERPRETACIÓN RESULTADOS PERSONAS | E33: =IF(AND(E32>=0,E32<=1),"Alta",IF(AND(E32>1,E32<=2),"Media",IF(E32<=3,"Baja",""))) -> Baja
A35: VULNERABILIDAD EN LOS RECURSOS
A36: ASPECTO A EVALUAR | C36: CALIFICACIÓN | E36: RECOMENDACIONES
A37: 1. Materiales / Suministros
A38: ¿Se cuenta con las hojas de seguridad de las sustancias quimicas? | C38: 1 | E38: se capacito a la persona encargada de la manipulacion y se le entrego una carpeta con todas las hojas de seguridad de las sustancias que manipula
A39: ¿Se cuenta con implementos para la atención de emergencias como: camillas, botiquines, extintores, entre otros? | C39: 1 | E39: En oficina se cuenta con 1 botiquin, 1 camilla, 2 extintores.
A40: Promedio suministros | C40: =IFERROR(AVERAGEA(C38:D39),"") -> 1
A41: 2. Edificación
A42: ¿El tipo de construcción es sismo-resistente o cuenta con un refuerzo estructural? | C42: 1
A43: ¿Están definidas y señalizadas las rutas de evacuación y salidas de emergencia? | C43: 1 | E43: se cuenta con señalizacion de rutas de evacuacion y salidas de emergencias
A44: ¿Hay mas de una salida de emergencias? | C44: 1 | E44: se cuenta con dos salidas de emergencia
A45: ¿Están publicados los planos de evacuación? | C45: 1 | E45: Se encuentra publicado en oficina el plano de evacuacion
A46: ¿Se tienen asegurados o anclados los estantes, racks y elementos que puedan caer? | C46: 1 | E46: los estantes y demas elementos que puedan caerse se enceuntran fijos para evitar sus caidas.
A47: Promedio edificación | C47: =IFERROR(AVERAGEA(C42:D46),"") -> 1
A48: 3. Equipos
A49: ¿Se cuenta con sistemas de detección de incendios? | C49: 1 | E49: si detector de humo
A50: ¿Se cuenta con algún sistema de alarma en caso de emergencia? | C50: 1 | E50: se cuenta con un pito
A51: ¿Se cuenta con un sistema de comunicaciones internas para la respuesta a emergencias? | C51: 1 | E51: el tipo de comunicación interna a utlizar en caso de emergencia es por llamadas telefonicas.
A52: ¿Se cuenta con rociadores automáticos para casos de incendio? | C52: 0 | E52: no se cuenta con rociadores automaticos, el sistema contraincendios en oficina es de tipo seco ( extintores)
A53: Promedio equipos | C53: =IFERROR(AVERAGEA(C49:D52),"") -> 0.75
A54: RESULTADO VULNERABILIDAD EN LOS RECURSOS | E54: =IFERROR(SUM(C40+C47+C53),"") -> 2.75
A55: INTERPRETACIÓN RESULTADOS RECURSOS | E55: =IF(AND(E54>=0,E54<=1),"Alta",IF(AND(E54>1,E54<=2),"Media",IF(E54<=3,"Baja",""))) -> Baja
A57: VULNERABILIDAD EN SISTEMAS Y PROCESOS
A58: ASPECTO A EVALUAR | C58: CALIFICACIÓN | E58: RECOMENDACIONES
A59: 1. Servicios públicos
A60: ¿Se cuenta con suministro de energía permanente? | C60: 1 | E60: se cuenta con el servicio de energia de forma permante durante toda la jornada laboral,este servicio es prestado por la empresa AFINIA.
A61: ¿Se cuenta con suministro de agua permanente? | C61: 1 | E61: el suministro de agua es permanente y se garantiza durante toda la jornada laboral, el servicio es prestado por la empresa EMDUPAR
A62: ¿Se cuenta con un programa de gestión de residuos? | C62: 1 | E62: mensualmente los residuos solidos generados en oficina son entregados a la empresa encargadada de la recoleccion de los mismos ASEO DEL NORTE.
A63: Promedio servicios | C63: =IFERROR(AVERAGEA(C60:D62),"") -> 1
A64: 2. Sistemas alternos
A65: ¿Se cuenta con tanques de almacenamiento de agua potable? | C65: 1
A66: ¿Se cuenta con planta eléctrica? | C66: 1
A67: ¿Se cuenta con hidrantes externos cerca? | C67: 0 | E67: no existe la presencia en la zona de hidrantes externos
A68: ¿Se cuenta con alarma conectada a una central de seguridad? | C68: 1
A69: Promedio sistemas alternos | C69: =IFERROR(AVERAGEA(C65:D68),"") -> 0.75
A70: 3. Recuperación
A71: ¿Se tienen identificados los procesos vitales para el funcionamiento de las instalaciones | C71: 1
A72: ¿Se cuenta con algún sistema de seguros para los trabajadores? | C72: 1 | E72: Todos los trabajadores tienen afiliación a ARL
A73: ¿Se cuenta con plan de continuidad del negocio? | C73: 1
A74: ¿Se cuenta con seguro de instalaciones y/o bienes? | C74: 1
A75: Promedio recuperación | C75: =IFERROR(AVERAGEA(B71:D74),"") -> 1
A76: RESULTADO VULNERABILIDAD EN LOS SISTEMAS Y PROCESOS | E76: =IFERROR(SUM(C63+C69+C75),"") -> 2.75
A77: INTERPRETACIÓN RESULTADOS SISTEMAS Y PROCESOS | E77: =IF(AND(E76>=0,E76<=1),"Alta",IF(AND(E76>1,E76<=2),"Media",IF(E76<=3,"Baja",""))) -> Baja

Sheet Nivel de riesgo
B2: NIVEL DEL RIESGO
B3: Análisis de amenaza | E3: Análisis de Vulnerabilidad | T3: Nivel de riesgo
E4: Personas | J4: Recursos | O4: Sistemas y Procesos
B5: Amenaza | C5: Calificación | D5: Color | E5: Gestión organizacional | F5: Capacitación | G5: Caracteristicas de seguridad | H5: Total vulnerabilidad Personas | I5: Color | J5: Suministros | K5: Edificación | L5: Equipos | M5: Total vulnerabilidad Recursos | N5: Color | O5: Servicios | P5: sistemas Alternos | Q5: Recuperación | R5: Total vulnerabilidad Sistemas | S5: Color | T5: Diamante | U5: Interpretación
B6: Sismo | C6: ='IDENTIFICACION DE AMENAZAS '!E7 -> Posible | E6: =' ANALISIS DE VULNERABILIDAD '!C17 -> 1 | F6: =' ANALISIS DE VULNERABILIDAD '!C25 -> 1 | G6: =' ANALISIS DE VULNERABILIDAD '!C31 -> 1 | H6: =SUM(E6:G6) -> 3 | J6: =' ANALISIS DE VULNERABILIDAD '!C40 -> 1 | K6: =' ANALISIS DE VULNERABILIDAD '!C47 -> 1 | L6: =' ANALISIS DE VULNERABILIDAD '!C53 -> 0.75 | M6: =SUM(J6:L6) -> 2.75 | O6: =' ANALISIS DE VULNERABILIDAD '!C63 -> 1 | P6: =' ANALISIS DE VULNERABILIDAD '!C69 -> 0.75 | Q6: =' ANALISIS DE VULNERABILIDAD '!C75 -> 1 | R6: =SUM(O6:Q6) -> 2.75 | U6: MEDIO
B7: Inundación | C7: ='IDENTIFICACION DE AMENAZAS '!E8 -> Posible | D7: =C7 -> Posible | E7: =$E$6 -> 1 | F7: =$F$6 -> 1 | G7: =$G$6 -> 1 | H7: =SUM(E7:G7) -> 3 | J7: =$J$6 -> 1 | K7: =$K$6 -> 1 | L7: =$L$6 -> 0.75 | M7: =SUM(J7:L7) -> 2.75 | O7: =$O$6 -> 1 | P7: =$P$6 -> 0.75 | Q7: =$Q$6 -> 1 | R7: =SUM(O7:Q7) -> 2.75 | U7: MEDIO
B8: Incendio | C8: ='IDENTIFICACION DE AMENAZAS '!E9 -> Posible | D8: =C8 -> Posible | E8: =$E$6 -> 1 | F8: =$F$6 -> 1 | G8: =$G$6 -> 1 | H8: =SUM(E8:G8) -> 3 | J8: =$J$6 -> 1 | K8: =$K$6 -> 1 | L8: =$L$6 -> 0.75 | M8: =SUM(J8:L8) -> 2.75 | O8: =$O$6 -> 1 | P8: =$P$6 -> 0.75 | Q8: =$Q$6 -> 1 | R8: =SUM(O8:Q8) -> 2.75 | U8: MEDIO
B9: Explosión | C9: ='IDENTIFICACION DE AMENAZAS '!E10 -> Posible | D9: =C9 -> Posible | E9: =$E$6 -> 1 | F9: =$F$6 -> 1 | G9: =$G$6 -> 1 | H9: =SUM(E9:G9) -> 3 | J9: =$J$6 -> 1 | K9: =$K$6 -> 1 | L9: =$L$6 -> 0.75 | M9: =SUM(J9:L9) -> 2.75 | O9: =$O$6 -> 1 | P9: =$P$6 -> 0.75 | Q9: =$Q$6 -> 1 | R9: =SUM(O9:Q9) -> 2.75 | U9: MEDIO | X9: BAJO
B10: Emergencia Medica (Accidente) | C10: ='IDENTIFICACION DE AMENAZAS '!E11 -> Posible | D10: =C10 -> Posible | E10: =$E$6 -> 1 | F10: =$F$6 -> 1 | G10: =$G$6 -> 1 | H10: =SUM(E10:G10) -> 3 | J10: =$J$6 -> 1 | K10: =$K$6 -> 1 | L10: =$L$6 -> 0.75 | M10: =SUM(J10:L10) -> 2.75 | O10: =$O$6 -> 1 | P10: =$P$6 -> 0.75 | Q10: =$Q$6 -> 1 | R10: =SUM(O10:Q10) -> 2.75 | U10: MEDIO | X10: ALTO
B11: Colapso estructural | C11: ='IDENTIFICACION DE AMENAZAS '!E14 -> Posible | D11: =C11 -> Posible | E11: =$E$6 -> 1 | F11: =$F$6 -> 1 | G11: =$G$6 -> 1 | H11: =SUM(E11:G11) -> 3 | J11: =$J$6 -> 1 | K11: =$K$6 -> 1 | L11: =$L$6 -> 0.75 | M11: =SUM(J11:L11) -> 2.75 | O11: =$O$6 -> 1 | P11: =$P$6 -> 0.75 | Q11: =$Q$6 -> 1 | R11: =SUM(O11:Q11) -> 2.75 | U11: MEDIO
B12: Amenaza Terrorista | C12: ='IDENTIFICACION DE AMENAZAS '!E15 -> Posible | D12: =C12 -> Posible | E12: =$E$6 -> 1 | F12: =$F$6 -> 1 | G12: =$G$6 -> 1 | H12: =SUM(E12:G12) -> 3 | J12: =$J$6 -> 1 | K12: =$K$6 -> 1 | L12: =$L$6 -> 0.75 | M12: =SUM(J12:L12) -> 2.75 | O12: =$O$6 -> 1 | P12: =$P$6 -> 0.75 | Q12: =$Q$6 -> 1 | R12: =SUM(O12:Q12) -> 2.75 | U12: MEDIO
B13: Incidente con asaltos o robos | C13: ='IDENTIFICACION DE AMENAZAS '!E17 -> Posible | D13: =C13 -> Posible | E13: =$E$6 -> 1 | F13: =$F$6 -> 1 | G13: =$G$6 -> 1 | H13: =SUM(E13:G13) -> 3 | J13: =$J$6 -> 1 | K13: =$K$6 -> 1 | L13: =$L$6 -> 0.75 | M13: =SUM(J13:L13) -> 2.75 | O13: =$O$6 -> 1 | P13: =$P$6 -> 0.75 | Q13: =$Q$6 -> 1 | R13: =SUM(O13:Q13) -> 2.75 | U13: MEDIO

Sheet IA1
B2: INSTRUCTIVO PARA EL DILIGENCIAMIENTO DEL FORMATO
B3: ANEXO 1. INFORMACIÓN CENTRO DE TRABAJO
B5: Señor (a), le recomendamos leer cuidadosamente estas instrucciones antes de diligenciar el registro
B7: 1. Centro de trabajo: Indique el nombre del centro de trabajo,etc.
B8: 2. Dirección: Diligencie la dirección en forma clara y sin abreviaturas del sitio donde está ubicado el centro de trabajo.
B9: 3. Teléfono: Diligencie el Numero del Teléfono correspondiente al centro de trabajo.
B10: 4. Limites: Registre los limites representativos (ríos, edificaciones, caños, etc.) con los que limita el centro de trabajo (sur, norte, este y oeste).
B11: 5. Mapa: Adjunte el mapa geográfico, cartográfico, topográfico, etc., del centro de trabajo y su ubicación relativa en el espacio.
B12: 6. Áreas o secciones:Relacione las secciones del centro de trabajo, ejemplo, oficinas, cuartos de archivo, cafetería, etc.
B13: 7. Aspectos generales de la edificación: Indique los materiales de construcción y de acabado del centro de trabajo.
B14: 8. Combustibles: Relacione los combustibles sólidos (madera, papel, cartón, etc.)y / o líquidos como el alcohol o el ACPM de la plana eléctrica.
B15: 9. Servicios públicos: Indique si el centro de trabajo cuenta con los servicios de agua y alcantarillado, energia eléctrica y recolección de basuras.
... B22: 16. Carga ocupacional: Indique el numero de personas que se encuentran en las instalaciones del centro de trabajo: permanentes, temporales, máxima.

Sheet IA2
B2: INSTRUCTIVO PARA EL DILIGENCIAMIENTO DEL FORMATO
B3: ANEXO 2. INVENTARIO DE RECURSOS
B4: Señor (a), le recomendamos leer cuidadosamente estas instrucciones antes de diligenciar el registro
B5: EXTINTORES
B6: 1. No: Diligencie el numero consecutivo.
B7: 2. TIPO: Registrar el tipo de fuego y/o agente químico del extintor
B8: 3. CAPACIDAD: Registre la capacidad en libras, galones o gramos del extintor.
B9: 4. UBICACIÓN: Registre de manera concreta el área donde se va a ubicar o está ubicado el extintor.
B10: HIDRANTES EXTERNOS
B11: 1. No: Diligencie el numero consecutivo siguiente de acuerdo al anterior ítem.
B12: 2. UBICACIÓN: Registre de manera concreta el área donde se va a ubicar el hidrante.
B13: GABINETES CONTRA INCENDIOS
... B65: 2. UBICACIÓN: Registre de manera concreta el área donde están ubicados los recursos adicionales

Sheet IA3
B2: INSTRUCTIVO PARA EL DILIGENCIAMIENTO DEL FORMATO
B3: ANEXO 3. MIEMBROS ESTRUCTURA DE EMERGENCIAS
B5: Señor (a), le recomendamos leer cuidadosamente estas instrucciones antes de diligenciar el registro
B7: 1. CARGO EN LA ESTRUCTURA: Indique el Cargo que desempeña el trabajador en la estructura de emergencia del centro de trabajo
B8: 2. CARGO EN LA EMPRESA: Indique el Cargo que desempeña el trabajador en la Empresa.
B9: 3. NOMBRE: Escriba el nombre(s) y apellido(s) completos del trabajador que pertenece a la estructura de Emergencia.
B10: 4. TELÉFONO OFICINA / EXT.: Diligencie el Numero del Teléfono correspondiente al centro de trabajo.

Sheet IA4
B2: INSTRUCTIVO PARA EL DILIGENCIAMIENTO DEL FORMATO
B3: ANEXO 4. CADENA DE LLAMADAS
B5: Señor (a), le recomendamos leer cuidadosamente estas instrucciones antes de diligenciar el registro
B7: 1. CARGO: Indique el Cargo que desempeña el trabajador en la estructura de la Brigada de Emergencias.
B8: 2. NOMBRE: Escriba el nombre completo de las personas que integran la estructura de llamadas internas.
B9: 3. TELEFONOS: Diligencie el Numero del Teléfono correspondiente de las personas que integran la estructura de llamadas internas del centro de trabajo.
B10: 4. INSTITUCIONES: Diligencie el nombre oficial de cada situación: socorro, salud, seguridad, otras.
B11: 5. DIRECCIÓN : Diligencie la dirección en forma clara y sin abreviaturas la dirección de cada institución
B12: 6. TELEFONOS: Diligencie el Numero del Teléfono correspondiente a cada institución.

Sheet IA5
B2: INSTRUCTIVO PARA EL DILIGENCIAMIENTO DEL FORMATO
B3: ANEXO 5. ANÁLISIS DE AMENAZAS
B5: Señor (a), le recomendamos leer cuidadosamente estas instrucciones antes de diligenciar el registro
B7: 1. AMENAZA: Indique el tipo de amenaza que se puede presentar en el centro de trabajo: NATURALES, TECNOLÓGICOS, SOCIALES, etc.
B8: 2. INTERNO: Registre si la amenaza es de origen interno, se coloca una equis (X).
B9: 3. EXTERNO: Registre si la amenaza es de origen externo, se coloca una equis (X).
B10: 4. FUENTE DE RIESGO: Diligencie la fuente generadora del riesgo para cada una de las amenazas.
B11: 5. CALIFICACIÓN: Diligencie la calificación de cada amenaza, seleccione de acuerdo a los siguientes criterios: Posible: Nunca ha sucedido, Probable: Puede suceder hay argumentos técnicos y científicos. Inminente: Ya se ha presentado o hay alta probabilidad de ocurrir.
B12: 6. COLOR: Asigne el color que corresponda al rombo, de acuerdo a la calificación realizada POSIBLE Verde. PROBABLE Amarrillo. ROJO Inminente. Adicionalmente inscriba en el rombo inferior la letra A.

Sheet IA6
B2: INSTRUCTIVO PARA EL DILIGENCIAMIENTO DEL FORMATO
B3: ANEXO 6. ANÁLISIS DE VULNERABILIDAD
B5: Señor (a), le recomendamos leer cuidadosamente estas instrucciones antes de diligenciar el registro
B6: Para cada una de las amenazas identificadas, realice el análisis de vulnerabilidad en las personas, en los recursos y en los sistemas y procesos, de acuerdo a lo establecido a continuación.
B7: VULNERABILIDAD EN LAS PERSONAS
B8: 1. PUNTO VULNERABLE: Describe cada uno de los aspectos que definen la vulnerabilidad del centro de trabajo.
B9: 2. OBSERVACIÓN: Registrar la información que se considere relevante sobre cada uno de los puntos vulnerables (en caso de requerirse).
B10: 3. CALIFICACIÓN: Realice la calificación de cada punto vulnerable, aplique los siguientes criterios: 0.0: SE CUMPLE, 0.5: SE CUMPLE PARCIAL, 1.0: NO SE CUMPLE
B11: 4. RECOMENDACIÓN: Mencione las medidas de intervención recomendadas con el propósito de reducir la vulnerabilidad de cada punto.
B12: 5. SEGUIMIENTO A RECOMENDACIÓN: Registre las evidencias del cierre eficaz de cada una de las recomendaciones.
B13: 6. SUBTOTAL: Muestra el promedio de las calificaciones para cada uno de los aspectos analizados.
B14: 7.CALIFICACION: Muestra la suma de los promedios para cada uno de los aspectos evaluados.
... B19: VULNERABILIDAD EN LAS SISTEMAS Y PROCESOS

Sheet IA7
B2: INSTRUCTIVO PARA EL DILIGENCIAMIENTO DEL FORMATO
B3: ANEXO 7. NIVEL DE RIESGO
B5: Señor (a), le recomendamos leer cuidadosamente estas instrucciones antes de diligenciar el registro
B8: 1. AMENAZA: Muestra los tipos de amenazas que se presentan en el centro de trabajo: NATURALES, TECNOLÓGICOS, SOCIALES, etc.
B9: 2. DIAMANTE DE RIESGO Para cada una de las amenazas identificadas, elabore el diamante de riesgo, teniendo en cuenta que la posición que ocupa cada rombo es: Posición de la izquierda: en las personas, posición central arriba: en los recursos, posición derecha: en los sistemas y procesos, posición central abajo: amenazas.
B10: 3. INTERPRETACION: De acuerdo a los resultados obtenidos en el diamante de riesgo para cada amenaza, determine la calificación del riesgo, con base en los siguientes criterios: Si no existen rombos rojos y la cantidad de rombos amarillos es de 1 o 2, la calificación es BAJO. Si la cantidad de rombos de color rojo es de 1 o 2, la cantidad de rombos de color amarillo es de 3 o 4 y no existen rombos verdes, la calificación es MEDIO. Si la cantidad de rombos rojos es de 3 o 4, sin importar el color de los otros rombos, la calificación es ALTO.

Sheet IA8
B2: INSTRUCTIVO PARA EL DILIGENCIAMIENTO DEL FORMATO
B3: ANEXO 8. PLAN DE EVACUACIÓN
B5: Señor (a), le recomendamos leer cuidadosamente estas instrucciones antes de diligenciar el registro
B7: 1. SISTEMA DE ALARMA: Relacione la codificación que se tiene en el centro de trabajo para la alerta y para la alarma
B9: 2. CUÁNDO EVACUAR: Indique en qué casos se debe evacuar (ejemplo en incendios), cuando protegerse (ejemplo en sismos) cuándp evaluar (ejemplo en llamadas por amenaza de .
B10: 3. RUTAS DE EVACUACIÓN: Relacione las rutas de evacuación del centro de trabajo para las diferentes áreas y complemente la información adjunto los planos con la ubicación de rutas, salidas y recursos para el control de emergencias.
B11: 4. PUNTO DE ENCUENTRO EN CASO DE EVACUACIÓN: Registre en formato de texto y adjunte la imagen que identifique el punto de encuentro.
B12: 5. PROCEDIMIENTOS: Relacione los procedimientos en caso de evacuación para los siguientes roles: coordinador de emergencia, brigadistas, empleados, vigilantes, visitantes y comité de emergencia.

Sheet IA9
A2: INSTRUCTIVO PARA EL DILIGENCIAMIENTO DEL FORMATO
A3: ANEXO 9. PROCEDIMIENTOS EN CASO DE
A5: Señor (a), le recomendamos leer cuidadosamente estas instrucciones antes de diligenciar el registro.
A6: 1. PROCEDIMIENTOS EN CASO DE: Escribir el nombre de la amenaza (ejemplo, incendio, sismo, anegación, etc.).
A7: 2. RECURSOS: Relacione los recursos que tiene el centro de trabajo para controlar el evento, ejemplo extintores o botiquines y camillas, asi como los recursos para las comunicaciones.
A8: 3. QUÉ HACER ANTES: Relacione las actividades que se deben realizar en el centro de trabajo antes que se materialice la amenaza,ejemplo, capacitar al personal en manejo de extintores o realizar inspección y prueba al sistema hidráulico.
A9: 4. QUÉ HACER DURANTE: Relacione las actividades que debe realizar cada integrante de la estructura de emergencias en el evento específico
A10: 5. QUÉ HACEFR DESPUÉS: Indique las acciones que se deben realizar después de controlado el evento, ejemplo investigar o justar el procedimiento.
