Workbook

Sheet Puntuación (NO MOVER)
B2: PUNTUACION SECCION A | M2: PUNTUACION SECCION C | AA2: PUNTUACION FINAL R.O.S.A.
D3: BRAZOS Y RESPALDO | O3: TECLADO | AC3: MONITOR Y PERIFERICOS : SECCION D
B4: ALTURA Y PROFUNIDAD DEL ASIENTO | D4: 2 | E4: 3 | F4: 4 | G4: 5 | H4: 6 | I4: 7 | J4: 8 | K4: 9 | M4: MOUSE | O4: 0 | P4: 1 | Q4: 2 | R4: 3 | S4: 4 | T4: 5 | U4: 6 | V4: 7 | AA4: SILLA: SECCION A | AD4: 1 | AE4: 2 | AF4: 3 | AG4: 4 | AH4: 5 | AI4: 6 | AJ4: 7 | AK4: 8 | AL4: 9 | AM4: 10
C5: 2 | D5: 2 | E5: 2 | F5: 3 | G5: 4 | H5: 5 | I5: 6 | J5: 7 | K5: 8 | N5: 0 | O5: 1 | P5: 1 | Q5: 1 | R5: 2 | S5: 3 | T5: 4 | U5: 5 | V5: 6 | AB5: 1 | AC5: 1 | AD5: 1 | AE5: 2 | AF5: 3 | AG5: 4 | AH5: 5 | AI5: 6 | AJ5: 7 | AK5: 8 | AL5: 9 | AM5: 10
C6: 3 | D6: 2 | E6: 2 | F6: 3 | G6: 4 | H6: 5 | I6: 6 | J6: 7 | K6: 8 | N6: 1 | O6: 1 | P6: 1 | Q6: 2 | R6: 3 | S6: 4 | T6: 5 | U6: 6 | V6: 7 | AB6: 2 | AC6: 2 | AD6: 2 | AE6: 2 | AF6: 3 | AG6: 4 | AH6: 5 | AI6: 6 | AJ6: 7 | AK6: 8 | AL6: 9 | AM6: 10
C7: 4 | D7: 3 | E7: 3 | F7: 3 | G7: 4 | H7: 5 | I7: 6 | J7: 7 | K7: 8 | N7: 2 | O7: 1 | P7: 2 | Q7: 2 | R7: 3 | S7: 4 | T7: 5 | U7: 6 | V7: 7 | AB7: 3 | AC7: 3 | AD7: 3 | AE7: 3 | AF7: 3 | AG7: 4 | AH7: 5 | AI7: 6 | AJ7: 7 | AK7: 8 | AL7: 9 | AM7: 10
C8: 5 | D8: 4 | E8: 4 | F8: 4 | G8: 4 | H8: 5 | I8: 6 | J8: 7 | K8: 8 | N8: 3 | O8: 2 | P8: 3 | Q8: 3 | R8: 3 | S8: 5 | T8: 6 | U8: 7 | V8: 8 | AB8: 4 | AC8: 4 | AD8: 4 | AE8: 4 | AF8: 4 | AG8: 4 | AH8: 5 | AI8: 6 | AJ8: 7 | AK8: 8 | AL8: 9 | AM8: 10
C9: 6 | D9: 5 | E9: 5 | F9: 5 | G9: 5 | H9: 6 | I9: 7 | J9: 8 | K9: 9 | N9: 4 | O9: 3 | P9: 4 | Q9: 4 | R9: 5 | S9: 5 | T9: 6 | U9: 7 | V9: 8 | AB9: 5 | AC9: 5 | AD9: 5 | AE9: 5 | AF9: 5 | AG9: 5 | AH9: 5 | AI9: 6 | AJ9: 7 | AK9: 8 | AL9: 9 | AM9: 10
C10: 7 | D10: 6 | E10: 6 | F10: 6 | G10: 7 | H10: 7 | I10: 8 | J10: 8 | K10: 9 | N10: 5 | O10: 4 | P10: 5 | Q10: 5 | R10: 6 | S10: 6 | T10: 7 | U10: 8 | V10: 9 | AB10: 6 | AC10: 6 | AD10: 6 | AE10: 6 | AF10: 6 | AG10: 6 | AH10: 6 | AI10: 6 | AJ10: 7 | AK10: 8 | AL10: 9 | AM10: 10
C11: 8 | D11: 7 | E11: 7 | F11: 7 | G11: 8 | H11: 8 | I11: 9 | J11: 9 | K11: 9 | N11: 6 | O11: 5 | P11: 6 | Q11: 6 | R11: 7 | S11: 7 | T11: 8 | U11: 8 | V11: 9 | AB11: 7 | AC11: 7 | AD11: 7 | AE11: 7 | AF11: 7 | AG11: 7 | AH11: 7 | AI11: 7 | AJ11: 7 | AK11: 8 | AL11: 9 | AM11: 10
N12: 7 | O12: 6 | P12: 7 | Q12: 7 | R12: 8 | S12: 8 | T12: 9 | U12: 9 | V12: 9 | AB12: 8 | AC12: 8 | AD12: 8 | AE12: 8 | AF12: 8 | AG12: 8 | AH12: 8 | AI12: 8 | AJ12: 8 | AK12: 8 | AL12: 9 | AM12: 10
AB13: 9 | AC13: 9 | AD13: 9 | AE13: 9 | AF13: 9 | AG13: 9 | AH13: 9 | AI13: 9 | AJ13: 9 | AK13: 9 | AL13: 9 | AM13: 10
B14: PUNTUACION SECCION B | M14: PUNTUACION SECCION D: MONITOR Y PERIFERICOS | AC14: 10 | AD14: 10 | AE14: 10 | AF14: 10 | AG14: 10 | AH14: 10 | AI14: 10 | AJ14: 10 | AK14: 10 | AL14: 10 | AM14: 10
D15: MONITOR | O15: MOUSE Y TECLADO : SECCION C
B16: TELEFONO | D16: 0 | E16: 1 | F16: 2 | G16: 3 | H16: 4 | I16: 5 | J16: 6 | K16: 7 | M16: MONITOR Y TELÉFONO: SECCION B | O16: 1 | P16: 2 | Q16: 3 | R16: 4 | S16: 5 | T16: 6 | U16: 7 | V16: 8 | W16: 9 | AA16: PUNTUACION FINAL
C17: 0 | D17: 1 | E17: 1 | F17: 1 | G17: 2 | H17: 3 | I17: 4 | J17: 5 | K17: 6 | N17: 1 | O17: 1 | P17: 2 | Q17: 3 | R17: 4 | S17: 5 | T17: 6 | U17: 7 | V17: 8 | W17: 9 | AA17: 1 - 4 | AC17: NO PRECISAN INTERVENCION INMEDIATA
C18: 1 | D18: 1 | E18: 1 | F18: 2 | G18: 2 | H18: 3 | I18: 4 | J18: 5 | K18: 6 | N18: 2 | O18: 2 | P18: 2 | Q18: 3 | R18: 4 | S18: 5 | T18: 6 | U18: 7 | V18: 8 | W18: 9 | AA18: 5 + | AC18: SE CONSIDERA DE ALTO RIESGO Y EL PUESTO DEBE SER INTERVENIDO DE FORMA INMEDIATA
C19: 2 | D19: 1 | E19: 2 | F19: 2 | G19: 3 | H19: 3 | I19: 4 | J19: 6 | K19: 7 | N19: 3 | O19: 3 | P19: 3 | Q19: 3 | R19: 4 | S19: 5 | T19: 6 | U19: 7 | V19: 8 | W19: 9
C20: 3 | D20: 2 | E20: 2 | F20: 3 | G20: 3 | H20: 4 | I20: 5 | J20: 6 | K20: 8 | N20: 4 | O20: 4 | P20: 4 | Q20: 4 | R20: 4 | S20: 5 | T20: 6 | U20: 7 | V20: 8 | W20: 9
C21: 4 | D21: 3 | E21: 3 | F21: 4 | G21: 4 | H21: 5 | I21: 6 | J21: 7 | K21: 8 | N21: 5 | O21: 5 | P21: 5 | Q21: 5 | R21: 5 | S21: 5 | T21: 6 | U21: 7 | V21: 8 | W21: 9
C22: 5 | D22: 4 | E22: 4 | F22: 5 | G22: 5 | H22: 6 | I22: 7 | J22: 8 | K22: 9 | N22: 6 | O22: 6 | P22: 6 | Q22: 6 | R22: 6 | S22: 6 | T22: 6 | U22: 7 | V22: 8 | W22: 9
C23: 6 | D23: 5 | E23: 5 | F23: 6 | G23: 7 | H23: 8 | I23: 8 | J23: 9 | K23: 9 | N23: 7 | O23: 7 | P23: 7 | Q23: 7 | R23: 7 | S23: 7 | T23: 7 | U23: 7 | V23: 8 | W23: 9
N24: 8 | O24: 8 | P24: 8 | Q24: 8 | R24: 8 | S24: 8 | T24: 8 | U24: 8 | V24: 8 | W24: 9
N25: 9 | O25: 9 | P25: 9 | Q25: 9 | R25: 9 | S25: 9 | T25: 9 | U25: 9 | V25: 9 | W25: 9

Sheet PRESENTACIÓN

Sheet CARACTERISTICAS DE LOS PT
A1: CARACTERISTICAS DE LOS PUESTOS DE TRABAJO EN VIDEOTERMINALES
A3: TIPOS DE UBICACION DE LOS PUESTOS DE TRABAJO | B3: EN ESQUINA | C3: DE FRENTE | D3: EL MONITOR
E4: La distanicia entre la mirada y la pantalla debe de ser entre 45 -60cm. La altura de la pantalla debe de ser a la altura de los ojos
B5: Siempre ubicarse de frente al monitor. | D5: EL TECLADO
A6: TIPOS DE VIDEOTERMINAL | B6: PORTATIL | C6: DE MESA | E6: El teclado debe de ir en frente del monitor en la misma superficie que el mouse. La muñeca debe de ir alieneada con el antebrazo sin desviaciones de la muñeca ni en extensión.
B8: Usar los dispositivos adecuados para cada tipo respetando las zonas del plano de trabajo | D8: EL MOUSE
A9: ZONAS DEL PLANO DE TRABAJO | E9: Debe de encontrarse en la zona usual junto con el teclado. Su agarre se realiza alineado con el antebrazo, sin desviaciones de la muñeca, abarcandolo de tal manera que no se vea la necesidad de efectuar clicks de más.
A10: POSTURA ADECUADA AL FRENTE DEL PC | D10: MIEMBROS SUPERIORES | E10: MIEMBROS INFERIORES
D11: HOMBROS: Relajados, confortablemente distendidos y bajos. CODOS: Relajados a un costado del cuerpo formando un ángulo de 90°. ANTEBRAZOS: Apoyados sobre el apoyabrazos de la silla o sobre la superficie de trabajo, alineados, en ángulo recto respetando la flexion de codo de 90°. | E11: RODILLAS: Ligeramente mas bajas que la cadera, con flexión de 90°. PIES: Apoyados en el suelo, en caso de no alcanzar utilizar apoya pies. Deben entrar complentamente por debajo de la superficie d etrabajo, sin obstáculos que limiten tal función.
A12: LA SILLA | B12: CARACTERISTICAS FÍSICAS DE LA SILLA | D12: AJUSTES DE LA SILLA | E12: TELEFONO Y POTADOCUMENTOS
C13: De material transpirable. Acolchada y confortable. Que ajuste la altura del respaldo , la profundidad del asiento y la altura del asiento. Con soporte en la parte baja de la espalda. Con o sin apoya brazos, lo importante es la funcionalidad. | D13: La altura del asiento se ajusta de tal manera que las rodillas permanezcan a 90° de flexión al igual que los antebrazos sobre la superficie de trabajo. La profundidad del asiento se ajusta de tal manera que que quede un espacio entre la corva de la rodilla (parte de atras de la rodilla) y el borde del asiento. La altura del respaldo se ajusta de tal manera que proporcione apoyo en la zona lumbar. | E13: Estos 2 elementos se deben usar de modo que se mantenga la columna cervical de forma recta, sin inclinaciones o giros. Se recomienda el uso de diademas telefónicas que rotan de lado. Ambos elementos se encuentran ubicados en el espacio de zona ocasional en la superficie de trabajo.
A15: Bibliografia http://www.ucm.es/data/cont/docs/3-2013-02-18-0-PREVENCI%C3%93N%20DE%20RIESGOS%20LABORALES%20EN%20PANTALLAS%20DE%20VISUALIZACI%C3%93N%20DE%20DATOS.pdf http://www.ergonomia.cl/eee/ROSA.html.Ergonomía en español. ROSA: Rapid Office Strain Assessment. [Internet]. [Consultado 2016 mayo 09]

Sheet PUNTUACION ROSA
A1: EVALUACIÓN RAPIDA DEL ESFUERZO EN TRABAJO EN OFICINA METODO R.O.S.A.
D2: EMPRESA | E2: HNAS DOMINICAS DE LA PRESENTACION
D3: SEDE: | E3: BARRANQUILLA
D4: FECHA: | E4: 45337
D5: ASESOR: | E5: YARA LISS AGUILAR PÉREZ | G5: SILLA | AF5: MONITOR | AM5: TELEFONO | AR5: B | AS5: MOUSE | AY5: TECLADO | BF5: C
G6: ALTURA DE LA SILLA | M6: PROFUNDIDAD DEL ASIENTO | R6: SOPORTE DE ANTEBRAZOS | X6: SOPORTE DE LA ESPALDA | AE6: SECCION A | AF6: UBICACION DEL MONITOR | AM6: TELEFONO | AR6: SECCION B | AS6: MOUSE | AY6: TECLADO | BF6: SECCION C
A7: N° | B7: NOMBRE DEL EMPLEADO | C7: CEDULA | D7: AREA | E7: CARGO | F7: TIPO DE VIDEOTERMINAL | G7: Rodillas a 90º (1) | H7: Muy bajo, Rodilla en Angulo ‹90º (2) | I7: Muy Alto, Rodilla en ángulo › 90º (2) | J7: No hay contacto de los pies con el piso (3) | K7: Espacio insuficiente en la parte baja del escritorio, No hay movilidad para las piernas (+1) | L7: No ajustable +1 | M7: Aproximadamente 3" de espacio entre la rodilla y el borde del asiento o silla (1) | N7: Muy largo, Menos de 3" de espacio (2) | O7: Muy Corto, Más de 3" de espacio (2) | P7: No ajustable +1 | Q7: Puntuación altura y profundidad del asiento | R7: Codos soportados en línea con el hombro, Hombros relajados (1) | S7: Muy alto, (Hombros encogidos) / Bajo (Brazos sin apoyo o soporte) (2) | T7: Superficie muy dura o dañada (+1) | U7: Muy ancho (+1) | V7: No ajustable +1 | W7: Puntuación brazos | X7: Adecuado apoyo lumbar, Silla reclinada entre 95º y 110º (1) | Y7: Sin apoyo lumbar o Apoyo lumbar no posicionado en la espalda baja (2) | Z7: Angulo del respaldo muy lejos hacia atrás (Mayor que 110º) o Angulo muy lejos hacia adelante (Menor que 95º) (2) | AA7: Sin Respaldo o Soporte Lumbar (Por ejemplo en un taburete o inclinado hacia adelante) (2) | AB7: Superficie de trabajo muy alta (Hombros encogidos) (+1) | AC7: Respaldo no ajustable +1 | AD7: Puntuación respaldo | AE7: PUNTUACION SECCION A | AF7: Longitud o distancia medida con el brazo (40 a 75 cms) / Pantalla a nivel de los ojos (1) | AG7: Muy bajo (Por debajo de 30º) (2), Muy Lejos (+1) | AH7: Muy alto (Cuello en extensión) (3) | AI7: Cuello girado mas de 30º (+1) | AJ7: Deslumbramiento en la pantalla (+1) | AK7: No utilización de atriles o porta documentos, si se requiere. (+1) | AL7: TOTAL UBICACION DEL MONITOR | AM7: Audífonos con micrófonos, una mano en el teléfono y postura neutral del cuello (1) | AN7: Muy lejos para el alcance (Más de 30cms de separación) (2) | AO7: Sosteniendo el teléfono con el cuello y el hombro (+2) | AP7: No hay opción de manos libres (+1) | AQ7: TOTAL USO TELEFONO | AR7: PUNTUACION SECCION B | AS7: Ratón en línea con el hombro (1) | AT7: Alcanzando el ratón/Brazo en Abducción (2) | AU7: Ratón y Teclado en superficies de diferentes niveles (+2) | AV7: Agarre de pinza en el ratón (+1) | AW7: Reposamuñecas en frente del ratón (+1) | AX7: TOTAL USO MOUSE | AY7: Muñecas rectas, Hombros relajados (1) | AZ7: Muñecas extendidas,Teclado en ángulo positivo (›15º Extensión de las muñecas) (2) | BA7: Desviación de las muñecas durante la transcripción o tipeo (+1) | BB7: Teclado muy alto, hombros encogidos (+1) | BC7: Alcanzar elementos u objetos por encima de la cabeza (+1) | BD7: Plataforma Porta Teclado no ajustable (+1) | BE7: TOTAL USO DEL TECLADO | BF7: PUNTUACION SECCION C | BG7: NIVEL DE RIESGO
A8: 1 | B8: LUIS CARLOS USTARIS | C8: 77186649 | D8: GESTION INFRAESTRUCTURA | E8: ARQUITECTO | F8: PORTATIL | G8: ='1'!B$12 -> 1 | H8: ='1'!$C$12 -> 0 | I8: ='1'!$D$12 -> 0 | J8: ='1'!$E$12 -> 0 | K8: ='1'!$F$12 -> 0 | L8: ='1'!$G$12 -> 0 | M8: ='1'!$J$12 -> 1 | N8: ='1'!$L$12 -> 0 | O8: ='1'!$M$12 -> 0 | P8: ='1'!$N$12 -> 0 | Q8: ='1'!$R$9 -> 2 | R8: ='1'!$B$18 -> 1 | S8: ='1'!$C$18 -> 0 | T8: ='1'!$E$18 -> 0 | U8: ='1'!$F$18 -> 0 | V8: ='1'!$G$18 -> 0 | W8: ='1'!$G$15 -> 1 | X8: ='1'!$J$18 -> 1 | Y8: ='1'!$K$18 -> 0 | Z8: ='1'!$L$18 -> 0 | AA8: ='1'!$M$18 -> 0 | AB8: ='1'!$N$18 -> 0 | AC8: ='1'!$O$18 -> 0 | AD8: ='1'!$O$15 -> 1 | AE8: ='1'!$U$9 -> 2 | AF8: ='1'!$B$25 -> 0 | AG8: ='1'!$C$25 -> 2 | AH8: ='1'!$D$25 -> 0 | AI8: ='1'!$E$25 -> 0 | AJ8: ='1'!$F$25 -> 0 | AK8: ='1'!$G$25 -> 0 | AL8: ='1'!$G$22 -> 2 | AM8: ='1'!$J$25 -> 0 | AN8: ='1'!$K$25 -> 0 | AO8: ='1'!$L$25 -> 0 | AP8: ='1'!$M$25 -> 0 | AQ8: ='1'!$O$22 -> 0 | AR8: ='1'!$R$22 -> 5 | AS8: ='1'!$B$33 -> 1 | AT8: ='1'!$C$33 -> 0 | AU8: ='1'!$D$33 -> 0 | AV8: ='1'!$F$33 -> 0 | AW8: ='1'!$G$33 -> 0 | AX8: ='1'!$G$30 -> 1 | AY8: ='1'!$J$33 -> 0 | AZ8: ='1'!$K$33 -> 0 | BA8: ='1'!$L$33 -> 1 | BB8: ='1'!$M$33 -> 0 | BC8: ='1'!$N$33 -> 0 | BD8: ='1'!$O$33 -> 0 | BE8: ='1'!$O$30 -> 1 | BF8: ='1'!$R$30 -> 1 | BG8: ='1'!$L$40 -> RIESGO BAJO
A9: 2 | B9: NORANI BALLONA | C9: 39462246 | D9: ARCHIVO | E9: TECNICO EN ADMINISTRACION DE EMPRESA | F9: DE MESA | G9: ='2'!B$12 -> 1 | H9: ='2'!$C$12 -> 0 | I9: ='2'!$D$12 -> 0 | J9: ='2'!$E$12 -> 0 | K9: ='2'!$F$12 -> 0 | L9: ='2'!$G$12 -> 0 | M9: ='2'!$J$12 -> 1 | N9: ='2'!$L$12 -> 0 | O9: ='2'!$M$12 -> 0 | P9: ='2'!$N$12 -> 0 | Q9: ='2'!$R$9 -> 2 | R9: ='2'!$B$18 -> 1 | S9: ='2'!$C$18 -> 0 | T9: ='2'!$E$18 -> 0 | U9: ='2'!$F$18 -> 0 | V9: ='2'!$G$18 -> 0 | W9: ='2'!$G$15 -> 1 | X9: ='2'!$J$18 -> 1 | Y9: ='2'!$K$18 -> 0 | Z9: ='2'!$L$18 -> 0 | AA9: ='2'!$M$18 -> 0 | AB9: ='2'!$N$18 -> 0 | AC9: ='2'!$O$18 -> 0 | AD9: ='2'!$O$15 -> 2 | AE9: ='2'!$U$9 -> 2 | AF9: ='2'!$B$25 -> 1 | AG9: ='2'!$C$25 -> 0 | AH9: ='2'!$D$25 -> 0 | AI9: ='2'!$E$25 -> 0 | AJ9: ='2'!$F$25 -> 0 | AK9: ='2'!$G$25 -> 0 | AL9: ='2'!$G$22 -> 2 | AM9: ='2'!$J$25 -> 0 | AN9: ='2'!$K$25 -> 0 | AO9: ='2'!$L$25 -> 0 | AP9: ='2'!$M$25 -> 0 | AQ9: ='2'!$O$22 -> 0 | AR9: ='2'!$R$22 -> 5 | AS9: ='2'!$B$33 -> 1 | AT9: ='2'!$C$33 -> 0 | AU9: ='2'!$D$33 -> 0 | AV9: ='2'!$F$33 -> 0 | AW9: ='2'!$G$33 -> 0 | AX9: ='2'!$G$30 -> 2 | AY9: ='2'!$J$33 -> 1 | AZ9: ='2'!$K$33 -> 0 | BA9: ='2'!$L$33 -> 0 | BB9: ='2'!$M$33 -> 0 | BC9: ='2'!$N$33 -> 0 | BD9: ='2'!$O$33 -> 0 | BE9: ='2'!$O$30 -> 2 | BF9: ='2'!$R$30 -> 2 | BG9: ='2'!$L$40 -> RIESGO BAJO
A10: 3 | B10: ELIECER ARIAS MORENO | C10: 1065607314 | D10: CONTABILIDAD | E10: CONTADOR | F10: DE MESA | G10: ='3'!B$12 -> 1 | H10: ='3'!$C$12 -> 0 | I10: ='3'!$D$12 -> 0 | J10: ='3'!$E$12 -> 0 | K10: ='3'!$F$12 -> 0 | L10: ='3'!$G$12 -> 0 | M10: ='3'!$J$12 -> 1 | N10: ='3'!$L$12 -> 0 | O10: ='3'!$M$12 -> 0 | P10: ='3'!$N$12 -> 0 | Q10: ='3'!$R$9 -> 2 | R10: ='3'!$B$18 -> 0 | S10: ='3'!$C$18 -> 2 | T10: ='3'!$E$18 -> 0 | U10: ='3'!$F$18 -> 0 | V10: ='3'!$G$18 -> 0 | W10: ='3'!$G$15 -> 2 | X10: ='3'!$J$18 -> 1 | Y10: ='3'!$K$18 -> 0 | Z10: ='3'!$L$18 -> 0 | AA10: ='3'!$M$18 -> 0 | AB10: ='3'!$N$18 -> 0 | AC10: ='3'!$O$18 -> 0 | AD10: ='3'!$O$15 -> 2 | AE10: ='3'!$U$9 -> 3 | AF10: ='3'!$B$25 -> 1 | AG10: ='3'!$C$25 -> 0 | AH10: ='3'!$D$25 -> 0 | AI10: ='3'!$E$25 -> 0 | AJ10: ='3'!$F$25 -> 0 | AK10: ='3'!$G$25 -> 0 | AL10: ='3'!$G$22 -> 2 | AM10: ='3'!$J$25 -> 0 | AN10: ='3'!$K$25 -> 0 | AO10: ='3'!$L$25 -> 0 | AP10: ='3'!$M$25 -> 0 | AQ10: ='3'!$O$22 -> 0 | AR10: ='3'!$R$22 -> 5 | AS10: ='3'!$B$33 -> 1 | AT10: ='3'!$C$33 -> 0 | AU10: ='3'!$D$33 -> 0 | AV10: ='3'!$F$33 -> 0 | AW10: ='3'!$G$33 -> 1 | AX10: ='3'!$G$30 -> 3 | AY10: ='3'!$J$33 -> 0 | AZ10: ='3'!$K$33 -> 2 | BA10: ='3'!$L$33 -> 1 | BB10: ='3'!$M$33 -> 0 | BC10: ='3'!$N$33 -> 0 | BD10: ='3'!$O$33 -> 0 | BE10: ='3'!$O$30 -> 4 | BF10: ='3'!$R$30 -> 5 | BG10: ='3'!$L$40 -> RIESGO BAJO
A11: 4 | B11: AIDIS PAOLA DIAZ SARMIENTO | C11: 1065653314 | D11: RECEPCION | E11: TECNOLOGA EN GESTION DOCUMENTAL | F11: DE MESA | G11: ='4'!B$12 -> 0 | H11: ='4'!$C$12 -> 0 | I11: ='4'!$D$12 -> 0 | J11: ='4'!$E$12 -> 3 | K11: ='4'!$F$12 -> 0 | L11: ='4'!$G$12 -> 0 | M11: ='4'!$J$12 -> 0 | N11: ='4'!$L$12 -> 2 | O11: ='4'!$M$12 -> 0 | P11: ='4'!$N$12 -> 0 | Q11: ='4'!$R$9 -> 5 | R11: ='4'!$B$18 -> 0 | S11: ='4'!$C$18 -> 2 | T11: ='4'!$E$18 -> 0 | U11: ='4'!$F$18 -> 0 | V11: ='4'!$G$18 -> 0 | W11: ='4'!$G$15 -> 2 | X11: ='4'!$J$18 -> 1 | Y11: ='4'!$K$18 -> 0 | Z11: ='4'!$L$18 -> 0 | AA11: ='4'!$M$18 -> 0 | AB11: ='4'!$N$18 -> 0 | AC11: ='4'!$O$18 -> 0 | AD11: ='4'!$O$15 -> 2 | AE11: ='4'!$U$9 -> 4 | AF11: ='4'!$B$25 -> 0 | AG11: ='4'!$C$25 -> 0 | AH11: ='4'!$D$25 -> 3 | AI11: ='4'!$E$25 -> 0 | AJ11: ='4'!$F$25 -> 0 | AK11: ='4'!$G$25 -> 0 | AL11: ='4'!$G$22 -> 4 | AM11: ='4'!$J$25 -> 1 | AN11: ='4'!$K$25 -> 0 | AO11: ='4'!$L$25 -> 0 | AP11: ='4'!$M$25 -> 0 | AQ11: ='4'!$O$22 -> 1 | AR11: ='4'!$R$22 -> 3 | AS11: ='4'!$B$33 -> 1 | AT11: ='4'!$C$33 -> 0 | AU11: ='4'!$D$33 -> 0 | AV11: ='4'!$F$33 -> 0 | AW11: ='4'!$G$33 -> 1 | AX11: ='4'!$G$30 -> 3 | AY11: ='4'!$J$33 -> 1 | AZ11: ='4'!$K$33 -> 0 | BA11: ='4'!$L$33 -> 0 | BB11: ='4'!$M$33 -> 0 | BC11: ='4'!$N$33 -> 0 | BD11: ='4'!$O$33 -> 0 | BE11: ='4'!$O$30 -> 2 | BF11: ='4'!$R$30 -> 3 | BG11: ='4'!$L$40 -> RIESGO BAJO
A12: 5 | B12: ALEJANDRO OLIVELLA | C12: 1065622248 | D12: CENTRO DE CONTROL | E12: TECNOLOGO EN SST | F12: DE MESA | G12: ='5'!B$12 -> 1 | H12: ='5'!$C$12 -> 0 | I12: ='5'!$D$12 -> 0 | J12: ='5'!$E$12 -> 0 | K12: ='5'!$F$12 -> 0 | L12: ='5'!$G$12 -> 0 | M12: ='5'!$J$12 -> 1 | N12: ='5'!$L$12 -> 0 | O12: ='5'!$M$12 -> 0 | P12: ='5'!$N$12 -> 0 | Q12: ='5'!$R$9 -> 2 | R12: ='5'!$B$18 -> 1 | S12: ='5'!$C$18 -> 0 | T12: ='5'!$E$18 -> 0 | U12: ='5'!$F$18 -> 0 | V12: ='5'!$G$18 -> 0 | W12: ='5'!$G$15 -> 1 | X12: ='5'!$J$18 -> 1 | Y12: ='5'!$K$18 -> 0 | Z12: ='5'!$L$18 -> 0 | AA12: ='5'!$M$18 -> 0 | AB12: ='5'!$N$18 -> 0 | AC12: ='5'!$O$18 -> 0 | AD12: ='5'!$O$15 -> 1 | AE12: ='5'!$U$9 -> 2 | AF12: ='5'!$B$25 -> 1 | AG12: ='5'!$C$25 -> 0 | AH12: ='5'!$D$25 -> 0 | AI12: ='5'!$E$25 -> 1 | AJ12: ='5'!$F$25 -> 0 | AK12: ='5'!$G$25 -> 0 | AL12: ='5'!$G$22 -> 2 | AM12: ='5'!$J$25 -> 0 | AN12: ='5'!$K$25 -> 0 | AO12: ='5'!$L$25 -> 0 | AP12: ='5'!$M$25 -> 0 | AQ12: ='5'!$O$22 -> 0 | AR12: ='5'!$R$22 -> 5 | AS12: ='5'!$B$33 -> 1 | AT12: ='5'!$C$33 -> 0 | AU12: ='5'!$D$33 -> 0 | AV12: ='5'!$F$33 -> 1 | AW12: ='5'!$G$33 -> 0 | AX12: ='5'!$G$30 -> 2 | AY12: ='5'!$J$33 -> 1 | AZ12: ='5'!$K$33 -> 0 | BA12: ='5'!$L$33 -> 1 | BB12: ='5'!$M$33 -> 0 | BC12: ='5'!$N$33 -> 0 | BD12: ='5'!$O$33 -> 0 | BE12: ='5'!$O$30 -> 2 | BF12: ='5'!$R$30 -> 2 | BG12: ='5'!$L$40 -> RIESGO BAJO
A13: 6 | B13: MARIA ANGELICA GONZALEZ | C13: 49772194 | D13: FACTURA DE CONTROL INTERNO | E13: JEFE DE CONTROL INTERNO | F13: DE MESA | G13: ='6'!B$12 -> 1 | H13: ='6'!$C$12 -> 0 | I13: ='6'!$D$12 -> 0 | J13: ='6'!$E$12 -> 0 | K13: ='6'!$F$12 -> 0 | L13: ='6'!$G$12 -> 1 | M13: ='6'!$J$12 -> 1 | N13: ='6'!$L$12 -> 2 | O13: ='6'!$M$12 -> 0 | P13: ='6'!$N$12 -> 0 | Q13: ='6'!$R$9 -> 5 | R13: ='6'!$B$18 -> 1 | S13: ='6'!$C$18 -> 0 | T13: ='6'!$E$18 -> 0 | U13: ='6'!$F$18 -> 0 | V13: ='6'!$G$18 -> 0 | W13: ='6'!$G$15 -> 1 | X13: ='6'!$J$18 -> 1 | Y13: ='6'!$K$18 -> 0 | Z13: ='6'!$L$18 -> 0 | AA13: ='6'!$M$18 -> 0 | AB13: ='6'!$N$18 -> 0 | AC13: ='6'!$O$18 -> 0 | AD13: ='6'!$O$15 -> 2 | AE13: ='6'!$U$9 -> 4 | AF13: ='6'!$B$25 -> 1 | AG13: ='6'!$C$25 -> 0 | AH13: ='6'!$D$25 -> 3 | AI13: ='6'!$E$25 -> 1 | AJ13: ='6'!$F$25 -> 0 | AK13: ='6'!$G$25 -> 0 | AL13: ='6'!$G$22 -> 6 | AM13: ='6'!$J$25 -> 0 | AN13: ='6'!$K$25 -> 0 | AO13: ='6'!$L$25 -> 0 | AP13: ='6'!$M$25 -> 0 | AQ13: ='6'!$O$22 -> 0 | AR13: ='6'!$R$22 -> 8 | AS13: ='6'!$B$33 -> 0 | AT13: ='6'!$C$33 -> 2 | AU13: ='6'!$D$33 -> 0 | AV13: ='6'!$F$33 -> 1 | AW13: ='6'!$G$33 -> 0 | AX13: ='6'!$G$30 -> 4 | AY13: ='6'!$J$33 -> 0 | AZ13: ='6'!$K$33 -> 0 | BA13: ='6'!$L$33 -> 1 | BB13: ='6'!$M$33 -> 0 | BC13: ='6'!$N$33 -> 0 | BD13: ='6'!$O$33 -> 0 | BE13: ='6'!$O$30 -> 2 | BF13: ='6'!$R$30 -> 4 | BG13: ='6'!$L$40 -> RIESGO ALTO
A22: 15 | B22: ='15'!$C$6 -> 0 | C22: ='15'!$K$6 -> 0 | D22: ='15'!$B$2 -> 0 | E22: ='15'!$B$4 -> 0 | G22: ='15'!B$12 -> 0 | H22: ='15'!$C$12 -> 0 | I22: ='15'!$D$12 -> 0 | J22: ='15'!$E$12 -> 0 | K22: ='15'!$F$12 -> 0 | L22: ='15'!$G$12 -> 0 | M22: ='15'!$J$12 -> 0 | N22: ='15'!$L$12 -> 0 | O22: ='15'!$M$12 -> 0 | P22: ='15'!$N$12 -> 0 | Q22: ='15'!$R$9 -> 0 | R22: ='15'!$B$18 -> 0 | S22: ='15'!$C$18 -> 0 | T22: ='15'!$E$18 -> 0 | U22: ='15'!$F$18 -> 0 | V22: ='15'!$G$18 -> 0 | W22: ='15'!$G$15 -> 0 | X22: ='15'!$J$18 -> 0 | Y22: ='15'!$K$18 -> 0 | Z22: ='15'!$L$18 -> 0 | AA22: ='15'!$M$18 -> 0 | AB22: ='15'!$N$18 -> 0 | AC22: ='15'!$O$18 -> 0 | AD22: ='15'!$O$15 -> 0 | AE22: ='15'!$U$9 -> #VALUE! | AF22: ='15'!$B$25 -> 0 | AG22: ='15'!$C$25 -> 0 | AH22: ='15'!$D$25 -> 0 | AI22: ='15'!$E$25 -> 0 | AJ22: ='15'!$F$25 -> 0 | AK22: ='15'!$G$25 -> 0 | AL22: ='15'!$G$22 -> 0 | AM22: ='15'!$J$25 -> 0 | AN22: ='15'!$K$25 -> 0 | AO22: ='15'!$L$25 -> 0 | AP22: ='15'!$M$25 -> 0 | AQ22: ='15'!$O$22 -> 0 | AR22: ='15'!$R$22 -> #VALUE! | AS22: ='15'!$B$33 -> 0 | AT22: ='15'!$C$33 -> 0 | AU22: ='15'!$D$33 -> 0 | AV22: ='15'!$F$33 -> 0 | AW22: ='15'!$G$33 -> 0 | AX22: ='15'!$G$30 -> 0 | AY22: ='15'!$J$33 -> 0 | AZ22: ='15'!$K$33 -> 0 | BA22: ='15'!$L$33 -> 0 | BB22: ='15'!$M$33 -> 0 | BC22: ='15'!$N$33 -> 0 | BD22: ='15'!$O$33 -> 0 | BE22: ='15'!$O$30 -> 0 | BF22: ='15'!$R$30 -> #VALUE! | BG22: ='15'!$L$40 -> #VALUE!
A23: 16 | B23: ='16'!$C$6 -> 0 | C23: ='16'!$K$6 -> 0 | D23: ='16'!$B$2 -> 0 | E23: ='16'!$B$4 -> 0 | G23: ='16'!B$12 -> 0 | H23: ='16'!$C$12 -> 0 | I23: ='16'!$D$12 -> 0 | J23: ='16'!$E$12 -> 0 | K23: ='16'!$F$12 -> 0 | L23: ='16'!$G$12 -> 0 | M23: ='16'!$J$12 -> 0 | N23: ='16'!$L$12 -> 0 | O23: ='16'!$M$12 -> 0 | P23: ='16'!$N$12 -> 0 | Q23: ='16'!$R$9 -> 0 | R23: ='16'!$B$18 -> 0 | S23: ='16'!$C$18 -> 0 | T23: ='16'!$E$18 -> 0 | U23: ='16'!$F$18 -> 0 | V23: ='16'!$G$18 -> 0 | W23: ='16'!$G$15 -> 0 | X23: ='16'!$J$18 -> 0 | Y23: ='16'!$K$18 -> 0 | Z23: ='16'!$L$18 -> 0 | AA23: ='16'!$M$18 -> 0 | AB23: ='16'!$N$18 -> 0 | AC23: ='16'!$O$18 -> 0 | AD23: ='16'!$O$15 -> 0 | AE23: ='16'!$U$9 -> #VALUE! | AF23: ='16'!$B$25 -> 0 | AG23: ='16'!$C$25 -> 0 | AH23: ='16'!$D$25 -> 0 | AI23: ='16'!$E$25 -> 0 | AJ23: ='16'!$F$25 -> 0 | AK23: ='16'!$G$25 -> 0 | AL23: ='16'!$G$22 -> 0 | AM23: ='16'!$J$25 -> 0 | AN23: ='16'!$K$25 -> 0 | AO23: ='16'!$L$25 -> 0 | AP23: ='16'!$M$25 -> 0 | AQ23: ='16'!$O$22 -> 0 | AR23: ='16'!$R$22 -> #VALUE! | AS23: ='16'!$B$33 -> 0 | AT23: ='16'!$C$33 -> 0 | AU23: ='16'!$D$33 -> 0 | AV23: ='16'!$F$33 -> 0 | AW23: ='16'!$G$33 -> 0 | AX23: ='16'!$G$30 -> 0 | AY23: ='16'!$J$33 -> 0 | AZ23: ='16'!$K$33 -> 0 | BA23: ='16'!$L$33 -> 0 | BB23: ='16'!$M$33 -> 0 | BC23: ='16'!$N$33 -> 0 | BD23: ='16'!$O$33 -> 0 | BE23: ='16'!$O$30 -> 0 | BF23: ='16'!$R$30 -> #VALUE! | BG23: ='16'!$L$40 -> #VALUE!
A24: 17 | B24: ='17'!$C$6 -> 0 | C24: ='17'!$K$6 -> 0 | D24: ='17'!$B$2 -> 0 | E24: ='17'!$B$4 -> 0 | G24: ='17'!B$12 -> 0 | H24: ='17'!$C$12 -> 0 | I24: ='17'!$D$12 -> 0 | J24: ='17'!$E$12 -> 0 | K24: ='17'!$F$12 -> 0 | L24: ='17'!$G$12 -> 0 | M24: ='17'!$J$12 -> 0 | N24: ='17'!$L$12 -> 0 | O24: ='17'!$M$12 -> 0 | P24: ='17'!$N$12 -> 0 | Q24: ='17'!$R$9 -> 0 | R24: ='17'!$B$18 -> 0 | S24: ='17'!$C$18 -> 0 | T24: ='17'!$E$18 -> 0 | U24: ='17'!$F$18 -> 0 | V24: ='17'!$G$18 -> 0 | W24: ='17'!$G$15 -> 0 | X24: ='17'!$J$18 -> 0 | Y24: ='17'!$K$18 -> 0 | Z24: ='17'!$L$18 -> 0 | AA24: ='17'!$M$18 -> 0 | AB24: ='17'!$N$18 -> 0 | AC24: ='17'!$O$18 -> 0 | AD24: ='17'!$O$15 -> 0 | AE24: ='17'!$U$9 -> #VALUE! | AF24: ='17'!$B$25 -> 0 | AG24: ='17'!$C$25 -> 0 | AH24: ='17'!$D$25 -> 0 | AI24: ='17'!$E$25 -> 0 | AJ24: ='17'!$F$25 -> 0 | AK24: ='17'!$G$25 -> 0 | AL24: ='17'!$G$22 -> 0 | AM24: ='17'!$J$25 -> 0 | AN24: ='17'!$K$25 -> 0 | AO24: ='17'!$L$25 -> 0 | AP24: ='17'!$M$25 -> 0 | AQ24: ='17'!$O$22 -> 0 | AR24: ='17'!$R$22 -> #VALUE! | AS24: ='17'!$B$33 -> 0 | AT24: ='17'!$C$33 -> 0 | AU24: ='17'!$D$33 -> 0 | AV24: ='17'!$F$33 -> 0 | AW24: ='17'!$G$33 -> 0 | AX24: ='17'!$G$30 -> 0 | AY24: ='17'!$J$33 -> 0 | AZ24: ='17'!$K$33 -> 0 | BA24: ='17'!$L$33 -> 0 | BB24: ='17'!$M$33 -> 0 | BC24: ='17'!$N$33 -> 0 | BD24: ='17'!$O$33 -> 0 | BE24: ='17'!$O$30 -> 0 | BF24: ='17'!$R$30 -> #VALUE! | BG24: ='17'!$L$40 -> #VALUE!
A25: 18 | B25: ='18'!$C$6 -> 0 | C25: ='18'!$K$6 -> 0 | D25: ='18'!$B$2 -> 0 | E25: ='18'!$B$4 -> 0 | G25: ='18'!B$12 -> 0 | H25: ='18'!$C$12 -> 0 | I25: ='18'!$D$12 -> 0 | J25: ='18'!$E$12 -> 0 | K25: ='18'!$F$12 -> 0 | L25: ='18'!$G$12 -> 0 | M25: ='18'!$J$12 -> 0 | N25: ='18'!$L$12 -> 0 | O25: ='18'!$M$12 -> 0 | P25: ='18'!$N$12 -> 0 | Q25: ='18'!$R$9 -> 0 | R25: ='18'!$B$18 -> 0 | S25: ='18'!$C$18 -> 0 | T25: ='18'!$E$18 -> 0 | U25: ='18'!$F$18 -> 0 | V25: ='18'!$G$18 -> 0 | W25: ='18'!$G$15 -> 0 | X25: ='18'!$J$18 -> 0 | Y25: ='18'!$K$18 -> 0 | Z25: ='18'!$L$18 -> 0 | AA25: ='18'!$M$18 -> 0 | AB25: ='18'!$N$18 -> 0 | AC25: ='18'!$O$18 -> 0 | AD25: ='18'!$O$15 -> 0 | AE25: ='18'!$U$9 -> #VALUE! | AF25: ='18'!$B$25 -> 0 | AG25: ='18'!$C$25 -> 0 | AH25: ='18'!$D$25 -> 0 | AI25: ='18'!$E$25 -> 0 | AJ25: ='18'!$F$25 -> 0 | AK25: ='18'!$G$25 -> 0 | AL25: ='18'!$G$22 -> 0 | AM25: ='18'!$J$25 -> 0 | AN25: ='18'!$K$25 -> 0 | AO25: ='18'!$L$25 -> 0 | AP25: ='18'!$M$25 -> 0 | AQ25: ='18'!$O$22 -> 0 | AR25: ='18'!$R$22 -> #VALUE! | AS25: ='18'!$B$33 -> 0 | AT25: ='18'!$C$33 -> 0 | AU25: ='18'!$D$33 -> 0 | AV25: ='18'!$F$33 -> 0 | AW25: ='18'!$G$33 -> 0 | AX25: ='18'!$G$30 -> 0 | AY25: ='18'!$J$33 -> 0 | AZ25: ='18'!$K$33 -> 0 | BA25: ='18'!$L$33 -> 0 | BB25: ='18'!$M$33 -> 0 | BC25: ='18'!$N$33 -> 0 | BD25: ='18'!$O$33 -> 0 | BE25: ='18'!$O$30 -> 0 | BF25: ='18'!$R$30 -> #VALUE! | BG25: ='18'!$L$40 -> #VALUE!
A26: 19 | B26: ='19'!$C$6 -> 0 | C26: ='19'!$K$6 -> 0 | D26: ='19'!$B$2 -> 0 | E26: ='19'!$B$4 -> 0 | G26: ='19'!B$12 -> 0 | H26: ='19'!$C$12 -> 0 | I26: ='19'!$D$12 -> 0 | J26: ='19'!$E$12 -> 0 | K26: ='19'!$F$12 -> 0 | L26: ='19'!$G$12 -> 0 | M26: ='19'!$J$12 -> 0 | N26: ='19'!$L$12 -> 0 | O26: ='19'!$M$12 -> 0 | P26: ='19'!$N$12 -> 0 | Q26: ='19'!$R$9 -> 0 | R26: ='19'!$B$18 -> 0 | S26: ='19'!$C$18 -> 0 | T26: ='19'!$E$18 -> 0 | U26: ='19'!$F$18 -> 0 | V26: ='19'!$G$18 -> 0 | W26: ='19'!$G$15 -> 0 | X26: ='19'!$J$18 -> 0 | Y26: ='19'!$K$18 -> 0 | Z26: ='19'!$L$18 -> 0 | AA26: ='19'!$M$18 -> 0 | AB26: ='19'!$N$18 -> 0 | AC26: ='19'!$O$18 -> 0 | AD26: ='19'!$O$15 -> 0 | AE26: ='19'!$U$9 -> #VALUE! | AF26: ='19'!$B$25 -> 0 | AG26: ='19'!$C$25 -> 0 | AH26: ='19'!$D$25 -> 0 | AI26: ='19'!$E$25 -> 0 | AJ26: ='19'!$F$25 -> 0 | AK26: ='19'!$G$25 -> 0 | AL26: ='19'!$G$22 -> 0 | AM26: ='19'!$J$25 -> 0 | AN26: ='19'!$K$25 -> 0 | AO26: ='19'!$L$25 -> 0 | AP26: ='19'!$M$25 -> 0 | AQ26: ='19'!$O$22 -> 0 | AR26: ='19'!$R$22 -> #VALUE! | AS26: ='19'!$B$33 -> 0 | AT26: ='19'!$C$33 -> 0 | AU26: ='19'!$D$33 -> 0 | AV26: ='19'!$F$33 -> 0 | AW26: ='19'!$G$33 -> 0 | AX26: ='19'!$G$30 -> 0 | AY26: ='19'!$J$33 -> 0 | AZ26: ='19'!$K$33 -> 0 | BA26: ='19'!$L$33 -> 0 | BB26: ='19'!$M$33 -> 0 | BC26: ='19'!$N$33 -> 0 | BD26: ='19'!$O$33 -> 0 | BE26: ='19'!$O$30 -> 0 | BF26: ='19'!$R$30 -> #VALUE! | BG26: ='19'!$L$40 -> #VALUE!
A27: 20 | B27: ='20'!$C$6 -> 0 | C27: ='20'!$K$6 -> 0 | D27: ='20'!$B$2 -> 0 | E27: ='20'!$B$4 -> 0 | G27: ='20'!B$12 -> 0 | H27: ='20'!$C$12 -> 0 | I27: ='20'!$D$12 -> 0 | J27: ='20'!$E$12 -> 0 | K27: ='20'!$F$12 -> 0 | L27: ='20'!$G$12 -> 0 | M27: ='20'!$J$12 -> 0 | N27: ='20'!$L$12 -> 0 | O27: ='20'!$M$12 -> 0 | P27: ='20'!$N$12 -> 0 | Q27: ='20'!$R$9 -> 0 | R27: ='20'!$B$18 -> 0 | S27: ='20'!$C$18 -> 0 | T27: ='20'!$E$18 -> 0 | U27: ='20'!$F$18 -> 0 | V27: ='20'!$G$18 -> 0 | W27: ='20'!$G$15 -> 0 | X27: ='20'!$J$18 -> 0 | Y27: ='20'!$K$18 -> 0 | Z27: ='20'!$L$18 -> 0 | AA27: ='20'!$M$18 -> 0 | AB27: ='20'!$N$18 -> 0 | AC27: ='20'!$O$18 -> 0 | AD27: ='20'!$O$15 -> 0 | AE27: ='20'!$U$9 -> #VALUE! | AF27: ='20'!$B$25 -> 0 | AG27: ='20'!$C$25 -> 0 | AH27: ='20'!$D$25 -> 0 | AI27: ='20'!$E$25 -> 0 | AJ27: ='20'!$F$25 -> 0 | AK27: ='20'!$G$25 -> 0 | AL27: ='20'!$G$22 -> 0 | AM27: ='20'!$J$25 -> 0 | AN27: ='20'!$K$25 -> 0 | AO27: ='20'!$L$25 -> 0 | AP27: ='20'!$M$25 -> 0 | AQ27: ='20'!$O$22 -> 0 | AR27: ='20'!$R$22 -> #VALUE! | AS27: ='20'!$B$33 -> 0 | AT27: ='20'!$C$33 -> 0 | AU27: ='20'!$D$33 -> 0 | AV27: ='20'!$F$33 -> 0 | AW27: ='20'!$G$33 -> 0 | AX27: ='20'!$G$30 -> 0 | AY27: ='20'!$J$33 -> 0 | AZ27: ='20'!$K$33 -> 0 | BA27: ='20'!$L$33 -> 0 | BB27: ='20'!$M$33 -> 0 | BC27: ='20'!$N$33 -> 0 | BD27: ='20'!$O$33 -> 0 | BE27: ='20'!$O$30 -> 0 | BF27: ='20'!$R$30 -> #VALUE! | BG27: ='20'!$L$40 -> #VALUE!
A28: 21 | B28: ='21'!$C$6 -> 0 | C28: ='21'!$K$6 -> 0 | D28: ='21'!$B$2 -> 0 | E28: ='21'!$B$4 -> 0 | G28: ='21'!B$12 -> 0 | H28: ='21'!$C$12 -> 0 | I28: ='21'!$D$12 -> 0 | J28: ='21'!$E$12 -> 0 | K28: ='21'!$F$12 -> 0 | L28: ='21'!$G$12 -> 0 | M28: ='21'!$J$12 -> 0 | N28: ='21'!$L$12 -> 0 | O28: ='21'!$M$12 -> 0 | P28: ='21'!$N$12 -> 0 | Q28: ='21'!$R$9 -> 0 | R28: ='21'!$B$18 -> 0 | S28: ='21'!$C$18 -> 0 | T28: ='21'!$E$18 -> 0 | U28: ='21'!$F$18 -> 0 | V28: ='21'!$G$18 -> 0 | W28: ='21'!$G$15 -> 0 | X28: ='21'!$J$18 -> 0 | Y28: ='21'!$K$18 -> 0 | Z28: ='21'!$L$18 -> 0 | AA28: ='21'!$M$18 -> 0 | AB28: ='21'!$N$18 -> 0 | AC28: ='21'!$O$18 -> 0 | AD28: ='21'!$O$15 -> 0 | AE28: ='21'!$U$9 -> #VALUE! | AF28: ='21'!$B$25 -> 0 | AG28: ='21'!$C$25 -> 0 | AH28: ='21'!$D$25 -> 0 | AI28: ='21'!$E$25 -> 0 | AJ28: ='21'!$F$25 -> 0 | AK28: ='21'!$G$25 -> 0 | AL28: ='21'!$G$22 -> 0 | AM28: ='21'!$J$25 -> 0 | AN28: ='21'!$K$25 -> 0 | AO28: ='21'!$L$25 -> 0 | AP28: ='21'!$M$25 -> 0 | AQ28: ='21'!$O$22 -> 0 | AR28: ='21'!$R$22 -> #VALUE! | AS28: ='21'!$B$33 -> 0 | AT28: ='21'!$C$33 -> 0 | AU28: ='21'!$D$33 -> 0 | AV28: ='21'!$F$33 -> 0 | AW28: ='21'!$G$33 -> 0 | AX28: ='21'!$G$30 -> 0 | AY28: ='21'!$J$33 -> 0 | AZ28: ='21'!$K$33 -> 0 | BA28: ='21'!$L$33 -> 0 | BB28: ='21'!$M$33 -> 0 | BC28: ='21'!$N$33 -> 0 | BD28: ='21'!$O$33 -> 0 | BE28: ='21'!$O$30 -> 0 | BF28: ='21'!$R$30 -> #VALUE! | BG28: ='21'!$L$40 -> #VALUE!
A29: 22 | B29: ='22'!$C$6 -> 0 | C29: ='22'!$K$6 -> 0 | D29: ='22'!$B$2 -> 0 | E29: ='22'!$B$4 -> 0 | G29: ='22'!B$12 -> 0 | H29: ='22'!$C$12 -> 0 | I29: ='22'!$D$12 -> 0 | J29: ='22'!$E$12 -> 0 | K29: ='22'!$F$12 -> 0 | L29: ='22'!$G$12 -> 0 | M29: ='22'!$J$12 -> 0 | N29: ='22'!$L$12 -> 0 | O29: ='22'!$M$12 -> 0 | P29: ='22'!$N$12 -> 0 | Q29: ='22'!$R$9 -> 0 | R29: ='22'!$B$18 -> 0 | S29: ='22'!$C$18 -> 0 | T29: ='22'!$E$18 -> 0 | U29: ='22'!$F$18 -> 0 | V29: ='22'!$G$18 -> 0 | W29: ='22'!$G$15 -> 0 | X29: ='22'!$J$18 -> 0 | Y29: ='22'!$K$18 -> 0 | Z29: ='22'!$L$18 -> 0 | AA29: ='22'!$M$18 -> 0 | AB29: ='22'!$N$18 -> 0 | AC29: ='22'!$O$18 -> 0 | AD29: ='22'!$O$15 -> 0 | AE29: ='22'!$U$9 -> #VALUE! | AF29: ='22'!$B$25 -> 0 | AG29: ='22'!$C$25 -> 0 | AH29: ='22'!$D$25 -> 0 | AI29: ='22'!$E$25 -> 0 | AJ29: ='22'!$F$25 -> 0 | AK29: ='22'!$G$25 -> 0 | AL29: ='22'!$G$22 -> 0 | AM29: ='22'!$J$25 -> 0 | AN29: ='22'!$K$25 -> 0 | AO29: ='22'!$L$25 -> 0 | AP29: ='22'!$M$25 -> 0 | AQ29: ='22'!$O$22 -> 0 | AR29: ='22'!$R$22 -> #VALUE! | AS29: ='22'!$B$33 -> 0 | AT29: ='22'!$C$33 -> 0 | AU29: ='22'!$D$33 -> 0 | AV29: ='22'!$F$33 -> 0 | AW29: ='22'!$G$33 -> 0 | AX29: ='22'!$G$30 -> 0 | AY29: ='22'!$J$33 -> 0 | AZ29: ='22'!$K$33 -> 0 | BA29: ='22'!$L$33 -> 0 | BB29: ='22'!$M$33 -> 0 | BC29: ='22'!$N$33 -> 0 | BD29: ='22'!$O$33 -> 0 | BE29: ='22'!$O$30 -> 0 | BF29: ='22'!$R$30 -> #VALUE! | BG29: ='22'!$L$40 -> #VALUE!
A30: 23 | B30: ='23'!$C$6 -> 0 | C30: ='23'!$K$6 -> 0 | D30: ='23'!$B$2 -> 0 | E30: ='23'!$B$4 -> 0 | G30: ='23'!B$12 -> 0 | H30: ='23'!$C$12 -> 0 | I30: ='23'!$D$12 -> 0 | J30: ='23'!$E$12 -> 0 | K30: ='23'!$F$12 -> 0 | L30: ='23'!$G$12 -> 0 | M30: ='23'!$J$12 -> 0 | N30: ='23'!$L$12 -> 0 | O30: ='23'!$M$12 -> 0 | P30: ='23'!$N$12 -> 0 | Q30: ='23'!$R$9 -> 0 | R30: ='23'!$B$18 -> 0 | S30: ='23'!$C$18 -> 0 | T30: ='23'!$E$18 -> 0 | U30: ='23'!$F$18 -> 0 | V30: ='23'!$G$18 -> 0 | W30: ='23'!$G$15 -> 0 | X30: ='23'!$J$18 -> 0 | Y30: ='23'!$K$18 -> 0 | Z30: ='23'!$L$18 -> 0 | AA30: ='23'!$M$18 -> 0 | AB30: ='23'!$N$18 -> 0 | AC30: ='23'!$O$18 -> 0 | AD30: ='23'!$O$15 -> 0 | AE30: ='23'!$U$9 -> #VALUE! | AF30: ='23'!$B$25 -> 0 | AG30: ='23'!$C$25 -> 0 | AH30: ='23'!$D$25 -> 0 | AI30: ='23'!$E$25 -> 0 | AJ30: ='23'!$F$25 -> 0 | AK30: ='23'!$G$25 -> 0 | AL30: ='23'!$G$22 -> 0 | AM30: ='23'!$J$25 -> 0 | AN30: ='23'!$K$25 -> 0 | AO30: ='23'!$L$25 -> 0 | AP30: ='23'!$M$25 -> 0 | AQ30: ='23'!$O$22 -> 0 | AR30: ='23'!$R$22 -> #VALUE! | AS30: ='23'!$B$33 -> 0 | AT30: ='23'!$C$33 -> 0 | AU30: ='23'!$D$33 -> 0 | AV30: ='23'!$F$33 -> 0 | AW30: ='23'!$G$33 -> 0 | AX30: ='23'!$G$30 -> 0 | AY30: ='23'!$J$33 -> 0 | AZ30: ='23'!$K$33 -> 0 | BA30: ='23'!$L$33 -> 0 | BB30: ='23'!$M$33 -> 0 | BC30: ='23'!$N$33 -> 0 | BD30: ='23'!$O$33 -> 0 | BE30: ='23'!$O$30 -> 0 | BF30: ='23'!$R$30 -> #VALUE! | BG30: ='23'!$L$40 -> #VALUE!
A31: 24 | B31: ='24'!$C$6 -> 0 | C31: ='24'!$K$6 -> 0 | D31: ='24'!$B$2 -> 0 | E31: ='24'!$B$4 -> 0 | G31: ='24'!B$12 -> 0 | H31: ='24'!$C$12 -> 0 | I31: ='24'!$D$12 -> 0 | J31: ='24'!$E$12 -> 0 | K31: ='24'!$F$12 -> 0 | L31: ='24'!$G$12 -> 0 | M31: ='24'!$J$12 -> 0 | N31: ='24'!$L$12 -> 0 | O31: ='24'!$M$12 -> 0 | P31: ='24'!$N$12 -> 0 | Q31: ='24'!$R$9 -> 0 | R31: ='24'!$B$18 -> 0 | S31: ='24'!$C$18 -> 0 | T31: ='24'!$E$18 -> 0 | U31: ='24'!$F$18 -> 0 | V31: ='24'!$G$18 -> 0 | W31: ='24'!$G$15 -> 0 | X31: ='24'!$J$18 -> 0 | Y31: ='25'!$K$18 -> 0 | Z31: ='24'!$L$18 -> 0 | AA31: ='24'!$M$18 -> 0 | AB31: ='24'!$N$18 -> 0 | AC31: ='24'!$O$18 -> 0 | AD31: ='24'!$O$15 -> 0 | AE31: ='24'!$U$9 -> #VALUE! | AF31: ='24'!$B$25 -> 0 | AG31: ='24'!$C$25 -> 0 | AH31: ='24'!$D$25 -> 0 | AI31: ='24'!$E$25 -> 0 | AJ31: ='24'!$F$25 -> 0 | AK31: ='24'!$G$25 -> 0 | AL31: ='24'!$G$22 -> 0 | AM31: ='24'!$J$25 -> 0 | AN31: ='24'!$K$25 -> 0 | AO31: ='24'!$L$25 -> 0 | AP31: ='24'!$M$25 -> 0 | AQ31: ='24'!$O$22 -> 0 | AR31: ='24'!$R$22 -> #VALUE! | AS31: ='24'!$B$33 -> 0 | AT31: ='24'!$C$33 -> 0 | AU31: ='24'!$D$33 -> 0 | AV31: ='24'!$F$33 -> 0 | AW31: ='24'!$G$33 -> 0 | AX31: ='24'!$G$30 -> 0 | AY31: ='24'!$J$33 -> 0 | AZ31: ='24'!$K$33 -> 0 | BA31: ='24'!$L$33 -> 0 | BB31: ='24'!$M$33 -> 0 | BC31: ='24'!$N$33 -> 0 | BD31: ='24'!$O$33 -> 0 | BE31: ='24'!$O$30 -> 0 | BF31: ='24'!$R$30 -> #VALUE! | BG31: ='24'!$L$40 -> #VALUE!
A32: 25 | B32: ='25'!$C$6 -> 0 | C32: ='25'!$K$6 -> 0 | D32: ='25'!$B$2 -> 0 | E32: ='25'!$B$4 -> 0 | G32: ='25'!B$12 -> 0 | H32: ='25'!$C$12 -> 0 | I32: ='25'!$D$12 -> 0 | J32: ='25'!$E$12 -> 0 | K32: ='25'!$F$12 -> 0 | L32: ='25'!$G$12 -> 0 | M32: ='25'!$J$12 -> 0 | N32: ='25'!$L$12 -> 0 | O32: ='25'!$M$12 -> 0 | P32: ='25'!$N$12 -> 0 | Q32: ='25'!$R$9 -> 0 | R32: ='25'!$B$18 -> 0 | S32: ='25'!$C$18 -> 0 | T32: ='25'!$E$18 -> 0 | U32: ='25'!$F$18 -> 0 | V32: ='25'!$G$18 -> 0 | W32: ='25'!$G$15 -> 0 | X32: ='25'!$J$18 -> 0 | Y32: ='24'!$K$18 -> 0 | Z32: ='25'!$L$18 -> 0 | AA32: ='25'!$M$18 -> 0 | AB32: ='25'!$N$18 -> 0 | AC32: ='25'!$O$18 -> 0 | AD32: ='25'!$O$15 -> 0 | AE32: ='25'!$U$9 -> #VALUE! | AF32: ='25'!$B$25 -> 0 | AG32: ='25'!$C$25 -> 0 | AH32: ='25'!$D$25 -> 0 | AI32: ='25'!$E$25 -> 0 | AJ32: ='25'!$F$25 -> 0 | AK32: ='25'!$G$25 -> 0 | AL32: ='25'!$G$22 -> 0 | AM32: ='25'!$J$25 -> 0 | AN32: ='25'!$K$25 -> 0 | AO32: ='25'!$L$25 -> 0 | AP32: ='25'!$M$25 -> 0 | AQ32: ='25'!$O$22 -> 0 | AR32: ='25'!$R$22 -> #VALUE! | AS32: ='25'!$B$33 -> 0 | AT32: ='25'!$C$33 -> 0 | AU32: ='25'!$D$33 -> 0 | AV32: ='25'!$F$33 -> 0 | AW32: ='25'!$G$33 -> 0 | AX32: ='25'!$G$30 -> 0 | AY32: ='25'!$J$33 -> 0 | AZ32: ='25'!$K$33 -> 0 | BA32: ='25'!$L$33 -> 0 | BB32: ='25'!$M$33 -> 0 | BC32: ='25'!$N$33 -> 0 | BD32: ='25'!$O$33 -> 0 | BE32: ='25'!$O$30 -> 0 | BF32: ='25'!$R$30 -> #VALUE! | BG32: ='25'!$L$40 -> #VALUE!

Sheet MATRIZ DE HALLAZGOS Y MEJORAS
A2: No. | B2: AREA | C2: CARGO | D2: TIPO DE EQUIPO | E2: NIVEL DE RIESGO | F2: HALLAZGOS | G2: RECOMENDACIONES | H2: ELEMENTOS DE CONFORT REQUERIDOS
H3: MOUSE | I3: APOYAPIES | J3: BASE PARA MONITOR CONVENCIONAL | K3: BASE PARA PORTÁTIL, TECLADO Y MOUSE EXTERNO | L3: REPOSICIÓN DE SILLA | M3: MOVILIARIO | N3: PORTA DOCUMENTOS
A4: 1 | B4: ='PUNTUACION ROSA'!B8 -> LUIS CARLOS USTARIS | C4: ='PUNTUACION ROSA'!E8 -> ARQUITECTO | D4: ='PUNTUACION ROSA'!F8 -> PORTATIL | E4: ='PUNTUACION ROSA'!BG8 -> RIESGO BAJO | F4: ='1'!$F$41 -> Estación de trabajo de frente a la mesa, con uso de portátil, sin base y sin teclado portátil igual que el mouse, permitiéndole realizar flexión de cuello durante su jornada de trabajo, movimientos repetitivos en mano y dedos para la digitación, brazos a 90°, pies totalmente en el suelo. con una buena silla ergonómica en buen estado. Poco espacio que le permite movilizarse en su zona de trabajo, ya que tiene a los lados a 2 compañeros mas que comparten la misma zona de trabajo. En cuanto a la carga mental se requiere concentración, atención continua y es minucioso para realizar las tareas. La circulación del aire es buena. Medidas del escritorio Ancho: 60cm Largo: 175 cm Alto: 73 cm Aspectos favorables La silla cuenta con 5 puntos de apoyo en el suelo, que aportan estabilidad a la silla. Altura del escritorio adecuada Organización de su puesto de trabajo para el correcto alcance de objetos. Apoya pies que mantiene las rodillas a 90° | G4: ='1'!$F$42 -> Evitar permanecer por mas de 2 horas en una misma posición se recomienda continuar con la realización de pausas activas autoadministradas 2 veces al día y mantener una correcta higiene postural. Se recomiendo utilizar base para el portátil el teclado debe de ir en frente del monitor en la misma superficie que el mouse. La muñeca debe de ir alienada con el antebrazo sin desviaciones de la muñeca ni en extensión Se recomienda utilizar par mouse planos sin almohadilla, ya que al utilizar los par mouse con almohadilla se genera un apoyo de las muñeca lo que ocasiona presión sobre la cara inferior de ella, generando el riesgo de desarrollar síndrome del túnel carpiano. La distancia entre la mirada y la pantalla debe de ser entre 45 -60cm, La altura de la pantalla debe de ser a la altura de los ojos Mantener orden y aseo en el puesto de trabajo para lograr tener mas espacio para realizar movimientos libres. Se recomiendo que el trabajador tenga un buen espacio para movilizarse en su silla ergonómica, para recoger objetos de un lado a otro en su zona de trabajo. Realizar formaciones enfocadas en la prevención del riesgo Biomecánico | H4: 1 | J4: 1 | K4: 1
A5: 2 | B5: ='PUNTUACION ROSA'!B9 -> NORANI BALLONA | C5: ='PUNTUACION ROSA'!E9 -> TECNICO EN ADMINISTRACION DE EMPRESA | D5: ='PUNTUACION ROSA'!F9 -> DE MESA | E5: ='PUNTUACION ROSA'!BG9 -> RIESGO BAJO | F5: ='2'!$F$41 -> Estación de trabajo lineal, la trabajadora adopta postura de mas de 2 horas en posición sedente, los movimientos repetitivos se dan en miembros superiores y tronco al realizar revisión de archivos, no utiliza completamente el espaldar de la silla, mantiene sus pies en 90° apoyados al piso En cuanto a la carga mental se requiere concentración, atención continua para realizar las tareas. La circulación del aire es buena. Medidas del escritorio Ancho: 59 cm Largo: 90 cm Alto: 74 cm Aspectos favorables La silla cuenta con 5 puntos de apoyo en el suelo, que aportan estabilidad a la silla y permiten la movilidad del trabajador entre pequeñas distancias Altura del escritorio adecuada | G5: ='2'!$F$42 -> Evitar permanecer por mas de 2 horas en una misma posición se recomienda, se recomienda alternar las posturas cada dos horas o cuando lo requiera. Iniciar con la realización de pausas activas autoadministradas 2 veces al día y mantener una correcta higiene postural. Realizar orden y aseo en el puesto de trabajo para lograr tener mas espacio para realizar movimientos libres en miembros superiores. Realizar formaciones enfocadas en la prevención del riesgo Biomecánico | N5: 1
A6: 3 | B6: ='PUNTUACION ROSA'!B10 -> ELIECER ARIAS MORENO | C6: ='PUNTUACION ROSA'!E10 -> CONTADOR | D6: ='PUNTUACION ROSA'!F10 -> DE MESA | E6: ='PUNTUACION ROSA'!BG10 -> RIESGO BAJO | F6: ='3'!$F$41 -> Estación de trabajo en L, la trabajador adopta postura de mas de 2 horas en posición sedente, el computador se encuentra de frente al trabajador, los movimientos repetitivos se dan en miembros superiores al realizar la digitación, hay desviaciones en la muñeca con relación al eje neutro de la mano en procesos de digitación, el borde superior de la pantalla se encuentra de acuerdo a la horizontal visual de la colaborador, cuenta con pantalla a buena distancia, se evidencia que los antebrazos no quedan en Angulo de 90°, se evidencia rodillas a 90° En cuanto a la carga mental se requiere concentración, atención continua para realizar las tareas. La circulación del aire es buena. Medidas del escritorio Ancho: 59 cm Largo: 2mtr Alto: 74 cm Aspectos favorables La silla cuenta con 5 puntos de apoyo en el suelo, que aportan estabilidad a la silla y permiten la movilidad del trabajador entre pequeñas distancias sin adoptar posturas forzadas. Altura del monitor adecuada con respecto a la horizontal de los ojos de la colaborador por uso de base para monito. Medidas de escritorio adecuado | G6: ='3'!$F$42 -> Evitar permanecer por mas de 2 horas en una misma posición se recomienda continuar con la realización de pausas activas autoadministradas 2 veces al día y mantener una correcta higiene postural. El teclado debe de ir en frente del monitor en la misma superficie que el mouse. La muñeca debe de ir alienada con el antebrazo sin desviaciones de la muñeca ni en extensión Mantener un distancia del computador de 45 a 60cm, La altura de la pantalla debe de ser a la altura de los ojos Se recomienda utilizar par mouse planos sin almohadilla, ya que al utilizar los par mouse con almohadilla se genera un apoyo de las muñeca lo que ocasiona presión sobre la cara inferior de ella, generando el riesgo de desarrollar síndrome del túnel carpiano. Mantener orden y aseo en el puesto de trabajo para lograr tener mas espacio para realizar movimientos libres. Realizar formaciones enfocadas en la prevención del riesgo Biomecánico
A7: 4 | B7: ='PUNTUACION ROSA'!B11 -> AIDIS PAOLA DIAZ SARMIENTO | C7: ='PUNTUACION ROSA'!E11 -> TECNOLOGA EN GESTION DOCUMENTAL | D7: ='PUNTUACION ROSA'!F11 -> DE MESA | E7: ='PUNTUACION ROSA'!BG11 -> RIESGO BAJO | F7: ='4'!$F$41 -> Estación de trabajo lineal, la trabajadora adopta postura de mas de 2 horas en posición sedente, los movimientos repetitivos se dan en miembros superiores al realizar la digitación, el borde superior de la pantalla se encuentra por encima de la horizontal visual de la colaboradora se observa posturas forzada para cuello , cuenta con pantalla a buena distancia, el mouse y teclado se encuentran alineados, le quedan los pies colgando sin apoyo al piso; se evidencian cables sin canalizar y toma corriente debajo del escritorio lo que puede generar riesgo eléctrico por contacto con estos, no se evidencia la realización de pausas saludables. En cuanto a la carga mental se requiere concentración, atención continua para realizar las tareas. La circulación del aire es buena. Medidas del escritorio Ancho: 54 cm Largo: 2mtr cm Alto: 75 cm Aspectos favorables La silla cuenta con 5 puntos de apoyo en el suelo, que aportan estabilidad a la silla y permiten la movilidad del trabajador entre pequeñas distancias. Buenas medidas del escritorio | G7: ='4'!$F$42 -> Evitar permanecer por mas de 2 horas en una misma posición se recomienda, se recomienda alternar las posturas cada dos horas o cuando lo requiera. Iniciar con la realización de pausas activas autoadministradas 2 veces al día y mantener una correcta higiene postural. Mantener un distancia del computador de 45 a 60cm, La altura de la pantalla debe de ser a la altura de los ojos Realizar orden y aseo en el puesto de trabajo para lograr tener mas espacio para realizar movimientos libres en miembros superiores. Se recomienda utilizar par mouse planos sin almohadilla, ya que al utilizar los par mouse con almohadilla se genera un apoyo de las muñeca lo que ocasiona presión sobre la cara inferior de ella, generando el riesgo de desarrollar síndrome del túnel carpiano. Se recomienda utilizar reposa pies, para que no queden colgando y poder generar una postura ergonómica en puesto de trabajo Canalizar lo cables que se encuentran por el escritorio Realizar formaciones enfocadas en la prevención del riesgo Biomecánico | I7: 1
A8: 5 | B8: ='PUNTUACION ROSA'!B12 -> ALEJANDRO OLIVELLA | C8: ='PUNTUACION ROSA'!E12 -> TECNOLOGO EN SST | D8: ='PUNTUACION ROSA'!F12 -> DE MESA | E8: ='PUNTUACION ROSA'!BG12 -> RIESGO BAJO | F8: ='5'!$F$41 -> Estación de trabajo lineal, la trabajadora adopta postura en posición sedente, los movimientos repetitivos se dan en miembros superiores al realizar la digitación, el borde superior de la pantalla se encuentra por debajo de la horizontal visual de la colaborador se observa posturas forzada para cuello, ya que le toca utilizar doble pantalla , cuenta con pantalla a buena distancia, el mouse y teclado se encuentran alineados, mantiene las rodillas a 90°; se evidencia cableado debajo del escritorio, se evidencia la realización de pausas saludables. En cuanto a la carga mental se requiere concentración, atención continua para realizar las tareas. La circulación del aire es buena. Medidas del escritorio Ancho: 54 cm Largo: 119.5 cm Alto: 74 cm Aspectos favorables La silla cuenta con 5 puntos de apoyo en el suelo, que aportan estabilidad a la silla y permiten la movilidad del trabajador entre pequeñas distancias sin adoptar posturas forzadas. mantiene las rodillas a 90°. Realización de pausas activas. | G8: ='5'!$F$42 -> Evitar permanecer por mas de 2 horas en una misma posición Continuar con la realización de pausas activas autoadministradas 2 veces al día y mantener una correcta higiene postural. Mantener un distancia del computador de 45 a 60cm, La altura de la pantalla debe de ser a la altura de los ojos Se recomienda rodar la silla para que quede de frente en la pantalla que vaya a trabajar, sin estar realizando giros constante de cuello y tronco. Mantener orden y aseo en el puesto de trabajo Realizar formaciones enfocadas en la prevención del riesgo Biomecánico
A9: 6 | B9: ='PUNTUACION ROSA'!B13 -> MARIA ANGELICA GONZALEZ | C9: ='PUNTUACION ROSA'!E13 -> JEFE DE CONTROL INTERNO | D9: ='PUNTUACION ROSA'!F13 -> DE MESA | E9: ='PUNTUACION ROSA'!BG13 -> RIESGO ALTO | F9: ='6'!$F$41 -> Escritorio con buenas medidas ergonómicas, se evidencia giros constante de tronco y cuello, con movimientos repetitivos al realizar digitación, ya que el monitor se encuentra a un lado obligando a realizar giros de tronco y cuello, pies totalmente en el suelo, con ángulos de rodilla en 90°. En cuanto a la carga mental se requiere concentración, atención continua para realizar las tareas. La circulación del aire es buena. Medidas del escritorio Ancho: 76 cm Largo: 164cm Alto: 77 cm Aspectos favorables La silla cuenta con 5 puntos de apoyo en el suelo, que aportan estabilidad a la silla y permiten la movilidad del trabajador entre pequeñas distancias. | G9: ='6'!$F$42 -> Evitar permanecer por mas de 2 horas en una misma posición se recomienda realizar pausas activas autoadministradas 2 veces al día y mantener una correcta higiene postural. Se debe procurar mantener una higiene postural correcta y soportar la espalda sobre el respaldo de la silla. Se recomienda colocar monitor de frente para no realizar giros de tronco y cuello. Debe estar cuello recto y espalda recta El teclado debe de ir en frente del monitor en la misma superficie que el mouse. La muñeca debe de ir alienada con el antebrazo sin desviaciones de la muñeca ni en extensión Mantener un distancia del computador de 45 a 60cm, La altura de la pantalla debe de ser a la altura de los ojos Se recomienda utilizar par mouse planos sin almohadilla, ya que al utilizar los par mouse con almohadilla se genera un apoyo de las muñeca lo que ocasiona presión sobre la cara inferior de ella, generando el riesgo de desarrollar síndrome del túnel carpiano No es necesario suministrar un apoyapiés. Mantener orden y aseo en el puesto de trabajo para lograr tener mas espacio para realizar movimientos libres. Realizar formaciones enfocadas en la prevención del riesgo Biomecánico. Realizar los ajustes e Intervenir de manera prioritaria.
A18: 15 | B18: ='PUNTUACION ROSA'!B22 -> 0 | C18: ='PUNTUACION ROSA'!E22 -> 0 | D18: ='PUNTUACION ROSA'!F22 -> 0 | E18: ='PUNTUACION ROSA'!BG22 -> #VALUE! | F18: ='15'!$F$41 -> 0 | G18: ='15'!$F$42 -> 0
A19: 16 | B19: ='PUNTUACION ROSA'!B23 -> 0 | C19: ='PUNTUACION ROSA'!E23 -> 0 | D19: ='PUNTUACION ROSA'!F23 -> 0 | E19: ='PUNTUACION ROSA'!BG23 -> #VALUE! | F19: ='16'!$F$41 -> 0 | G19: ='16'!$F$42 -> 0
A20: 17 | B20: ='PUNTUACION ROSA'!B24 -> 0 | C20: ='PUNTUACION ROSA'!E24 -> 0 | D20: ='PUNTUACION ROSA'!F24 -> 0 | E20: ='PUNTUACION ROSA'!BG24 -> #VALUE! | F20: ='17'!$F$41 -> 0 | G20: ='17'!$F$42 -> 0
A21: 18 | B21: ='PUNTUACION ROSA'!B25 -> 0 | C21: ='PUNTUACION ROSA'!E25 -> 0 | D21: ='PUNTUACION ROSA'!F25 -> 0 | E21: ='PUNTUACION ROSA'!BG25 -> #VALUE! | F21: ='18'!$F$41 -> 0 | G21: ='18'!$F$42 -> 0
A22: 19 | B22: ='PUNTUACION ROSA'!B26 -> 0 | C22: ='PUNTUACION ROSA'!E26 -> 0 | D22: ='PUNTUACION ROSA'!F26 -> 0 | E22: ='PUNTUACION ROSA'!BG26 -> #VALUE! | F22: ='19'!$F$41 -> 0 | G22: ='19'!$F$42 -> 0
A23: 20 | B23: ='PUNTUACION ROSA'!B27 -> 0 | C23: ='PUNTUACION ROSA'!E27 -> 0 | D23: ='PUNTUACION ROSA'!F27 -> 0 | E23: ='PUNTUACION ROSA'!BG27 -> #VALUE! | F23: ='20'!$F$41 -> 0 | G23: ='20'!$F$42 -> 0
A24: 21 | B24: ='PUNTUACION ROSA'!B28 -> 0 | C24: ='PUNTUACION ROSA'!E28 -> 0 | D24: ='PUNTUACION ROSA'!F28 -> 0 | E24: ='PUNTUACION ROSA'!BG28 -> #VALUE! | F24: ='21'!$F$41 -> 0 | G24: ='21'!$F$42 -> 0
A25: 22 | B25: ='PUNTUACION ROSA'!B29 -> 0 | C25: ='PUNTUACION ROSA'!E29 -> 0 | D25: ='PUNTUACION ROSA'!F29 -> 0 | E25: ='PUNTUACION ROSA'!BG29 -> #VALUE! | F25: ='22'!$F$41 -> 0 | G25: ='22'!$F$42 -> 0
A26: 23 | B26: ='PUNTUACION ROSA'!B30 -> 0 | C26: ='PUNTUACION ROSA'!E30 -> 0 | D26: ='PUNTUACION ROSA'!F30 -> 0 | E26: ='PUNTUACION ROSA'!BG30 -> #VALUE! | F26: ='23'!$F$41 -> 0 | G26: ='23'!$F$42 -> 0
A27: 24 | B27: ='PUNTUACION ROSA'!B31 -> 0 | C27: ='PUNTUACION ROSA'!E31 -> 0 | D27: ='PUNTUACION ROSA'!F31 -> 0 | E27: ='PUNTUACION ROSA'!BG31 -> #VALUE! | F27: ='24'!$F$41 -> 0 | G27: ='24'!$F$42 -> 0
A28: 25 | B28: ='PUNTUACION ROSA'!B32 -> 0 | C28: ='PUNTUACION ROSA'!E32 -> 0 | D28: ='PUNTUACION ROSA'!F32 -> 0 | E28: ='PUNTUACION ROSA'!BG32 -> #VALUE! | F28: ='25'!$F$41 -> 0 | G28: ='25'!$F$42 -> 0
G29: ADITAMENTOS DE CONFORT REQUERIDOS | H29: =SUM(H4:H28) -> 1 | I29: =SUM(I4:I28) -> 1 | J29: =SUM(J4:J28) -> 1 | K29: =SUM(K4:K28) -> 1 | L29: =SUM(L4:L28) -> 0 | M29: =SUM(M4:M28) -> 0 | N29: =SUM(N4:N28) -> 1

Sheet 1
A1: RAPID OFFICE STRAIN ASSESMENT (ROSA)
A2: ÁREA: | B2: GESTION INFRAESTRUCTURA | J2: FECHA: | K2: 45610
A3: DEPARTAMENTO: | B3: ADMINISTRATIVA
A4: CARGO: | B4: ARQUITECTO
A5: EVALUADA: LUZENITH ZAMBRANO
A6: NOMBRE DEL EVALUADO: | C6: LUIS CARLOS USTARIS | J6: CÉDULA | K6: 77186649
A7: Sección A: Silla
A9: Altura de la silla | F9: Puntuación : | G9: =SUM(B12:G12) -> 1 | I9: Profundidad del Asiento | N9: Puntuación : | O9: =SUM(J12:O12) -> 1 | Q9: Puntuación altura y profundidad del asiento | R9: =$O$9+$G$9 -> 2 | T9: Sección A, Silla | U9: =INDEX('Puntuación (NO MOVER)'!C4:K11,'1'!$R$9,'1'!$R$15) -> 2
A10: Figuras | G10: No ajustable (+1) | I10: Figuras | N10: No ajustable (+1)
A11: Criterios | B11: Rodillas a 90º (1) | C11: Muy bajo, Rodilla en Angulo ‹90º (2) | D11: Muy Alto, Rodilla en ángulo › 90º (2) | E11: No hay contacto de los pies con el piso (3) | F11: Espacio insuficiente en la parte baja del escritorio, No hay movilidad para las piernas (+1) | I11: Criterios | J11: Aproximadamente 3" de espacio entre la rodilla y el borde del asiento o silla (1) | L11: Muy largo, Menos de 3" de espacio (2) | M11: Muy Corto, Más de 3" de espacio (2)
A12: Puntuación | B12: 1 | C12: 0 | D12: 0 | E12: 0 | F12: 0 | G12: 0 | I12: Puntuación | J12: 1 | L12: 0 | M12: 0 | N12: 0
A15: Reposabrazos | F15: Puntuación: | G15: =SUM(B18:G18) -> 1 | I15: Respaldo del Asiento | N15: Puntuación: | O15: =J18+K18+L18+M18+N18+O18+O19 -> 1 | Q15: Puntuación brazos y respaldo | R15: =$O$15+$G$15 -> 2
A16: Figuras | G16: No ajustable (+1) | I16: Figuras | O16: Parte trasera sin respaldo No ajustable (+1)
A17: Criterios | B17: Codos soportados en línea con el hombro, Hombros relajados (1) | C17: Muy alto, (Hombros encogidos) / Bajo (Brazos sin apoyo o soporte) (2) | E17: Superficie muy dura o dañada (+1) | F17: Muy ancho (+1) | I17: Criterios | J17: Adecuado apoyo lumbar, Silla reclinada entre 95º y 110º (1) | K17: Sin apoyo lumbar o Apoyo lumbar no posicionado en la espalda baja (2) | L17: Angulo del respaldo muy lejos hacia atrás (Mayor que 110º) o Angulo muy lejos hacia adelante (Menor que 95º) (2) | M17: Sin Respaldo o Soporte Lumbar (Por ejemplo en un taburete o inclinado hacia adelante) (2) | N17: Superficie de trabajo muy alta (Hombros encogidos) (+1)
A18: Puntuación | B18: 1 | C18: 0 | E18: 0 | F18: 0 | G18: 0 | I18: Puntuación | J18: 1 | K18: 0 | L18: 0 | M18: 0 | N18: 0 | O18: 0
N19: Duración | O19: 0
A21: Sección B: Monitor y Teléfono
A22: Monitor | F22: Puntuación: | G22: =B25+C25+D25+E25+F25+G25+G26 -> 2 | I22: Teléfono | N22: Puntuación: | O22: =J25+L25+M25+N25+O26 -> 0 | Q22: Sección B, Monitor y Teléfono | R22: =INDEX('Puntuación (NO MOVER)'!E18:K23,'1'!O22,'1'!G22) -> 5
A23: Figuras | I23: Figuras | N23: No hay opción de manos libres (+1)
A24: Criterios | B24: Longitud o distancia medida con el brazo (40 a 75 cms) / Pantalla a nivel de los ojos (1) | C24: Muy bajo (Por debajo de 30º) (2), Muy Lejos (+1) | D24: Muy alto (Cuello en extensión) (3) | E24: Cuello girado mas de 30º (+1) | F24: Deslumbramiento en la pantalla (+1) | G24: No utilización de atriles o porta documentos, si se requiere. (+1) | I24: Criterios | J24: Audífonos con micrófonos, una mano en el teléfono y postura neutral del cuello (1) | L24: Muy lejos para el alcance (Más de 30cms de separación) (2) | M24: Sosteniendo el teléfono con el cuello y el hombro (+2)
A25: Puntuación | B25: 0 | C25: 2 | D25: 0 | E25: 0 | F25: 0 | G25: 0 | I25: Puntuación | J25: 0 | L25: 0 | M25: 0 | N25: 0
F26: Duración | G26: 0 | N26: Duración | O26: 0
A29: Sección C: Ratón y Teclado
A30: Ratón | F30: Puntuación: | G30: =B33+C33+D33+F33+G33+G34 -> 1 | I30: Teclado | N30: Puntuación: | O30: =J33+K33+L33+M33+N33+O33+O34 -> 1 | Q30: Sección C, Ratón y Teclado | R30: =INDEX('Puntuación (NO MOVER)'!P6:V12,'1'!G30,'1'!O30) -> 1
A31: Figuras | I31: Figuras | O31: Plataforma Porta Teclado no ajustable (+1)
A32: Criterios | B32: Ratón en línea con el hombro (1) | C32: Alcanzando el ratón/Brazo en Abducción (2) | D32: Ratón y Teclado en superficies de diferentes niveles (+2) | F32: Agarre de pinza en el ratón (+1) | G32: Reposamuñecas en frente del ratón (+1) | I32: Criterios | J32: Muñecas rectas, Hombros relajados (1) | K32: Muñecas extendidas, Teclado en ángulo positivo (›15º Extensión de las muñecas) (2) | L32: Desviación de las muñecas durante la transcripción o tipeo (+1) | M32: Teclado muy alto, hombros encogidos (+1) | N32: Alcanzar elementos u objetos por encima de la cabeza (+1)
A33: Puntuación | B33: 1 | C33: 0 | D33: 0 | F33: 0 | G33: 0 | I33: Puntuación | J33: 0 | K33: 0 | L33: 1 | M33: 0 | N33: 0 | O33: 0
F34: Duración | G34: 0 | N34: Duración | O34: 0
A39: Registro fotográfico | F39: Silla | H39: Monitor y Teléfono | I39: Ratón y Teclado | J39: Puntuación Periféricos y Monitor | K39: Puntuación Final ROSA | L39: Nivel de riesgo | M39: INSTRUCCIONES DE DURACIÓN
F40: =$U$9 -> 2 | H40: =$R$22 -> 5 | I40: =$R$30 -> 1 | J40: =INDEX('Puntuación (NO MOVER)'!O17:W25,'1'!H40,'1'!I40) -> 5 | K40: =INDEX('Puntuación (NO MOVER)'!AD5:AM14,'1'!F40,'1'!J40) -> 5 | L40: =IF(K40>5,"RIESGO ALTO","RIESGO BAJO") -> RIESGO BAJO | M40: Si la duración es menor que 30 minutos continuos o menos de una (1) hora intermitentemente por día, el valor es -1. Si la duración es entre 30 minutos y una (1) hora continuas o entre una (1) y cuatro (4) horas intermitentemente por día, el valor es 0. Si la duración es mayor que una (1) hora continua o más de cuatro (4) horas intermitentemente por día, el valor es +1
A41: HALLAZGOS | F41: Estación de trabajo de frente a la mesa, con uso de portátil, sin base y sin teclado portátil igual que el mouse, permitiéndole realizar flexión de cuello durante su jornada de trabajo, movimientos repetitivos en mano y dedos para la digitación, brazos a 90°, pies totalmente en el suelo. con una buena silla ergonómica en buen estado. Poco espacio que le permite movilizarse en su zona de trabajo, ya que tiene a los lados a 2 compañeros mas que comparten la misma zona de trabajo. En cuanto a la carga mental se requiere concentración, atención continua y es minucioso para realizar las tareas. La circulación del aire es buena. Medidas del escritorio Ancho: 60cm Largo: 175 cm Alto: 73 cm Aspectos favorables La silla cuenta con 5 puntos de apoyo en el suelo, que aportan estabilidad a la silla. Altura del escritorio adecuada Organización de su puesto de trabajo para el correcto alcance de objetos. Apoya pies que mantiene las rodillas a 90°
A42: RECOMENDACIONES | F42: Evitar permanecer por mas de 2 horas en una misma posición se recomienda continuar con la realización de pausas activas autoadministradas 2 veces al día y mantener una correcta higiene postural. Se recomiendo utilizar base para el portátil el teclado debe de ir en frente del monitor en la misma superficie que el mouse. La muñeca debe de ir alienada con el antebrazo sin desviaciones de la muñeca ni en extensión Se recomienda utilizar par mouse planos sin almohadilla, ya que al utilizar los par mouse con almohadilla se genera un apoyo de las muñeca lo que ocasiona presión sobre la cara inferior de ella, generando el riesgo de desarrollar síndrome del túnel carpiano. La distancia entre la mirada y la pantalla debe de ser entre 45 -60cm, La altura de la pantalla debe de ser a la altura de los ojos Mantener orden y aseo en el puesto de trabajo para lograr tener mas espacio para realizar movimientos libres. Se recomiendo que el trabajador tenga un buen espacio para movilizarse en su silla ergonómica, para recoger objetos de un lado a otro en su zona de trabajo. Realizar formaciones enfocadas en la prevención del riesgo Biomecánico

Sheet 2
A1: RAPID OFFICE STRAIN ASSESMENT (ROSA)
A2: ÁREA: | B2: ARCHIVO | J2: FECHA: | K2: 45610
A3: DEPARTAMENTO: | B3: ADMINISTRATIVO
A4: CARGO: | B4: TECNICO EN ADMINISTRACION DE EMPRESA
A5: EVALUADO POR: LUZENITH ZAMBRANO
A6: NOMBRE DEL EVALUADO: | C6: NORANI BALLONA | J6: CÉDULA | K6: 39462246
A7: Sección A: Silla
A9: Altura de la silla | F9: Puntuación : | G9: =SUM(B12:G12) -> 1 | I9: Profundidad del Asiento | N9: Puntuación : | O9: =SUM(J12:O12) -> 1 | Q9: Puntuación altura y profundidad del asiento | R9: =$O$9+$G$9 -> 2 | T9: Sección A, Silla | U9: =INDEX('Puntuación (NO MOVER)'!C4:K11,'2'!$R$9,'2'!$R$15) -> 2
A10: Figuras | G10: No ajustable (+1) | I10: Figuras | N10: No ajustable (+1)
A11: Criterios | B11: Rodillas a 90º (1) | C11: Muy bajo, Rodilla en Angulo ‹90º (2) | D11: Muy Alto, Rodilla en ángulo › 90º (2) | E11: No hay contacto de los pies con el piso (3) | F11: Espacio insuficiente en la parte baja del escritorio, No hay movilidad para las piernas (+1) | I11: Criterios | J11: Aproximadamente 3" de espacio entre la rodilla y el borde del asiento o silla (1) | L11: Muy largo, Menos de 3" de espacio (2) | M11: Muy Corto, Más de 3" de espacio (2)
A12: Puntuación | B12: 1 | C12: 0 | D12: 0 | E12: 0 | F12: 0 | G12: 0 | I12: Puntuación | J12: 1 | L12: 0 | M12: 0 | N12: 0
A15: Reposabrazos | F15: Puntuación: | G15: =SUM(B18:G18) -> 1 | I15: Respaldo del Asiento | N15: Puntuación: | O15: =J18+K18+L18+M18+N18+O18+O19 -> 2 | Q15: Puntuación brazos y respaldo | R15: =$O$15+$G$15 -> 3
A16: Figuras | G16: No ajustable (+1) | I16: Figuras | O16: Parte trasera sin respaldo No ajustable (+1)
A17: Criterios | B17: Codos soportados en línea con el hombro, Hombros relajados (1) | C17: Muy alto, (Hombros encogidos) / Bajo (Brazos sin apoyo o soporte) (2) | E17: Superficie muy dura o dañada (+1) | F17: Muy ancho (+1) | I17: Criterios | J17: Adecuado apoyo lumbar, Silla reclinada entre 95º y 110º (1) | K17: Sin apoyo lumbar o Apoyo lumbar no posicionado en la espalda baja (2) | L17: Angulo del respaldo muy lejos hacia atrás (Mayor que 110º) o Angulo muy lejos hacia adelante (Menor que 95º) (2) | M17: Sin Respaldo o Soporte Lumbar (Por ejemplo en un taburete o inclinado hacia adelante) (2) | N17: Superficie de trabajo muy alta (Hombros encogidos) (+1)
A18: Puntuación | B18: 1 | C18: 0 | E18: 0 | F18: 0 | G18: 0 | I18: Puntuación | J18: 1 | K18: 0 | L18: 0 | M18: 0 | N18: 0 | O18: 0
N19: Duración | O19: 1
